BEGIN:VCALENDAR
VERSION:2.0
PRODID:-//Stage Stop Saloon &amp; Grill | Mandan-Bismarck, ND - ECPv6.15.20//NONSGML v1.0//EN
CALSCALE:GREGORIAN
METHOD:PUBLISH
X-ORIGINAL-URL:https://stagestopsaloon.com
X-WR-CALDESC:Events for Stage Stop Saloon &amp; Grill | Mandan-Bismarck, ND
REFRESH-INTERVAL;VALUE=DURATION:PT1H
X-Robots-Tag:noindex
X-PUBLISHED-TTL:PT1H
BEGIN:VTIMEZONE
TZID:America/North_Dakota/Center
BEGIN:DAYLIGHT
TZOFFSETFROM:-0600
TZOFFSETTO:-0500
TZNAME:CDT
DTSTART:20230312T080000
END:DAYLIGHT
BEGIN:STANDARD
TZOFFSETFROM:-0500
TZOFFSETTO:-0600
TZNAME:CST
DTSTART:20231105T070000
END:STANDARD
BEGIN:DAYLIGHT
TZOFFSETFROM:-0600
TZOFFSETTO:-0500
TZNAME:CDT
DTSTART:20240310T080000
END:DAYLIGHT
BEGIN:STANDARD
TZOFFSETFROM:-0500
TZOFFSETTO:-0600
TZNAME:CST
DTSTART:20241103T070000
END:STANDARD
BEGIN:DAYLIGHT
TZOFFSETFROM:-0600
TZOFFSETTO:-0500
TZNAME:CDT
DTSTART:20250309T080000
END:DAYLIGHT
BEGIN:STANDARD
TZOFFSETFROM:-0500
TZOFFSETTO:-0600
TZNAME:CST
DTSTART:20251102T070000
END:STANDARD
END:VTIMEZONE
BEGIN:VEVENT
DTSTART;TZID=America/North_Dakota/Center:20240620T190000
DTEND;TZID=America/North_Dakota/Center:20240620T213000
DTSTAMP:20260422T130818
CREATED:20240510T181009Z
LAST-MODIFIED:20240510T181716Z
UID:29613-1718910000-1718919000@stagestopsaloon.com
SUMMARY:The Pub & Grub Comedy Tour - Jeff Koehn & Tim Laffey
DESCRIPTION:Stage Stop is excited to present THE PUB & GRUB COMEDY TOUR™ Starring JEFF KOEHN! Co-Starring TIM LAFFEY!\n \n  \nMay 23rd w/ 7pm seating and 8pm showtime. \n  \nSTARRING JEFF KOEHN! – Hilariously awkward comedian from Denver\, touring the country with his quirky self-deprecating style and brand of zaniness. He recently won the Sacramento Regional of the World Series of Comedy!\n\n\n\nCO-STARRING TIM LAFFEY! After years of being teased for his last name\, he started doing stand-up comedy. Performing with a classic style\, he draws inspiration from his time growing up on a farm\, dealing with his kids\, and other unique observations from life.\n  \nLIMITED SEATING! Tickets now available at Stage Stop in our liquor store or online. Only $15 in advance or $20 day of show!  \n  \nBUY ONLINE TICKETS \n  \nMore info: barcomictix.com\n*For mature audiences only
URL:https://stagestopsaloon.com/event/the-pub-grub-comedy-tour-jeff-koehn-tim-laffey/
LOCATION:Stage Stop Saloon & Grill\, 611 6th Ave SE\, Mandan\, ND\, 58554\, United States
CATEGORIES:Comedy
ATTACH;FMTTYPE=image/webp:https://stagestopsaloon.com/wp-content/uploads/2024/05/Copy-of-Comedy-Night-Facebook-Post.webp
ORGANIZER;CN="Stage Stop Saloon & Grill":MAILTO:info@stagestopsaloon.com
END:VEVENT
BEGIN:VEVENT
DTSTART;TZID=America/North_Dakota/Center:20240523T190000
DTEND;TZID=America/North_Dakota/Center:20240523T220000
DTSTAMP:20260422T130818
CREATED:20240410T171539Z
LAST-MODIFIED:20240425T183620Z
UID:28763-1716490800-1716501600@stagestopsaloon.com
SUMMARY:Pub & Grub Comedy Tour - Steve Sabo & Scott Putnam
DESCRIPTION:STAGE STOP proudly presents THE PUB & GRUB COMEDY TOUR ™ Starring STEVE SABO! Co-Starring SCOTT PUTNAM!\n \n  \nMay 23rd w/ 7pm seating and 8pm showtime. \n  \nSTARRING STEVE SABO! – “The Caffeinated Voice of Reason”. In his 29 years as a performer\, Steve Sabo has had the privilege of sharing the stage with comedy legends such as Joan Rivers\, Chris Rock\, Kevin James\, Dave Attel\, Jim Breuer\, Christopher Titus and Tom Green. He has made television appearances on HBO\, NBC\, E! and Comedy Central. He is heard regularly on SiriusXM Satellite Radio and has appeared on the nationally syndicated “Sex Talk Live” \, “BTS Radio Show” and “The Jiggy Jaguar Show”.\n\n\n\nCO-STARRING “THE COMEDY KID” SCOTT PUTNAM! Mixes hilarious observations with stories from his sordid past.\n  \nLIMITED SEATING! Tickets now available at Stage Stop in our liquor store or online. Only $15 in advance or $20 day of show!  \n  \nBUY ONLINE TICKETS \n  \nMore info: barcomictix.com\n*For mature audiences only
URL:https://stagestopsaloon.com/event/pub-grub-comedy-tour-steve-sabo-scott-putnam/
LOCATION:Stage Stop Saloon & Grill\, 611 6th Ave SE\, Mandan\, ND\, 58554\, United States
CATEGORIES:Comedy
ATTACH;FMTTYPE=image/webp:https://stagestopsaloon.com/wp-content/uploads/2024/04/Pub-Grub-Comedy-Night-600x600-1.webp
ORGANIZER;CN="Stage Stop Saloon & Grill":MAILTO:info@stagestopsaloon.com
END:VEVENT
END:VCALENDAR