BEGIN:VCALENDAR
VERSION:2.0
PRODID:-//Stage Stop Saloon &amp; Grill | Mandan-Bismarck, ND - ECPv6.15.20//NONSGML v1.0//EN
CALSCALE:GREGORIAN
METHOD:PUBLISH
X-WR-CALNAME:Stage Stop Saloon &amp; Grill | Mandan-Bismarck, ND
X-ORIGINAL-URL:https://stagestopsaloon.com
X-WR-CALDESC:Events for Stage Stop Saloon &amp; Grill | Mandan-Bismarck, ND
REFRESH-INTERVAL;VALUE=DURATION:PT1H
X-Robots-Tag:noindex
X-PUBLISHED-TTL:PT1H
BEGIN:VTIMEZONE
TZID:America/North_Dakota/Center
BEGIN:DAYLIGHT
TZOFFSETFROM:-0600
TZOFFSETTO:-0500
TZNAME:CDT
DTSTART:20230312T080000
END:DAYLIGHT
BEGIN:STANDARD
TZOFFSETFROM:-0500
TZOFFSETTO:-0600
TZNAME:CST
DTSTART:20231105T070000
END:STANDARD
BEGIN:DAYLIGHT
TZOFFSETFROM:-0600
TZOFFSETTO:-0500
TZNAME:CDT
DTSTART:20240310T080000
END:DAYLIGHT
BEGIN:STANDARD
TZOFFSETFROM:-0500
TZOFFSETTO:-0600
TZNAME:CST
DTSTART:20241103T070000
END:STANDARD
BEGIN:DAYLIGHT
TZOFFSETFROM:-0600
TZOFFSETTO:-0500
TZNAME:CDT
DTSTART:20250309T080000
END:DAYLIGHT
BEGIN:STANDARD
TZOFFSETFROM:-0500
TZOFFSETTO:-0600
TZNAME:CST
DTSTART:20251102T070000
END:STANDARD
BEGIN:DAYLIGHT
TZOFFSETFROM:-0600
TZOFFSETTO:-0500
TZNAME:CDT
DTSTART:20260308T080000
END:DAYLIGHT
BEGIN:STANDARD
TZOFFSETFROM:-0500
TZOFFSETTO:-0600
TZNAME:CST
DTSTART:20261101T070000
END:STANDARD
END:VTIMEZONE
BEGIN:VEVENT
DTSTART;TZID=America/North_Dakota/Center:20240823T210000
DTEND;TZID=America/North_Dakota/Center:20240824T010000
DTSTAMP:20260424T103120
CREATED:20240819T174244Z
LAST-MODIFIED:20240911T181356Z
UID:30657-1724446800-1724461200@stagestopsaloon.com
SUMMARY:Karaoke
DESCRIPTION:Step up to the mic & show us what you got – it’s Karaoke Night in Mandan with M.C. Inkster Party DJ! Join us every Friday night from 9 to close.
URL:https://stagestopsaloon.com/event/karaoke/
LOCATION:Stage Stop Saloon & Grill\, 611 6th Ave SE\, Mandan\, ND\, 58554\, United States
CATEGORIES:Karaoke
ATTACH;FMTTYPE=image/webp:https://stagestopsaloon.com/wp-content/uploads/2024/08/Karaoke-600x600-3.webp
ORGANIZER;CN="Stage Stop Saloon & Grill":MAILTO:info@stagestopsaloon.com
END:VEVENT
BEGIN:VEVENT
DTSTART;TZID=America/North_Dakota/Center:20240823T210000
DTEND;TZID=America/North_Dakota/Center:20240824T010000
DTSTAMP:20260424T103120
CREATED:20240819T174244Z
LAST-MODIFIED:20240911T181356Z
UID:30657-1724446800-1724461200@stagestopsaloon.com
SUMMARY:Karaoke
DESCRIPTION:Step up to the mic & show us what you got – it’s Karaoke Night in Mandan with M.C. Inkster Party DJ! Join us every Friday night from 9 to close.
URL:https://stagestopsaloon.com/event/karaoke/
LOCATION:Stage Stop Saloon & Grill\, 611 6th Ave SE\, Mandan\, ND\, 58554\, United States
CATEGORIES:Karaoke
ATTACH;FMTTYPE=image/webp:https://stagestopsaloon.com/wp-content/uploads/2024/08/Karaoke-600x600-3.webp
ORGANIZER;CN="Stage Stop Saloon & Grill":MAILTO:info@stagestopsaloon.com
END:VEVENT
BEGIN:VEVENT
DTSTART;TZID=America/North_Dakota/Center:20241027T130000
DTEND;TZID=America/North_Dakota/Center:20241027T160000
DTSTAMP:20260424T103120
CREATED:20240923T203408Z
LAST-MODIFIED:20240923T204719Z
UID:32562-1730034000-1730044800@stagestopsaloon.com
SUMMARY:Kids Halloween Karaoke Party
DESCRIPTION:Calling all little ghosts & goblins! Join us for our Stage Stop Kids Halloween Karaoke Party on Sunday\, Oct. 27th. Come dressed in your costume & take the stage from 1-4pm for Kids Karaoke with the BisMan’s favorite DJ\, YurMom Presents! And of course… free candy! Happy Halloween!
URL:https://stagestopsaloon.com/event/kids-halloween-party/
LOCATION:Stage Stop Saloon & Grill\, 611 6th Ave SE\, Mandan\, ND\, 58554\, United States
CATEGORIES:Karaoke,Kids,Parties
ATTACH;FMTTYPE=image/webp:https://stagestopsaloon.com/wp-content/uploads/2024/09/Kids-Halloween-Karaoke-2024-600x600-1.webp
ORGANIZER;CN="Stage Stop Saloon & Grill":MAILTO:info@stagestopsaloon.com
END:VEVENT
BEGIN:VEVENT
DTSTART;TZID=America/North_Dakota/Center:20241101T210000
DTEND;TZID=America/North_Dakota/Center:20241102T010000
DTSTAMP:20260424T103120
CREATED:20240911T181152Z
LAST-MODIFIED:20240911T181153Z
UID:31431-1730494800-1730509200@stagestopsaloon.com
SUMMARY:Halloween Karaoke Night
DESCRIPTION:Who’s ready for a howling good time at Stage Stop’s Halloween Karaoke Night?! Whip out the costumes and get ready to haunt the audience with your favorite Halloween tunes on Friday\, Nov. 1st from 9pm to close. Ghoulish drink specials running all night long!
URL:https://stagestopsaloon.com/event/halloween-karaoke-night/
LOCATION:Stage Stop Saloon & Grill\, 611 6th Ave SE\, Mandan\, ND\, 58554\, United States
CATEGORIES:Karaoke,Parties
ATTACH;FMTTYPE=image/webp:https://stagestopsaloon.com/wp-content/uploads/2024/09/Halloween-Karaoke-2024-600-x-600-px.webp
ORGANIZER;CN="Stage Stop Saloon & Grill":MAILTO:info@stagestopsaloon.com
END:VEVENT
BEGIN:VEVENT
DTSTART;TZID=America/North_Dakota/Center:20240823T210000
DTEND;TZID=America/North_Dakota/Center:20240824T010000
DTSTAMP:20260424T103120
CREATED:20240819T174244Z
LAST-MODIFIED:20240911T181356Z
UID:30657-1724446800-1724461200@stagestopsaloon.com
SUMMARY:Karaoke
DESCRIPTION:Step up to the mic & show us what you got – it’s Karaoke Night in Mandan with M.C. Inkster Party DJ! Join us every Friday night from 9 to close.
URL:https://stagestopsaloon.com/event/karaoke/
LOCATION:Stage Stop Saloon & Grill\, 611 6th Ave SE\, Mandan\, ND\, 58554\, United States
CATEGORIES:Karaoke
ATTACH;FMTTYPE=image/webp:https://stagestopsaloon.com/wp-content/uploads/2024/08/Karaoke-600x600-3.webp
ORGANIZER;CN="Stage Stop Saloon & Grill":MAILTO:info@stagestopsaloon.com
END:VEVENT
BEGIN:VEVENT
DTSTART;TZID=America/North_Dakota/Center:20240823T210000
DTEND;TZID=America/North_Dakota/Center:20240824T010000
DTSTAMP:20260424T103120
CREATED:20240819T174244Z
LAST-MODIFIED:20240911T181356Z
UID:30657-1724446800-1724461200@stagestopsaloon.com
SUMMARY:Karaoke
DESCRIPTION:Step up to the mic & show us what you got – it’s Karaoke Night in Mandan with M.C. Inkster Party DJ! Join us every Friday night from 9 to close.
URL:https://stagestopsaloon.com/event/karaoke/
LOCATION:Stage Stop Saloon & Grill\, 611 6th Ave SE\, Mandan\, ND\, 58554\, United States
CATEGORIES:Karaoke
ATTACH;FMTTYPE=image/webp:https://stagestopsaloon.com/wp-content/uploads/2024/08/Karaoke-600x600-3.webp
ORGANIZER;CN="Stage Stop Saloon & Grill":MAILTO:info@stagestopsaloon.com
END:VEVENT
BEGIN:VEVENT
DTSTART;TZID=America/North_Dakota/Center:20240823T210000
DTEND;TZID=America/North_Dakota/Center:20240824T010000
DTSTAMP:20260424T103120
CREATED:20240819T174244Z
LAST-MODIFIED:20240911T181356Z
UID:30657-1724446800-1724461200@stagestopsaloon.com
SUMMARY:Karaoke
DESCRIPTION:Step up to the mic & show us what you got – it’s Karaoke Night in Mandan with M.C. Inkster Party DJ! Join us every Friday night from 9 to close.
URL:https://stagestopsaloon.com/event/karaoke/
LOCATION:Stage Stop Saloon & Grill\, 611 6th Ave SE\, Mandan\, ND\, 58554\, United States
CATEGORIES:Karaoke
ATTACH;FMTTYPE=image/webp:https://stagestopsaloon.com/wp-content/uploads/2024/08/Karaoke-600x600-3.webp
ORGANIZER;CN="Stage Stop Saloon & Grill":MAILTO:info@stagestopsaloon.com
END:VEVENT
BEGIN:VEVENT
DTSTART;TZID=America/North_Dakota/Center:20240823T210000
DTEND;TZID=America/North_Dakota/Center:20240824T010000
DTSTAMP:20260424T103120
CREATED:20240819T174244Z
LAST-MODIFIED:20240911T181356Z
UID:30657-1724446800-1724461200@stagestopsaloon.com
SUMMARY:Karaoke
DESCRIPTION:Step up to the mic & show us what you got – it’s Karaoke Night in Mandan with M.C. Inkster Party DJ! Join us every Friday night from 9 to close.
URL:https://stagestopsaloon.com/event/karaoke/
LOCATION:Stage Stop Saloon & Grill\, 611 6th Ave SE\, Mandan\, ND\, 58554\, United States
CATEGORIES:Karaoke
ATTACH;FMTTYPE=image/webp:https://stagestopsaloon.com/wp-content/uploads/2024/08/Karaoke-600x600-3.webp
ORGANIZER;CN="Stage Stop Saloon & Grill":MAILTO:info@stagestopsaloon.com
END:VEVENT
BEGIN:VEVENT
DTSTART;TZID=America/North_Dakota/Center:20240823T210000
DTEND;TZID=America/North_Dakota/Center:20240824T010000
DTSTAMP:20260424T103120
CREATED:20240819T174244Z
LAST-MODIFIED:20240911T181356Z
UID:30657-1724446800-1724461200@stagestopsaloon.com
SUMMARY:Karaoke
DESCRIPTION:Step up to the mic & show us what you got – it’s Karaoke Night in Mandan with M.C. Inkster Party DJ! Join us every Friday night from 9 to close.
URL:https://stagestopsaloon.com/event/karaoke/
LOCATION:Stage Stop Saloon & Grill\, 611 6th Ave SE\, Mandan\, ND\, 58554\, United States
CATEGORIES:Karaoke
ATTACH;FMTTYPE=image/webp:https://stagestopsaloon.com/wp-content/uploads/2024/08/Karaoke-600x600-3.webp
ORGANIZER;CN="Stage Stop Saloon & Grill":MAILTO:info@stagestopsaloon.com
END:VEVENT
BEGIN:VEVENT
DTSTART;TZID=America/North_Dakota/Center:20240823T210000
DTEND;TZID=America/North_Dakota/Center:20240824T010000
DTSTAMP:20260424T103120
CREATED:20240819T174244Z
LAST-MODIFIED:20240911T181356Z
UID:30657-1724446800-1724461200@stagestopsaloon.com
SUMMARY:Karaoke
DESCRIPTION:Step up to the mic & show us what you got – it’s Karaoke Night in Mandan with M.C. Inkster Party DJ! Join us every Friday night from 9 to close.
URL:https://stagestopsaloon.com/event/karaoke/
LOCATION:Stage Stop Saloon & Grill\, 611 6th Ave SE\, Mandan\, ND\, 58554\, United States
CATEGORIES:Karaoke
ATTACH;FMTTYPE=image/webp:https://stagestopsaloon.com/wp-content/uploads/2024/08/Karaoke-600x600-3.webp
ORGANIZER;CN="Stage Stop Saloon & Grill":MAILTO:info@stagestopsaloon.com
END:VEVENT
BEGIN:VEVENT
DTSTART;TZID=America/North_Dakota/Center:20240823T210000
DTEND;TZID=America/North_Dakota/Center:20240824T010000
DTSTAMP:20260424T103120
CREATED:20240819T174244Z
LAST-MODIFIED:20240911T181356Z
UID:30657-1724446800-1724461200@stagestopsaloon.com
SUMMARY:Karaoke
DESCRIPTION:Step up to the mic & show us what you got – it’s Karaoke Night in Mandan with M.C. Inkster Party DJ! Join us every Friday night from 9 to close.
URL:https://stagestopsaloon.com/event/karaoke/
LOCATION:Stage Stop Saloon & Grill\, 611 6th Ave SE\, Mandan\, ND\, 58554\, United States
CATEGORIES:Karaoke
ATTACH;FMTTYPE=image/webp:https://stagestopsaloon.com/wp-content/uploads/2024/08/Karaoke-600x600-3.webp
ORGANIZER;CN="Stage Stop Saloon & Grill":MAILTO:info@stagestopsaloon.com
END:VEVENT
BEGIN:VEVENT
DTSTART;TZID=America/North_Dakota/Center:20240823T210000
DTEND;TZID=America/North_Dakota/Center:20240824T010000
DTSTAMP:20260424T103120
CREATED:20240819T174244Z
LAST-MODIFIED:20240911T181356Z
UID:30657-1724446800-1724461200@stagestopsaloon.com
SUMMARY:Karaoke
DESCRIPTION:Step up to the mic & show us what you got – it’s Karaoke Night in Mandan with M.C. Inkster Party DJ! Join us every Friday night from 9 to close.
URL:https://stagestopsaloon.com/event/karaoke/
LOCATION:Stage Stop Saloon & Grill\, 611 6th Ave SE\, Mandan\, ND\, 58554\, United States
CATEGORIES:Karaoke
ATTACH;FMTTYPE=image/webp:https://stagestopsaloon.com/wp-content/uploads/2024/08/Karaoke-600x600-3.webp
ORGANIZER;CN="Stage Stop Saloon & Grill":MAILTO:info@stagestopsaloon.com
END:VEVENT
BEGIN:VEVENT
DTSTART;TZID=America/North_Dakota/Center:20240823T210000
DTEND;TZID=America/North_Dakota/Center:20240824T010000
DTSTAMP:20260424T103120
CREATED:20240819T174244Z
LAST-MODIFIED:20240911T181356Z
UID:30657-1724446800-1724461200@stagestopsaloon.com
SUMMARY:Karaoke
DESCRIPTION:Step up to the mic & show us what you got – it’s Karaoke Night in Mandan with M.C. Inkster Party DJ! Join us every Friday night from 9 to close.
URL:https://stagestopsaloon.com/event/karaoke/
LOCATION:Stage Stop Saloon & Grill\, 611 6th Ave SE\, Mandan\, ND\, 58554\, United States
CATEGORIES:Karaoke
ATTACH;FMTTYPE=image/webp:https://stagestopsaloon.com/wp-content/uploads/2024/08/Karaoke-600x600-3.webp
ORGANIZER;CN="Stage Stop Saloon & Grill":MAILTO:info@stagestopsaloon.com
END:VEVENT
BEGIN:VEVENT
DTSTART;TZID=America/North_Dakota/Center:20240823T210000
DTEND;TZID=America/North_Dakota/Center:20240824T010000
DTSTAMP:20260424T103120
CREATED:20240819T174244Z
LAST-MODIFIED:20240911T181356Z
UID:30657-1724446800-1724461200@stagestopsaloon.com
SUMMARY:Karaoke
DESCRIPTION:Step up to the mic & show us what you got – it’s Karaoke Night in Mandan with M.C. Inkster Party DJ! Join us every Friday night from 9 to close.
URL:https://stagestopsaloon.com/event/karaoke/
LOCATION:Stage Stop Saloon & Grill\, 611 6th Ave SE\, Mandan\, ND\, 58554\, United States
CATEGORIES:Karaoke
ATTACH;FMTTYPE=image/webp:https://stagestopsaloon.com/wp-content/uploads/2024/08/Karaoke-600x600-3.webp
ORGANIZER;CN="Stage Stop Saloon & Grill":MAILTO:info@stagestopsaloon.com
END:VEVENT
BEGIN:VEVENT
DTSTART;TZID=America/North_Dakota/Center:20240823T210000
DTEND;TZID=America/North_Dakota/Center:20240824T010000
DTSTAMP:20260424T103120
CREATED:20240819T174244Z
LAST-MODIFIED:20240911T181356Z
UID:30657-1724446800-1724461200@stagestopsaloon.com
SUMMARY:Karaoke
DESCRIPTION:Step up to the mic & show us what you got – it’s Karaoke Night in Mandan with M.C. Inkster Party DJ! Join us every Friday night from 9 to close.
URL:https://stagestopsaloon.com/event/karaoke/
LOCATION:Stage Stop Saloon & Grill\, 611 6th Ave SE\, Mandan\, ND\, 58554\, United States
CATEGORIES:Karaoke
ATTACH;FMTTYPE=image/webp:https://stagestopsaloon.com/wp-content/uploads/2024/08/Karaoke-600x600-3.webp
ORGANIZER;CN="Stage Stop Saloon & Grill":MAILTO:info@stagestopsaloon.com
END:VEVENT
BEGIN:VEVENT
DTSTART;TZID=America/North_Dakota/Center:20240823T210000
DTEND;TZID=America/North_Dakota/Center:20240824T010000
DTSTAMP:20260424T103120
CREATED:20240819T174244Z
LAST-MODIFIED:20240911T181356Z
UID:30657-1724446800-1724461200@stagestopsaloon.com
SUMMARY:Karaoke
DESCRIPTION:Step up to the mic & show us what you got – it’s Karaoke Night in Mandan with M.C. Inkster Party DJ! Join us every Friday night from 9 to close.
URL:https://stagestopsaloon.com/event/karaoke/
LOCATION:Stage Stop Saloon & Grill\, 611 6th Ave SE\, Mandan\, ND\, 58554\, United States
CATEGORIES:Karaoke
ATTACH;FMTTYPE=image/webp:https://stagestopsaloon.com/wp-content/uploads/2024/08/Karaoke-600x600-3.webp
ORGANIZER;CN="Stage Stop Saloon & Grill":MAILTO:info@stagestopsaloon.com
END:VEVENT
BEGIN:VEVENT
DTSTART;TZID=America/North_Dakota/Center:20240823T210000
DTEND;TZID=America/North_Dakota/Center:20240824T010000
DTSTAMP:20260424T103120
CREATED:20240819T174244Z
LAST-MODIFIED:20240911T181356Z
UID:30657-1724446800-1724461200@stagestopsaloon.com
SUMMARY:Karaoke
DESCRIPTION:Step up to the mic & show us what you got – it’s Karaoke Night in Mandan with M.C. Inkster Party DJ! Join us every Friday night from 9 to close.
URL:https://stagestopsaloon.com/event/karaoke/
LOCATION:Stage Stop Saloon & Grill\, 611 6th Ave SE\, Mandan\, ND\, 58554\, United States
CATEGORIES:Karaoke
ATTACH;FMTTYPE=image/webp:https://stagestopsaloon.com/wp-content/uploads/2024/08/Karaoke-600x600-3.webp
ORGANIZER;CN="Stage Stop Saloon & Grill":MAILTO:info@stagestopsaloon.com
END:VEVENT
BEGIN:VEVENT
DTSTART;TZID=America/North_Dakota/Center:20240823T210000
DTEND;TZID=America/North_Dakota/Center:20240824T010000
DTSTAMP:20260424T103120
CREATED:20240819T174244Z
LAST-MODIFIED:20240911T181356Z
UID:30657-1724446800-1724461200@stagestopsaloon.com
SUMMARY:Karaoke
DESCRIPTION:Step up to the mic & show us what you got – it’s Karaoke Night in Mandan with M.C. Inkster Party DJ! Join us every Friday night from 9 to close.
URL:https://stagestopsaloon.com/event/karaoke/
LOCATION:Stage Stop Saloon & Grill\, 611 6th Ave SE\, Mandan\, ND\, 58554\, United States
CATEGORIES:Karaoke
ATTACH;FMTTYPE=image/webp:https://stagestopsaloon.com/wp-content/uploads/2024/08/Karaoke-600x600-3.webp
ORGANIZER;CN="Stage Stop Saloon & Grill":MAILTO:info@stagestopsaloon.com
END:VEVENT
BEGIN:VEVENT
DTSTART;TZID=America/North_Dakota/Center:20240823T210000
DTEND;TZID=America/North_Dakota/Center:20240824T010000
DTSTAMP:20260424T103120
CREATED:20240819T174244Z
LAST-MODIFIED:20240911T181356Z
UID:30657-1724446800-1724461200@stagestopsaloon.com
SUMMARY:Karaoke
DESCRIPTION:Step up to the mic & show us what you got – it’s Karaoke Night in Mandan with M.C. Inkster Party DJ! Join us every Friday night from 9 to close.
URL:https://stagestopsaloon.com/event/karaoke/
LOCATION:Stage Stop Saloon & Grill\, 611 6th Ave SE\, Mandan\, ND\, 58554\, United States
CATEGORIES:Karaoke
ATTACH;FMTTYPE=image/webp:https://stagestopsaloon.com/wp-content/uploads/2024/08/Karaoke-600x600-3.webp
ORGANIZER;CN="Stage Stop Saloon & Grill":MAILTO:info@stagestopsaloon.com
END:VEVENT
BEGIN:VEVENT
DTSTART;TZID=America/North_Dakota/Center:20250221T210000
DTEND;TZID=America/North_Dakota/Center:20250222T010000
DTSTAMP:20260424T103120
CREATED:20250218T195931Z
LAST-MODIFIED:20250218T195933Z
UID:39603-1740171600-1740186000@stagestopsaloon.com
SUMMARY:Karaoke
DESCRIPTION:Step up to the mic & show us what you got – it’s Karaoke Night in Mandan with M.C. Inkster Party DJ! Join us every Friday night from 9 to close.
URL:https://stagestopsaloon.com/event/karaoke-2/
LOCATION:Stage Stop Saloon & Grill\, 611 6th Ave SE\, Mandan\, ND\, 58554\, United States
CATEGORIES:Karaoke
ATTACH;FMTTYPE=image/webp:https://stagestopsaloon.com/wp-content/uploads/2024/08/Karaoke-600x600-3.webp
ORGANIZER;CN="Stage Stop Saloon & Grill":MAILTO:info@stagestopsaloon.com
END:VEVENT
BEGIN:VEVENT
DTSTART;TZID=America/North_Dakota/Center:20250510T190000
DTEND;TZID=America/North_Dakota/Center:20250510T210000
DTSTAMP:20260424T103120
CREATED:20250405T032237Z
LAST-MODIFIED:20250405T032238Z
UID:44453-1746903600-1746910800@stagestopsaloon.com
SUMMARY:Stage Stop Showdown Finals
DESCRIPTION:Stage Stop Showdown Grand Finale \n📅 Date: May 10\, 2025⏰ Time: 7:00 PM📍 Location: Stage Stop Saloon & Grill \nThe Stage Stop Showdown singing competition comes to an epic conclusion on May 10th at 7:00 PM! The best of the best are ready to battle it out for incredible prizes and ultimate bragging rights. \n🎤 Grand Finale Prizes:🥇 1st Place: 2 VIP Music Passes + Camping Package + a Country Star Meet & Greet at ND Country Fest 2025!🥈 2nd Place: 2 GA Music Passes + Camping Package at ND Country Fest 2025!🎤 BONUS: Both final winners get to sing on stage with Keith Burns (of Trick Pony) on July 5th at Stage Stop! \n🎶 Music by Kyle from Method Entertainment – Bringing the best sound and party vibes all night long! \n🍻 Brought to you by: Stage Stop Saloon\, ND Country Fest\, US 103.3\, and Budweiser. \nDon’t miss the excitement\, music\, and amazing prizes. Whether you’re here to compete or cheer on your favorites\, this is the night to be at Stage Stop Saloon!
URL:https://stagestopsaloon.com/event/stage-stop-showdown-finals/
LOCATION:Stage Stop Saloon & Grill\, 611 6th Ave SE\, Mandan\, ND\, 58554\, United States
CATEGORIES:Karaoke
ORGANIZER;CN="Stage Stop Saloon & Grill":MAILTO:info@stagestopsaloon.com
END:VEVENT
END:VCALENDAR