BEGIN:VCALENDAR
VERSION:2.0
PRODID:-//Stage Stop Saloon &amp; Grill | Mandan-Bismarck, ND - ECPv6.15.20//NONSGML v1.0//EN
CALSCALE:GREGORIAN
METHOD:PUBLISH
X-ORIGINAL-URL:https://stagestopsaloon.com
X-WR-CALDESC:Events for Stage Stop Saloon &amp; Grill | Mandan-Bismarck, ND
REFRESH-INTERVAL;VALUE=DURATION:PT1H
X-Robots-Tag:noindex
X-PUBLISHED-TTL:PT1H
BEGIN:VTIMEZONE
TZID:America/North_Dakota/Center
BEGIN:DAYLIGHT
TZOFFSETFROM:-0600
TZOFFSETTO:-0500
TZNAME:CDT
DTSTART:20230312T080000
END:DAYLIGHT
BEGIN:STANDARD
TZOFFSETFROM:-0500
TZOFFSETTO:-0600
TZNAME:CST
DTSTART:20231105T070000
END:STANDARD
BEGIN:DAYLIGHT
TZOFFSETFROM:-0600
TZOFFSETTO:-0500
TZNAME:CDT
DTSTART:20240310T080000
END:DAYLIGHT
BEGIN:STANDARD
TZOFFSETFROM:-0500
TZOFFSETTO:-0600
TZNAME:CST
DTSTART:20241103T070000
END:STANDARD
BEGIN:DAYLIGHT
TZOFFSETFROM:-0600
TZOFFSETTO:-0500
TZNAME:CDT
DTSTART:20250309T080000
END:DAYLIGHT
BEGIN:STANDARD
TZOFFSETFROM:-0500
TZOFFSETTO:-0600
TZNAME:CST
DTSTART:20251102T070000
END:STANDARD
END:VTIMEZONE
BEGIN:VEVENT
DTSTART;TZID=America/North_Dakota/Center:20240914T120000
DTEND;TZID=America/North_Dakota/Center:20240914T140000
DTSTAMP:20260424T091449
CREATED:20240910T210048Z
LAST-MODIFIED:20240910T210211Z
UID:31421-1726315200-1726322400@stagestopsaloon.com
SUMMARY:Bismarck Bobcats Meet & Greet
DESCRIPTION:Who’s ready for another awesome season of Bobcats hockey?! \n\n  \nDon’t miss your chance to meet the 2024-2025 Bismarck Bobcats at Stage Stop on Saturday\, Sept. 14th from 12-2pm! Family friendly and lots of fun for the kids! Half price kids meals with purchase of adult entree!\n\n  \nAnd get your tickets to their big exhibition games against the Notre Dame Hounds of the SJHL at the Starion Sports Complex Friday & Saturday night – 9/13 & 9/14. Puck drop both nights is 7:00 PM.\n\n  \nGet your tickets now at www.BismarckBobcats.com or call the Bobcat hotline at 701-390-7422.
URL:https://stagestopsaloon.com/event/bismarck-bobcats-meet-greet-2/
LOCATION:Stage Stop Saloon & Grill\, 611 6th Ave SE\, Mandan\, ND\, 58554\, United States
CATEGORIES:Kids
ATTACH;FMTTYPE=image/webp:https://stagestopsaloon.com/wp-content/uploads/2024/09/Bobcats-Meet-Greet-600-x-600-px.webp
ORGANIZER;CN="Stage Stop Saloon & Grill":MAILTO:info@stagestopsaloon.com
END:VEVENT
END:VCALENDAR