BEGIN:VCALENDAR
VERSION:2.0
PRODID:-//Stage Stop Saloon &amp; Grill | Mandan-Bismarck, ND - ECPv6.15.20//NONSGML v1.0//EN
CALSCALE:GREGORIAN
METHOD:PUBLISH
X-WR-CALNAME:Stage Stop Saloon &amp; Grill | Mandan-Bismarck, ND
X-ORIGINAL-URL:https://stagestopsaloon.com
X-WR-CALDESC:Events for Stage Stop Saloon &amp; Grill | Mandan-Bismarck, ND
REFRESH-INTERVAL;VALUE=DURATION:PT1H
X-Robots-Tag:noindex
X-PUBLISHED-TTL:PT1H
BEGIN:VTIMEZONE
TZID:America/North_Dakota/Center
BEGIN:DAYLIGHT
TZOFFSETFROM:-0600
TZOFFSETTO:-0500
TZNAME:CDT
DTSTART:20220313T080000
END:DAYLIGHT
BEGIN:STANDARD
TZOFFSETFROM:-0500
TZOFFSETTO:-0600
TZNAME:CST
DTSTART:20221106T070000
END:STANDARD
BEGIN:DAYLIGHT
TZOFFSETFROM:-0600
TZOFFSETTO:-0500
TZNAME:CDT
DTSTART:20230312T080000
END:DAYLIGHT
BEGIN:STANDARD
TZOFFSETFROM:-0500
TZOFFSETTO:-0600
TZNAME:CST
DTSTART:20231105T070000
END:STANDARD
BEGIN:DAYLIGHT
TZOFFSETFROM:-0600
TZOFFSETTO:-0500
TZNAME:CDT
DTSTART:20240310T080000
END:DAYLIGHT
BEGIN:STANDARD
TZOFFSETFROM:-0500
TZOFFSETTO:-0600
TZNAME:CST
DTSTART:20241103T070000
END:STANDARD
BEGIN:DAYLIGHT
TZOFFSETFROM:-0600
TZOFFSETTO:-0500
TZNAME:CDT
DTSTART:20250309T080000
END:DAYLIGHT
BEGIN:STANDARD
TZOFFSETFROM:-0500
TZOFFSETTO:-0600
TZNAME:CST
DTSTART:20251102T070000
END:STANDARD
BEGIN:DAYLIGHT
TZOFFSETFROM:-0600
TZOFFSETTO:-0500
TZNAME:CDT
DTSTART:20260308T080000
END:DAYLIGHT
BEGIN:STANDARD
TZOFFSETFROM:-0500
TZOFFSETTO:-0600
TZNAME:CST
DTSTART:20261101T070000
END:STANDARD
END:VTIMEZONE
BEGIN:VEVENT
DTSTART;TZID=America/North_Dakota/Center:20250628T130000
DTEND;TZID=America/North_Dakota/Center:20250629T010000
DTSTAMP:20260421T103634
CREATED:20250626T042942Z
LAST-MODIFIED:20250626T043040Z
UID:47520-1751115600-1751158800@stagestopsaloon.com
SUMMARY:Parking Lot Foam Party
DESCRIPTION: FOAM PARTY – SATURDAY\, JUNE 28 It’s an all-day bash at Stage Stop\, and everyone’s invited—yes\, even the Clydesdale \n\n 1PM – Grab pizza by the slice\, Wimpy burgers\, hot dogs\, cotton candy & snow cones! 2:30–4:30PM – Meet a Budweiser Clydesdale up close! 3–5PM – FOAM PARTY for ALL AGES 8PM – Adults Only Foam Party with DJ Shuffle bringing the beats \n\n $4 Bud & Bud Light Pounders – Saturday Busch Light 30pks just $22.89 – Every day low price\n\n Blackjack |  Darts |  Music |  Gaming |  Patio Vibes\nCome for the foam\, stay for the party.
URL:https://stagestopsaloon.com/event/parking-lot-foam-party/
LOCATION:Stage Stop Saloon & Grill\, 611 6th Ave SE\, Mandan\, ND\, 58554\, United States
CATEGORIES:Kids,Live Music
ATTACH;FMTTYPE=image/jpeg:https://stagestopsaloon.com/wp-content/uploads/2025/06/June-28-PL-BB.jpg
ORGANIZER;CN="Stage Stop Saloon & Grill":MAILTO:info@stagestopsaloon.com
END:VEVENT
BEGIN:VEVENT
DTSTART;TZID=America/North_Dakota/Center:20241222T130000
DTEND;TZID=America/North_Dakota/Center:20241222T160000
DTSTAMP:20260421T103634
CREATED:20241204T214351Z
LAST-MODIFIED:20241204T214351Z
UID:35511-1734872400-1734883200@stagestopsaloon.com
SUMMARY:Kids Christmas Karaoke
DESCRIPTION:Get into the holiday spirit w/ Kids Christmas Karaoke! Let the kids be the stars and sing all their favorite Christmas songs. Plus – we’ll have Santa here!!  Snap a photo of your child with Santa & receive a special holiday treat!
URL:https://stagestopsaloon.com/event/kids-christmas-karaoke/
LOCATION:Stage Stop Saloon & Grill\, 611 6th Ave SE\, Mandan\, ND\, 58554\, United States
CATEGORIES:Kids
ATTACH;FMTTYPE=image/webp:https://stagestopsaloon.com/wp-content/uploads/2024/12/Kids-Christmas-Karaoke-Instagram-Post.webp
ORGANIZER;CN="Stage Stop Saloon & Grill":MAILTO:info@stagestopsaloon.com
END:VEVENT
BEGIN:VEVENT
DTSTART;TZID=America/North_Dakota/Center:20241027T130000
DTEND;TZID=America/North_Dakota/Center:20241027T160000
DTSTAMP:20260421T103634
CREATED:20240923T203408Z
LAST-MODIFIED:20240923T204719Z
UID:32562-1730034000-1730044800@stagestopsaloon.com
SUMMARY:Kids Halloween Karaoke Party
DESCRIPTION:Calling all little ghosts & goblins! Join us for our Stage Stop Kids Halloween Karaoke Party on Sunday\, Oct. 27th. Come dressed in your costume & take the stage from 1-4pm for Kids Karaoke with the BisMan’s favorite DJ\, YurMom Presents! And of course… free candy! Happy Halloween!
URL:https://stagestopsaloon.com/event/kids-halloween-party/
LOCATION:Stage Stop Saloon & Grill\, 611 6th Ave SE\, Mandan\, ND\, 58554\, United States
CATEGORIES:Karaoke,Kids,Parties
ATTACH;FMTTYPE=image/webp:https://stagestopsaloon.com/wp-content/uploads/2024/09/Kids-Halloween-Karaoke-2024-600x600-1.webp
ORGANIZER;CN="Stage Stop Saloon & Grill":MAILTO:info@stagestopsaloon.com
END:VEVENT
BEGIN:VEVENT
DTSTART;TZID=America/North_Dakota/Center:20240914T120000
DTEND;TZID=America/North_Dakota/Center:20240914T140000
DTSTAMP:20260421T103634
CREATED:20240910T210048Z
LAST-MODIFIED:20240910T210211Z
UID:31421-1726315200-1726322400@stagestopsaloon.com
SUMMARY:Bismarck Bobcats Meet & Greet
DESCRIPTION:Who’s ready for another awesome season of Bobcats hockey?! \n\n  \nDon’t miss your chance to meet the 2024-2025 Bismarck Bobcats at Stage Stop on Saturday\, Sept. 14th from 12-2pm! Family friendly and lots of fun for the kids! Half price kids meals with purchase of adult entree!\n\n  \nAnd get your tickets to their big exhibition games against the Notre Dame Hounds of the SJHL at the Starion Sports Complex Friday & Saturday night – 9/13 & 9/14. Puck drop both nights is 7:00 PM.\n\n  \nGet your tickets now at www.BismarckBobcats.com or call the Bobcat hotline at 701-390-7422.
URL:https://stagestopsaloon.com/event/bismarck-bobcats-meet-greet-2/
LOCATION:Stage Stop Saloon & Grill\, 611 6th Ave SE\, Mandan\, ND\, 58554\, United States
CATEGORIES:Kids
ATTACH;FMTTYPE=image/webp:https://stagestopsaloon.com/wp-content/uploads/2024/09/Bobcats-Meet-Greet-600-x-600-px.webp
ORGANIZER;CN="Stage Stop Saloon & Grill":MAILTO:info@stagestopsaloon.com
END:VEVENT
BEGIN:VEVENT
DTSTART;TZID=America/North_Dakota/Center:20240705T140000
DTEND;TZID=America/North_Dakota/Center:20240705T170000
DTSTAMP:20260421T103634
CREATED:20240516T182112Z
LAST-MODIFIED:20240516T182112Z
UID:29647-1720188000-1720198800@stagestopsaloon.com
SUMMARY:Kids Outdoor Karaoke!
DESCRIPTION:It’s the kids’ turn to have some fun during Stage Stop’s 4th Annual Street Dance! Bring them out for Kids Karaoke on July 5th from 2-5pm and their chance to hit the big outdoor stage and sing all their favorite songs! We’ll have the awesome YurMom Presents! running the show\, while serving all your favorite food & cold drinks!
URL:https://stagestopsaloon.com/event/kids-outdoor-karaoke/
LOCATION:Stage Stop Saloon & Grill\, 611 6th Ave SE\, Mandan\, ND\, 58554\, United States
CATEGORIES:Karaoke,Kids
ATTACH;FMTTYPE=image/webp:https://stagestopsaloon.com/wp-content/uploads/2024/05/Kids-Karaoke-Street-Dance-600-x-600-px.webp
ORGANIZER;CN="Stage Stop Saloon & Grill":MAILTO:info@stagestopsaloon.com
END:VEVENT
BEGIN:VEVENT
DTSTART;TZID=America/North_Dakota/Center:20240317T130000
DTEND;TZID=America/North_Dakota/Center:20240317T160000
DTSTAMP:20260421T103634
CREATED:20240305T010537Z
LAST-MODIFIED:20240305T010639Z
UID:27784-1710680400-1710691200@stagestopsaloon.com
SUMMARY:Kids St. Patrick's Day Karaoke
DESCRIPTION:It’s the kids’ lucky day! Bring the little leprechauns out for Karaoke @ Stage Stop w/ the amazing & always entertaining YurMom Presents on Sunday\, March 17th from 1-4pm! Parents can enjoy cheers & green beer!
URL:https://stagestopsaloon.com/event/kids-st-patricks-day-karaoke/
LOCATION:Stage Stop Saloon & Grill\, 611 6th Ave SE\, Mandan\, ND\, 58554\, United States
CATEGORIES:Karaoke,Kids
ATTACH;FMTTYPE=image/webp:https://stagestopsaloon.com/wp-content/uploads/2024/03/Kids-Karaoke-St-Patricks-Day-600-x-600-px.webp
ORGANIZER;CN="Stage Stop Saloon & Grill":MAILTO:info@stagestopsaloon.com
END:VEVENT
BEGIN:VEVENT
DTSTART;TZID=America/North_Dakota/Center:20240225T140000
DTEND;TZID=America/North_Dakota/Center:20240225T173000
DTSTAMP:20260421T103634
CREATED:20240220T212841Z
LAST-MODIFIED:20240220T212932Z
UID:27334-1708869600-1708882200@stagestopsaloon.com
SUMMARY:Bismarck Bobcats Meet & Greet
DESCRIPTION:Don’t miss your chance to meet the Bismarck Bobcats (who are totally crushing it this season)!!  Sunday\, Feb. 25th at Stage Stop from 2-5:30pm with awesome prize giveaways!\n\n \n\nGame tickets\nFamily packs\nCowbells\nYouth jerseys\nTeam posters\nAnd more!\n\n\nJust a reminder that Stage Stop is KID FRIENDLY! Take them out to meet their favorite players & make their day!
URL:https://stagestopsaloon.com/event/bismarck-bobcats-meet-greet/
LOCATION:Stage Stop Saloon & Grill\, 611 6th Ave SE\, Mandan\, ND\, 58554\, United States
CATEGORIES:Kids,Sports
ATTACH;FMTTYPE=image/webp:https://stagestopsaloon.com/wp-content/uploads/2024/02/Bobcats-Meet-Greet-600x600-1.webp
ORGANIZER;CN="Stage Stop Saloon & Grill":MAILTO:info@stagestopsaloon.com
END:VEVENT
BEGIN:VEVENT
DTSTART;TZID=America/North_Dakota/Center:20231126T140000
DTEND;TZID=America/North_Dakota/Center:20231126T170000
DTSTAMP:20260421T103634
CREATED:20231030T193405Z
LAST-MODIFIED:20231030T222114Z
UID:26281-1701007200-1701018000@stagestopsaloon.com
SUMMARY:Kids Christmas Karaoke w/ Santa!
DESCRIPTION:Get into the holiday spirit w/ Kids Christmas Karaoke! Let the kids be the stars and sing all their favorite Christmas songs. Plus – we’ll have Santa here!!  Snap a photo of your child with Santa & receive a special holiday treat! 🍭\n \n  \n\n\n\nDue to high demand\, we will be hosting this event in our large upstairs space to better accommodate guests. YurMom Presents will be our awesome DJ\, and she’s planning on bringing fun lights for the kids to make it feel extra special. \n  \n\n\nHappy holidays!!
URL:https://stagestopsaloon.com/event/kids-christmas-karaoke-w-santa/
LOCATION:Stage Stop Saloon & Grill\, 611 6th Ave SE\, Mandan\, ND\, 58554\, United States
CATEGORIES:Karaoke,Kids
ATTACH;FMTTYPE=image/webp:https://stagestopsaloon.com/wp-content/uploads/2023/10/Kids-Christmas-Karaoke-600-x-600-px-2.webp
ORGANIZER;CN="Stage Stop Saloon & Grill":MAILTO:info@stagestopsaloon.com
END:VEVENT
BEGIN:VEVENT
DTSTART;TZID=America/North_Dakota/Center:20231029T140000
DTEND;TZID=America/North_Dakota/Center:20231029T170000
DTSTAMP:20260421T103635
CREATED:20231023T191139Z
LAST-MODIFIED:20231023T191142Z
UID:25358-1698588000-1698598800@stagestopsaloon.com
SUMMARY:Kids Halloween Karaoke Party!
DESCRIPTION:Ahoy little mateys!  We can’t wait to celebrate Halloween with our Kids Halloween Karaoke Party! Dress up in your costumes & join us Sunday\, Oct. 29th from 2-5pm for karaoke\, a pirate-themed treasure hunt and candy giveaways! Happy Halloween – yo ho!
URL:https://stagestopsaloon.com/event/kids-halloween-karaoke-party/
LOCATION:Stage Stop Saloon & Grill\, 611 6th Ave SE\, Mandan\, ND\, 58554\, United States
CATEGORIES:Karaoke,Kids,Parties
ATTACH;FMTTYPE=image/webp:https://stagestopsaloon.com/wp-content/uploads/2023/10/Copy-of-Kids-Halloween-Karaoke-Instagram-Post.webp
ORGANIZER;CN="Stage Stop Saloon & Grill":MAILTO:info@stagestopsaloon.com
END:VEVENT
BEGIN:VEVENT
DTSTART;TZID=America/North_Dakota/Center:20230827T140000
DTEND;TZID=America/North_Dakota/Center:20230827T180000
DTSTAMP:20260421T103635
CREATED:20230818T163853Z
LAST-MODIFIED:20230818T164033Z
UID:12452-1693144800-1693159200@stagestopsaloon.com
SUMMARY:Kids Dress-Up Karaoke!
DESCRIPTION:We’re so excited to host Kids Dress-Up Karaoke with YurMom Presents! on Aug. 27th! Let the kids dress up as their favorite character and take the stage to sing their favorite songs from 2-6pm! It’s going to be such a fun afternoon!
URL:https://stagestopsaloon.com/event/kids-dress-up-karaoke/
LOCATION:Stage Stop Saloon & Grill\, 611 6th Ave SE\, Mandan\, ND\, 58554\, United States
CATEGORIES:Karaoke,Kids
ATTACH;FMTTYPE=image/webp:https://stagestopsaloon.com/wp-content/uploads/2023/08/Copy-of-Copy-of-Kids-Karaoke-Instagram-Post-Square.webp
ORGANIZER;CN="Stage Stop Saloon & Grill":MAILTO:info@stagestopsaloon.com
END:VEVENT
BEGIN:VEVENT
DTSTART;TZID=America/North_Dakota/Center:20230610T140000
DTEND;TZID=America/North_Dakota/Center:20230610T180000
DTSTAMP:20260421T103635
CREATED:20230518T234817Z
LAST-MODIFIED:20230518T234818Z
UID:9809-1686405600-1686420000@stagestopsaloon.com
SUMMARY:Kids Jam ~ Bounce Houses & Karaoke!
DESCRIPTION:We can’t wait to host our first ever Kids Jam on Saturday\, June 10th! \nJoin us for an afternoon of fun with bounce houses and Kids Karaoke on our outdoor stage from 2-6pm.  \nThe fun continues for adults only Saturday night with incredible outdoor live music from the extremely talented Groove Inc!
URL:https://stagestopsaloon.com/event/kids-jam-bounce-houses-karaoke/
LOCATION:Stage Stop Saloon & Grill\, 611 6th Ave SE\, Mandan\, ND\, 58554\, United States
CATEGORIES:Karaoke,Kids,Parties
ATTACH;FMTTYPE=image/webp:https://stagestopsaloon.com/wp-content/uploads/2023/05/Kids-Jam-Facebook-Post-Landscape.webp
ORGANIZER;CN="Stage Stop Saloon & Grill":MAILTO:info@stagestopsaloon.com
END:VEVENT
END:VCALENDAR