BEGIN:VCALENDAR
VERSION:2.0
PRODID:-//Stage Stop Saloon &amp; Grill | Mandan-Bismarck, ND - ECPv6.15.20//NONSGML v1.0//EN
CALSCALE:GREGORIAN
METHOD:PUBLISH
X-ORIGINAL-URL:https://stagestopsaloon.com
X-WR-CALDESC:Events for Stage Stop Saloon &amp; Grill | Mandan-Bismarck, ND
REFRESH-INTERVAL;VALUE=DURATION:PT1H
X-Robots-Tag:noindex
X-PUBLISHED-TTL:PT1H
BEGIN:VTIMEZONE
TZID:America/North_Dakota/Center
BEGIN:DAYLIGHT
TZOFFSETFROM:-0600
TZOFFSETTO:-0500
TZNAME:CDT
DTSTART:20220313T080000
END:DAYLIGHT
BEGIN:STANDARD
TZOFFSETFROM:-0500
TZOFFSETTO:-0600
TZNAME:CST
DTSTART:20221106T070000
END:STANDARD
BEGIN:DAYLIGHT
TZOFFSETFROM:-0600
TZOFFSETTO:-0500
TZNAME:CDT
DTSTART:20230312T080000
END:DAYLIGHT
BEGIN:STANDARD
TZOFFSETFROM:-0500
TZOFFSETTO:-0600
TZNAME:CST
DTSTART:20231105T070000
END:STANDARD
BEGIN:DAYLIGHT
TZOFFSETFROM:-0600
TZOFFSETTO:-0500
TZNAME:CDT
DTSTART:20240310T080000
END:DAYLIGHT
BEGIN:STANDARD
TZOFFSETFROM:-0500
TZOFFSETTO:-0600
TZNAME:CST
DTSTART:20241103T070000
END:STANDARD
END:VTIMEZONE
BEGIN:VEVENT
DTSTART;TZID=America/North_Dakota/Center:20231020T210000
DTEND;TZID=America/North_Dakota/Center:20231021T010000
DTSTAMP:20260422T234157
CREATED:20230914T200656Z
LAST-MODIFIED:20230914T234632Z
UID:16884-1697835600-1697850000@stagestopsaloon.com
SUMMARY:80s Zombie Party w/ LIVE Music: Unleashed!
DESCRIPTION:We can’t wait to get undead & party it up 80s style w/ the one and only Unleashed! Join us for our 80s Zombie Party on Oct. 20th from 9pm to close! \n\n\n\nCome dressed in your best zombified 80s getup & get ready for a night that’s to die for w/ Unleashed! It’s not too often they in the Bis-Man area\, so get ready for some face-melting rock ‘n roll & don’t miss the party!
URL:https://stagestopsaloon.com/event/80s-zombie-party-w-live-music-unleashed/
LOCATION:Stage Stop Saloon & Grill\, 611 6th Ave SE\, Mandan\, ND\, 58554\, United States
CATEGORIES:Live Music,Parties
ATTACH;FMTTYPE=image/webp:https://stagestopsaloon.com/wp-content/uploads/2023/09/80s-Zombie-Party-Instagram-Post-Square-3.webp
ORGANIZER;CN="Stage Stop Saloon & Grill":MAILTO:info@stagestopsaloon.com
END:VEVENT
BEGIN:VEVENT
DTSTART;TZID=America/North_Dakota/Center:20231028T210000
DTEND;TZID=America/North_Dakota/Center:20231029T010000
DTSTAMP:20260422T234157
CREATED:20230828T195351Z
LAST-MODIFIED:20230926T165848Z
UID:13606-1698526800-1698541200@stagestopsaloon.com
SUMMARY:Halloween Party w/ Fully Loaded!
DESCRIPTION:It’s one of our favorite nights of the year!!!  Get decked out in your best costume & be ready for a spooktacular night of fun at Stage Stop’s Annual Halloween Party! \n  \n\n\n\nFeaturing LIVE music\, costume contest\, ghoulish drink specials & awesome prizes! BisMan’s favorite\, Fully Loaded\, will be rocking the stage & making this one of our most frightfully awesome Halloweens yet!
URL:https://stagestopsaloon.com/event/halloween-party-2023/
LOCATION:Stage Stop Saloon & Grill\, 611 6th Ave SE\, Mandan\, ND\, 58554\, United States
CATEGORIES:Live Music,Parties
ATTACH;FMTTYPE=image/webp:https://stagestopsaloon.com/wp-content/uploads/2023/08/Halloween-Party-2023-Instagram-Post-Square-1.webp
ORGANIZER;CN="Stage Stop Saloon & Grill":MAILTO:info@stagestopsaloon.com
END:VEVENT
BEGIN:VEVENT
DTSTART;TZID=America/North_Dakota/Center:20231029T140000
DTEND;TZID=America/North_Dakota/Center:20231029T170000
DTSTAMP:20260422T234157
CREATED:20231023T191139Z
LAST-MODIFIED:20231023T191142Z
UID:25358-1698588000-1698598800@stagestopsaloon.com
SUMMARY:Kids Halloween Karaoke Party!
DESCRIPTION:Ahoy little mateys!  We can’t wait to celebrate Halloween with our Kids Halloween Karaoke Party! Dress up in your costumes & join us Sunday\, Oct. 29th from 2-5pm for karaoke\, a pirate-themed treasure hunt and candy giveaways! Happy Halloween – yo ho!
URL:https://stagestopsaloon.com/event/kids-halloween-karaoke-party/
LOCATION:Stage Stop Saloon & Grill\, 611 6th Ave SE\, Mandan\, ND\, 58554\, United States
CATEGORIES:Karaoke,Kids,Parties
ATTACH;FMTTYPE=image/webp:https://stagestopsaloon.com/wp-content/uploads/2023/10/Copy-of-Kids-Halloween-Karaoke-Instagram-Post.webp
ORGANIZER;CN="Stage Stop Saloon & Grill":MAILTO:info@stagestopsaloon.com
END:VEVENT
END:VCALENDAR