BEGIN:VCALENDAR
VERSION:2.0
PRODID:-//Stage Stop Saloon &amp; Grill | Mandan-Bismarck, ND - ECPv6.15.20//NONSGML v1.0//EN
CALSCALE:GREGORIAN
METHOD:PUBLISH
X-ORIGINAL-URL:https://stagestopsaloon.com
X-WR-CALDESC:Events for Stage Stop Saloon &amp; Grill | Mandan-Bismarck, ND
REFRESH-INTERVAL;VALUE=DURATION:PT1H
X-Robots-Tag:noindex
X-PUBLISHED-TTL:PT1H
BEGIN:VTIMEZONE
TZID:America/North_Dakota/Center
BEGIN:DAYLIGHT
TZOFFSETFROM:-0600
TZOFFSETTO:-0500
TZNAME:CDT
DTSTART:20230312T080000
END:DAYLIGHT
BEGIN:STANDARD
TZOFFSETFROM:-0500
TZOFFSETTO:-0600
TZNAME:CST
DTSTART:20231105T070000
END:STANDARD
BEGIN:DAYLIGHT
TZOFFSETFROM:-0600
TZOFFSETTO:-0500
TZNAME:CDT
DTSTART:20240310T080000
END:DAYLIGHT
BEGIN:STANDARD
TZOFFSETFROM:-0500
TZOFFSETTO:-0600
TZNAME:CST
DTSTART:20241103T070000
END:STANDARD
BEGIN:DAYLIGHT
TZOFFSETFROM:-0600
TZOFFSETTO:-0500
TZNAME:CDT
DTSTART:20250309T080000
END:DAYLIGHT
BEGIN:STANDARD
TZOFFSETFROM:-0500
TZOFFSETTO:-0600
TZNAME:CST
DTSTART:20251102T070000
END:STANDARD
END:VTIMEZONE
BEGIN:VEVENT
DTSTART;TZID=America/North_Dakota/Center:20240608T180000
DTEND;TZID=America/North_Dakota/Center:20240609T010000
DTSTAMP:20260422T131315
CREATED:20240514T000529Z
LAST-MODIFIED:20240522T155052Z
UID:29629-1717869600-1717894800@stagestopsaloon.com
SUMMARY:Outdoor Foam Party!
DESCRIPTION:We can’t wait to take it outside for our first ever FOAM PARTY with the DJs from Method Entertainment! Get ready for a pumped-up night you won’t forget as we turn our outdoor space into a sea of foam while Method Entertainment kicks it all night long! \n  \nPlus\, you know we’ll have all your favorite food & drinks to keep the party going. So mark your calendars and gather up your friends for an epic night full of awesome memories! \n  \nThe fun starts at 6pm and goes until close! 21+ for this party – sorry\, kids!
URL:https://stagestopsaloon.com/event/outdoor-foam-party/
LOCATION:Stage Stop Saloon & Grill\, 611 6th Ave SE\, Mandan\, ND\, 58554\, United States
CATEGORIES:DJ,Parties
ATTACH;FMTTYPE=image/webp:https://stagestopsaloon.com/wp-content/uploads/2024/05/Foam-Party-600-x-600-px-1.webp
ORGANIZER;CN="Stage Stop Saloon & Grill":MAILTO:info@stagestopsaloon.com
END:VEVENT
END:VCALENDAR