BEGIN:VCALENDAR
VERSION:2.0
PRODID:-//Stage Stop Saloon &amp; Grill | Mandan-Bismarck, ND - ECPv6.15.20//NONSGML v1.0//EN
CALSCALE:GREGORIAN
METHOD:PUBLISH
X-WR-CALNAME:Stage Stop Saloon &amp; Grill | Mandan-Bismarck, ND
X-ORIGINAL-URL:https://stagestopsaloon.com
X-WR-CALDESC:Events for Stage Stop Saloon &amp; Grill | Mandan-Bismarck, ND
REFRESH-INTERVAL;VALUE=DURATION:PT1H
X-Robots-Tag:noindex
X-PUBLISHED-TTL:PT1H
BEGIN:VTIMEZONE
TZID:America/North_Dakota/Center
BEGIN:DAYLIGHT
TZOFFSETFROM:-0600
TZOFFSETTO:-0500
TZNAME:CDT
DTSTART:20240310T080000
END:DAYLIGHT
BEGIN:STANDARD
TZOFFSETFROM:-0500
TZOFFSETTO:-0600
TZNAME:CST
DTSTART:20241103T070000
END:STANDARD
BEGIN:DAYLIGHT
TZOFFSETFROM:-0600
TZOFFSETTO:-0500
TZNAME:CDT
DTSTART:20250309T080000
END:DAYLIGHT
BEGIN:STANDARD
TZOFFSETFROM:-0500
TZOFFSETTO:-0600
TZNAME:CST
DTSTART:20251102T070000
END:STANDARD
BEGIN:DAYLIGHT
TZOFFSETFROM:-0600
TZOFFSETTO:-0500
TZNAME:CDT
DTSTART:20260308T080000
END:DAYLIGHT
BEGIN:STANDARD
TZOFFSETFROM:-0500
TZOFFSETTO:-0600
TZNAME:CST
DTSTART:20261101T070000
END:STANDARD
END:VTIMEZONE
BEGIN:VEVENT
DTSTART;TZID=America/North_Dakota/Center:20250209T173000
DTEND;TZID=America/North_Dakota/Center:20250209T210000
DTSTAMP:20260422T175521
CREATED:20250110T201804Z
LAST-MODIFIED:20250110T201805Z
UID:36260-1739122200-1739134800@stagestopsaloon.com
SUMMARY:Super Bowl Party
DESCRIPTION:Get in on all the action & fun as we watch the Super Bowl LIX on Sunday\, Feb. 9th!  \n\nStage Stop by far has the best deals in town for the big game with FREE FOOD!!  Plus it’s KID FRIENDLY!  \n\n\n1st Quarter: FREE hot dogs & chili\n2nd Quarter: FREE BBQ & Marinara Meatballs and BBQ Smokies\nHalf Time: FREE Wings & Veggie Tray\n\nPLUS! Happy Hour prices on drinks the whole game\, which means $1 off all domestic drafts and bar pours!  \n\nPRIZES: Get here 1 hour before game time to predict the score at the end of the 1st\, 2nd & 3rd quarter for a chance at awesome prizes. Whoever is the closest to the final score wins a 50″ TV!! MUST BE PRESENT TO WIN
URL:https://stagestopsaloon.com/event/super-bowl-party-2/
LOCATION:Stage Stop Saloon & Grill\, 611 6th Ave SE\, Mandan\, ND\, 58554\, United States
CATEGORIES:Parties,Sports
ATTACH;FMTTYPE=image/webp:https://stagestopsaloon.com/wp-content/uploads/2025/01/Super-Bowl-2024-2.webp
ORGANIZER;CN="Stage Stop Saloon & Grill":MAILTO:info@stagestopsaloon.com
END:VEVENT
END:VCALENDAR