BEGIN:VCALENDAR
VERSION:2.0
PRODID:-//Stage Stop Saloon &amp; Grill | Mandan-Bismarck, ND - ECPv6.15.20//NONSGML v1.0//EN
CALSCALE:GREGORIAN
METHOD:PUBLISH
X-ORIGINAL-URL:https://stagestopsaloon.com
X-WR-CALDESC:Events for Stage Stop Saloon &amp; Grill | Mandan-Bismarck, ND
REFRESH-INTERVAL;VALUE=DURATION:PT1H
X-Robots-Tag:noindex
X-PUBLISHED-TTL:PT1H
BEGIN:VTIMEZONE
TZID:America/North_Dakota/Center
BEGIN:DAYLIGHT
TZOFFSETFROM:-0600
TZOFFSETTO:-0500
TZNAME:CDT
DTSTART:20220313T080000
END:DAYLIGHT
BEGIN:STANDARD
TZOFFSETFROM:-0500
TZOFFSETTO:-0600
TZNAME:CST
DTSTART:20221106T070000
END:STANDARD
BEGIN:DAYLIGHT
TZOFFSETFROM:-0600
TZOFFSETTO:-0500
TZNAME:CDT
DTSTART:20230312T080000
END:DAYLIGHT
BEGIN:STANDARD
TZOFFSETFROM:-0500
TZOFFSETTO:-0600
TZNAME:CST
DTSTART:20231105T070000
END:STANDARD
BEGIN:DAYLIGHT
TZOFFSETFROM:-0600
TZOFFSETTO:-0500
TZNAME:CDT
DTSTART:20240310T080000
END:DAYLIGHT
BEGIN:STANDARD
TZOFFSETFROM:-0500
TZOFFSETTO:-0600
TZNAME:CST
DTSTART:20241103T070000
END:STANDARD
END:VTIMEZONE
BEGIN:VEVENT
DTSTART;TZID=America/North_Dakota/Center:20230630T100000
DTEND;TZID=America/North_Dakota/Center:20230701T010000
DTSTAMP:20260421T132707
CREATED:20230420T235127Z
LAST-MODIFIED:20230420T235128Z
UID:9327-1688119200-1688173200@stagestopsaloon.com
SUMMARY:Stage Stop Street Dance
DESCRIPTION:We can’t wait to kick off 4th of July festivities with our 3rd Annual Street Dance!!! This is our biggest party of the year with over 1\,000 people getting together to celebrate our Independence Day! \n\n\n\nJoin us as we take it outside for the 3rd Annual Stage Stop Street Dance over 4th of July weekend – Friday\, June 30th & July 1st with Rock Creek Revival\, and Monday\, July 3rd with Unleashed! \n  \n\n\nWe are welcoming back the always entertaining Rock Creek Revival on our outdoor stage Friday & Saturday! Rock Creek Revival plays all your country and classic rock favorites. The band loves to interact with the crowd and provide an entertainment experience you can participate in and one that you won’t forget! \n  \n\n\n\nSaturday Night: Patriotic Costume Contest – show your holiday spirit by wearing your most patriotic gear. Prizes will be awarded for the most spectacular get up.  \n  \n\n\nWe can’t wait to have Unleashed! join the party this year on Monday\, July 3rd!! Rock out with them on our outdoor stage from 9pm to close! \n  \n\n\n\nWe’ll have plenty of outdoor seating\, outdoor bars\, outdoor games\, summer food & drink specials and more! \n  \n\n\nStage Stop is a proud sponsor of Mandan Rodeo Days – be sure to check out their events running from July 2-4! \n  \n\n\nThis is our biggest event of the year that you don’t want to miss!
URL:https://stagestopsaloon.com/event/stage-stop-street-dance-2/
LOCATION:Stage Stop Saloon & Grill\, 611 6th Ave SE\, Mandan\, ND\, 58554\, United States
CATEGORIES:Live Music,Parties
ATTACH;FMTTYPE=image/webp:https://stagestopsaloon.com/wp-content/uploads/2023/04/Street-Dance-2023.webp
ORGANIZER;CN="Stage Stop Saloon & Grill":MAILTO:info@stagestopsaloon.com
END:VEVENT
BEGIN:VEVENT
DTSTART;TZID=America/North_Dakota/Center:20230610T140000
DTEND;TZID=America/North_Dakota/Center:20230610T180000
DTSTAMP:20260421T132707
CREATED:20230518T234817Z
LAST-MODIFIED:20230518T234818Z
UID:9809-1686405600-1686420000@stagestopsaloon.com
SUMMARY:Kids Jam ~ Bounce Houses & Karaoke!
DESCRIPTION:We can’t wait to host our first ever Kids Jam on Saturday\, June 10th! \nJoin us for an afternoon of fun with bounce houses and Kids Karaoke on our outdoor stage from 2-6pm.  \nThe fun continues for adults only Saturday night with incredible outdoor live music from the extremely talented Groove Inc!
URL:https://stagestopsaloon.com/event/kids-jam-bounce-houses-karaoke/
LOCATION:Stage Stop Saloon & Grill\, 611 6th Ave SE\, Mandan\, ND\, 58554\, United States
CATEGORIES:Karaoke,Kids,Parties
ATTACH;FMTTYPE=image/webp:https://stagestopsaloon.com/wp-content/uploads/2023/05/Kids-Jam-Facebook-Post-Landscape.webp
ORGANIZER;CN="Stage Stop Saloon & Grill":MAILTO:info@stagestopsaloon.com
END:VEVENT
END:VCALENDAR