BEGIN:VCALENDAR
VERSION:2.0
PRODID:-//Stage Stop Saloon &amp; Grill | Mandan-Bismarck, ND - ECPv6.15.20//NONSGML v1.0//EN
CALSCALE:GREGORIAN
METHOD:PUBLISH
X-WR-CALNAME:Stage Stop Saloon &amp; Grill | Mandan-Bismarck, ND
X-ORIGINAL-URL:https://stagestopsaloon.com
X-WR-CALDESC:Events for Stage Stop Saloon &amp; Grill | Mandan-Bismarck, ND
REFRESH-INTERVAL;VALUE=DURATION:PT1H
X-Robots-Tag:noindex
X-PUBLISHED-TTL:PT1H
BEGIN:VTIMEZONE
TZID:America/North_Dakota/Center
BEGIN:DAYLIGHT
TZOFFSETFROM:-0600
TZOFFSETTO:-0500
TZNAME:CDT
DTSTART:20220313T080000
END:DAYLIGHT
BEGIN:STANDARD
TZOFFSETFROM:-0500
TZOFFSETTO:-0600
TZNAME:CST
DTSTART:20221106T070000
END:STANDARD
BEGIN:DAYLIGHT
TZOFFSETFROM:-0600
TZOFFSETTO:-0500
TZNAME:CDT
DTSTART:20230312T080000
END:DAYLIGHT
BEGIN:STANDARD
TZOFFSETFROM:-0500
TZOFFSETTO:-0600
TZNAME:CST
DTSTART:20231105T070000
END:STANDARD
BEGIN:DAYLIGHT
TZOFFSETFROM:-0600
TZOFFSETTO:-0500
TZNAME:CDT
DTSTART:20240310T080000
END:DAYLIGHT
BEGIN:STANDARD
TZOFFSETFROM:-0500
TZOFFSETTO:-0600
TZNAME:CST
DTSTART:20241103T070000
END:STANDARD
END:VTIMEZONE
BEGIN:VEVENT
DTSTART;TZID=America/North_Dakota/Center:20230922T183000
DTEND;TZID=America/North_Dakota/Center:20230923T010000
DTSTAMP:20260421T170439
CREATED:20230809T170836Z
LAST-MODIFIED:20230810T180239Z
UID:10993-1695407400-1695430800@stagestopsaloon.com
SUMMARY:Fall Darts Tournament Series
DESCRIPTION:Stage Stop is excited to put on our 7-week Fall Darts Tournament Series! Qualifying tournaments will take place every Friday from Sept. 22nd to Nov. 3rd with finals following on Nov. 10th! \n\nQUALIFIERS: Every Friday from Sept. 22nd to Nov. 3rd\nSignup @ 6:30pm\, Darts fly @ 7pm\nFINALS: Friday\, Nov. 10th\n2-person teams (High/low\, Luck of the draw)\nCost: $15 per night ($5 goes toward each night\, other $10 carried over for Finals)\n$150 added for each qualifying tournament\n$2\,100 added for Finals (plus prizes added)\nMust play in 5 of the 7 weeks to qualify for Finals\n$4 pounders\n$3 Fireball shots
URL:https://stagestopsaloon.com/event/fall-darts-tournaments/
LOCATION:Stage Stop Saloon & Grill\, 611 6th Ave SE\, Mandan\, ND\, 58554\, United States
CATEGORIES:Tournaments
ATTACH;FMTTYPE=image/webp:https://stagestopsaloon.com/wp-content/uploads/2023/08/Fall-Darts-Tournaments-2023-2.webp
ORGANIZER;CN="Stage Stop Saloon & Grill":MAILTO:info@stagestopsaloon.com
END:VEVENT
BEGIN:VEVENT
DTSTART;TZID=America/North_Dakota/Center:20231021T130000
DTEND;TZID=America/North_Dakota/Center:20231021T220000
DTSTAMP:20260421T170439
CREATED:20230912T155523Z
LAST-MODIFIED:20230912T162709Z
UID:16462-1697893200-1697925600@stagestopsaloon.com
SUMMARY:Walking Darts Tournament
DESCRIPTION:Stage Stop and Powerhouse Bar & Grill are excited to host our second ‘South of the Tracks’ Walking Darts Tournament on Saturday\, Oct. 21st! \n \n\n• Tournament begins at Stage Stop @ 1pm and ends at Powerhouse\n• 4-person teams (2 males & 2 females)\n• Limited to 24 Teams\n• Pre-register @ Stage Stop or Powerhouse before 7pm on Oct. 18th – No late entries!\n• $15 per person or $60 per team\n• Entry fees due at sign-up\n• $1\,200 added cash\n• Divisions based on points per dart\n• $4 Pounders
URL:https://stagestopsaloon.com/event/walking-darts-tournament/
LOCATION:Stage Stop Saloon & Grill\, 611 6th Ave SE\, Mandan\, ND\, 58554\, United States
CATEGORIES:Tournaments
ATTACH;FMTTYPE=image/webp:https://stagestopsaloon.com/wp-content/uploads/2023/09/Walking-Darts-Tourn-Oct-2023-Instagram.webp
ORGANIZER;CN="Stage Stop Saloon & Grill":MAILTO:info@stagestopsaloon.com
END:VEVENT
BEGIN:VEVENT
DTSTART;TZID=America/North_Dakota/Center:20230922T183000
DTEND;TZID=America/North_Dakota/Center:20230923T010000
DTSTAMP:20260421T170439
CREATED:20230809T170836Z
LAST-MODIFIED:20230810T180239Z
UID:10993-1695407400-1695430800@stagestopsaloon.com
SUMMARY:Fall Darts Tournament Series
DESCRIPTION:Stage Stop is excited to put on our 7-week Fall Darts Tournament Series! Qualifying tournaments will take place every Friday from Sept. 22nd to Nov. 3rd with finals following on Nov. 10th! \n\nQUALIFIERS: Every Friday from Sept. 22nd to Nov. 3rd\nSignup @ 6:30pm\, Darts fly @ 7pm\nFINALS: Friday\, Nov. 10th\n2-person teams (High/low\, Luck of the draw)\nCost: $15 per night ($5 goes toward each night\, other $10 carried over for Finals)\n$150 added for each qualifying tournament\n$2\,100 added for Finals (plus prizes added)\nMust play in 5 of the 7 weeks to qualify for Finals\n$4 pounders\n$3 Fireball shots
URL:https://stagestopsaloon.com/event/fall-darts-tournaments/
LOCATION:Stage Stop Saloon & Grill\, 611 6th Ave SE\, Mandan\, ND\, 58554\, United States
CATEGORIES:Tournaments
ATTACH;FMTTYPE=image/webp:https://stagestopsaloon.com/wp-content/uploads/2023/08/Fall-Darts-Tournaments-2023-2.webp
ORGANIZER;CN="Stage Stop Saloon & Grill":MAILTO:info@stagestopsaloon.com
END:VEVENT
BEGIN:VEVENT
DTSTART;TZID=America/North_Dakota/Center:20230922T183000
DTEND;TZID=America/North_Dakota/Center:20230923T010000
DTSTAMP:20260421T170439
CREATED:20230809T170836Z
LAST-MODIFIED:20230810T180239Z
UID:10993-1695407400-1695430800@stagestopsaloon.com
SUMMARY:Fall Darts Tournament Series
DESCRIPTION:Stage Stop is excited to put on our 7-week Fall Darts Tournament Series! Qualifying tournaments will take place every Friday from Sept. 22nd to Nov. 3rd with finals following on Nov. 10th! \n\nQUALIFIERS: Every Friday from Sept. 22nd to Nov. 3rd\nSignup @ 6:30pm\, Darts fly @ 7pm\nFINALS: Friday\, Nov. 10th\n2-person teams (High/low\, Luck of the draw)\nCost: $15 per night ($5 goes toward each night\, other $10 carried over for Finals)\n$150 added for each qualifying tournament\n$2\,100 added for Finals (plus prizes added)\nMust play in 5 of the 7 weeks to qualify for Finals\n$4 pounders\n$3 Fireball shots
URL:https://stagestopsaloon.com/event/fall-darts-tournaments/
LOCATION:Stage Stop Saloon & Grill\, 611 6th Ave SE\, Mandan\, ND\, 58554\, United States
CATEGORIES:Tournaments
ATTACH;FMTTYPE=image/webp:https://stagestopsaloon.com/wp-content/uploads/2023/08/Fall-Darts-Tournaments-2023-2.webp
ORGANIZER;CN="Stage Stop Saloon & Grill":MAILTO:info@stagestopsaloon.com
END:VEVENT
BEGIN:VEVENT
DTSTART;TZID=America/North_Dakota/Center:20230922T183000
DTEND;TZID=America/North_Dakota/Center:20230923T010000
DTSTAMP:20260421T170439
CREATED:20230809T170836Z
LAST-MODIFIED:20230810T180239Z
UID:10993-1695407400-1695430800@stagestopsaloon.com
SUMMARY:Fall Darts Tournament Series
DESCRIPTION:Stage Stop is excited to put on our 7-week Fall Darts Tournament Series! Qualifying tournaments will take place every Friday from Sept. 22nd to Nov. 3rd with finals following on Nov. 10th! \n\nQUALIFIERS: Every Friday from Sept. 22nd to Nov. 3rd\nSignup @ 6:30pm\, Darts fly @ 7pm\nFINALS: Friday\, Nov. 10th\n2-person teams (High/low\, Luck of the draw)\nCost: $15 per night ($5 goes toward each night\, other $10 carried over for Finals)\n$150 added for each qualifying tournament\n$2\,100 added for Finals (plus prizes added)\nMust play in 5 of the 7 weeks to qualify for Finals\n$4 pounders\n$3 Fireball shots
URL:https://stagestopsaloon.com/event/fall-darts-tournaments/
LOCATION:Stage Stop Saloon & Grill\, 611 6th Ave SE\, Mandan\, ND\, 58554\, United States
CATEGORIES:Tournaments
ATTACH;FMTTYPE=image/webp:https://stagestopsaloon.com/wp-content/uploads/2023/08/Fall-Darts-Tournaments-2023-2.webp
ORGANIZER;CN="Stage Stop Saloon & Grill":MAILTO:info@stagestopsaloon.com
END:VEVENT
BEGIN:VEVENT
DTSTART;TZID=America/North_Dakota/Center:20230922T183000
DTEND;TZID=America/North_Dakota/Center:20230923T010000
DTSTAMP:20260421T170439
CREATED:20230809T170836Z
LAST-MODIFIED:20230810T180239Z
UID:10993-1695407400-1695430800@stagestopsaloon.com
SUMMARY:Fall Darts Tournament Series
DESCRIPTION:Stage Stop is excited to put on our 7-week Fall Darts Tournament Series! Qualifying tournaments will take place every Friday from Sept. 22nd to Nov. 3rd with finals following on Nov. 10th! \n\nQUALIFIERS: Every Friday from Sept. 22nd to Nov. 3rd\nSignup @ 6:30pm\, Darts fly @ 7pm\nFINALS: Friday\, Nov. 10th\n2-person teams (High/low\, Luck of the draw)\nCost: $15 per night ($5 goes toward each night\, other $10 carried over for Finals)\n$150 added for each qualifying tournament\n$2\,100 added for Finals (plus prizes added)\nMust play in 5 of the 7 weeks to qualify for Finals\n$4 pounders\n$3 Fireball shots
URL:https://stagestopsaloon.com/event/fall-darts-tournaments/
LOCATION:Stage Stop Saloon & Grill\, 611 6th Ave SE\, Mandan\, ND\, 58554\, United States
CATEGORIES:Tournaments
ATTACH;FMTTYPE=image/webp:https://stagestopsaloon.com/wp-content/uploads/2023/08/Fall-Darts-Tournaments-2023-2.webp
ORGANIZER;CN="Stage Stop Saloon & Grill":MAILTO:info@stagestopsaloon.com
END:VEVENT
BEGIN:VEVENT
DTSTART;TZID=America/North_Dakota/Center:20230923T143000
DTEND;TZID=America/North_Dakota/Center:20230923T220000
DTSTAMP:20260421T170439
CREATED:20230911T223203Z
LAST-MODIFIED:20230912T181942Z
UID:16315-1695479400-1695506400@stagestopsaloon.com
SUMMARY:Stage Stop Dart Teams Pre-Season Tournament
DESCRIPTION:Join us for our Stage Stop Dart Teams Pre-Season Appreciation Tournament on Sept. 23rd! \n**This is an FREE appreciation tournament is for Stage Stop Darts Teams only. Not on a Stage Stop team? There’s still time to sign up! We pay all of your state sponsorship fees\, plus you get a free t-shirt!** \nTOURNAMENT DETAILS:\n \nSIGNUP: 2:30PM\nDARTS FLY @ 3PM \n\nNO entry fee!\nFREE Chili!\n$1\,000 cash added\n2 person teams\nHigh/low\, luck of the draw
URL:https://stagestopsaloon.com/event/stage-stop-teams-darts-tournament/
LOCATION:Stage Stop Saloon & Grill\, 611 6th Ave SE\, Mandan\, ND\, 58554\, United States
CATEGORIES:Tournaments
ATTACH;FMTTYPE=image/webp:https://stagestopsaloon.com/wp-content/uploads/2023/09/Stage-Stop-Teams-Tourn-Instagram-Post-Square-2.webp
ORGANIZER;CN="Stage Stop Saloon & Grill":MAILTO:info@stagestopsaloon.com
END:VEVENT
BEGIN:VEVENT
DTSTART;TZID=America/North_Dakota/Center:20230922T183000
DTEND;TZID=America/North_Dakota/Center:20230923T010000
DTSTAMP:20260421T170439
CREATED:20230809T170836Z
LAST-MODIFIED:20230810T180239Z
UID:10993-1695407400-1695430800@stagestopsaloon.com
SUMMARY:Fall Darts Tournament Series
DESCRIPTION:Stage Stop is excited to put on our 7-week Fall Darts Tournament Series! Qualifying tournaments will take place every Friday from Sept. 22nd to Nov. 3rd with finals following on Nov. 10th! \n\nQUALIFIERS: Every Friday from Sept. 22nd to Nov. 3rd\nSignup @ 6:30pm\, Darts fly @ 7pm\nFINALS: Friday\, Nov. 10th\n2-person teams (High/low\, Luck of the draw)\nCost: $15 per night ($5 goes toward each night\, other $10 carried over for Finals)\n$150 added for each qualifying tournament\n$2\,100 added for Finals (plus prizes added)\nMust play in 5 of the 7 weeks to qualify for Finals\n$4 pounders\n$3 Fireball shots
URL:https://stagestopsaloon.com/event/fall-darts-tournaments/
LOCATION:Stage Stop Saloon & Grill\, 611 6th Ave SE\, Mandan\, ND\, 58554\, United States
CATEGORIES:Tournaments
ATTACH;FMTTYPE=image/webp:https://stagestopsaloon.com/wp-content/uploads/2023/08/Fall-Darts-Tournaments-2023-2.webp
ORGANIZER;CN="Stage Stop Saloon & Grill":MAILTO:info@stagestopsaloon.com
END:VEVENT
BEGIN:VEVENT
DTSTART;TZID=America/North_Dakota/Center:20230513T113000
DTEND;TZID=America/North_Dakota/Center:20230513T190000
DTSTAMP:20260421T170439
CREATED:20230424T194851Z
LAST-MODIFIED:20230424T194936Z
UID:9501-1683977400-1684004400@stagestopsaloon.com
SUMMARY:Hotshots Darts Tournament
DESCRIPTION:Join us for our Hotshots Darts Tournament on May 13th! \n\n\nSignup: 11:30am – 12:30pm\nDarts fly @ 1pm \n\n\n$15 entry fee\n2-person teams\nHigh/Low\, Luck of the Draw\n$500 guaranteed for 1st place\n100% payout\nSwag giveaways\n$4 Pounders\n\n\nLIVE Music w/ Fully Loaded follows Saturday night!
URL:https://stagestopsaloon.com/event/hot-shots-darts-tournament/
LOCATION:Stage Stop Saloon & Grill\, 611 6th Ave SE\, Mandan\, ND\, 58554\, United States
CATEGORIES:Tournaments
ATTACH;FMTTYPE=image/webp:https://stagestopsaloon.com/wp-content/uploads/2023/04/Hotshots-Darts-Tourn.webp
ORGANIZER;CN="Stage Stop Saloon & Grill":MAILTO:info@stagestopsaloon.com
END:VEVENT
END:VCALENDAR