BEGIN:VCALENDAR
VERSION:2.0
PRODID:-//Stage Stop Saloon &amp; Grill | Mandan-Bismarck, ND - ECPv6.15.20//NONSGML v1.0//EN
CALSCALE:GREGORIAN
METHOD:PUBLISH
X-ORIGINAL-URL:https://stagestopsaloon.com
X-WR-CALDESC:Events for Stage Stop Saloon &amp; Grill | Mandan-Bismarck, ND
REFRESH-INTERVAL;VALUE=DURATION:PT1H
X-Robots-Tag:noindex
X-PUBLISHED-TTL:PT1H
BEGIN:VTIMEZONE
TZID:America/North_Dakota/Center
BEGIN:DAYLIGHT
TZOFFSETFROM:-0600
TZOFFSETTO:-0500
TZNAME:CDT
DTSTART:20220313T080000
END:DAYLIGHT
BEGIN:STANDARD
TZOFFSETFROM:-0500
TZOFFSETTO:-0600
TZNAME:CST
DTSTART:20221106T070000
END:STANDARD
BEGIN:DAYLIGHT
TZOFFSETFROM:-0600
TZOFFSETTO:-0500
TZNAME:CDT
DTSTART:20230312T080000
END:DAYLIGHT
BEGIN:STANDARD
TZOFFSETFROM:-0500
TZOFFSETTO:-0600
TZNAME:CST
DTSTART:20231105T070000
END:STANDARD
BEGIN:DAYLIGHT
TZOFFSETFROM:-0600
TZOFFSETTO:-0500
TZNAME:CDT
DTSTART:20240310T080000
END:DAYLIGHT
BEGIN:STANDARD
TZOFFSETFROM:-0500
TZOFFSETTO:-0600
TZNAME:CST
DTSTART:20241103T070000
END:STANDARD
BEGIN:DAYLIGHT
TZOFFSETFROM:-0600
TZOFFSETTO:-0500
TZNAME:CDT
DTSTART:20250309T080000
END:DAYLIGHT
BEGIN:STANDARD
TZOFFSETFROM:-0500
TZOFFSETTO:-0600
TZNAME:CST
DTSTART:20251102T070000
END:STANDARD
BEGIN:DAYLIGHT
TZOFFSETFROM:-0600
TZOFFSETTO:-0500
TZNAME:CDT
DTSTART:20260308T080000
END:DAYLIGHT
BEGIN:STANDARD
TZOFFSETFROM:-0500
TZOFFSETTO:-0600
TZNAME:CST
DTSTART:20261101T070000
END:STANDARD
END:VTIMEZONE
BEGIN:VEVENT
DTSTART;TZID=America/North_Dakota/Center:20240823T210000
DTEND;TZID=America/North_Dakota/Center:20240824T010000
DTSTAMP:20260423T180858
CREATED:20240819T174244Z
LAST-MODIFIED:20240911T181356Z
UID:30657-1724446800-1724461200@stagestopsaloon.com
SUMMARY:Karaoke
DESCRIPTION:Step up to the mic & show us what you got – it’s Karaoke Night in Mandan with M.C. Inkster Party DJ! Join us every Friday night from 9 to close.
URL:https://stagestopsaloon.com/event/karaoke/
LOCATION:Stage Stop Saloon & Grill\, 611 6th Ave SE\, Mandan\, ND\, 58554\, United States
CATEGORIES:Karaoke
ATTACH;FMTTYPE=image/webp:https://stagestopsaloon.com/wp-content/uploads/2024/08/Karaoke-600x600-3.webp
ORGANIZER;CN="Stage Stop Saloon & Grill":MAILTO:info@stagestopsaloon.com
END:VEVENT
BEGIN:VEVENT
DTSTART;TZID=America/North_Dakota/Center:20240706T120000
DTEND;TZID=America/North_Dakota/Center:20240706T170000
DTSTAMP:20260423T180858
CREATED:20240703T173255Z
LAST-MODIFIED:20250117T205008Z
UID:29969-1720267200-1720285200@stagestopsaloon.com
SUMMARY:Saturday BINGO
DESCRIPTION:Will you be our next big winner? Join us for Saturday BINGO starting @ noon with 13 games back-to-back!  \nBINGO brought to you by the Charitable Gaming Association of North Dakota with proceeds benefiting Matpac Wrestling Club.
URL:https://stagestopsaloon.com/event/saturday-bingo-3/
LOCATION:Stage Stop Saloon & Grill\, 611 6th Ave SE\, Mandan\, ND\, 58554\, United States
CATEGORIES:Bingo
ATTACH;FMTTYPE=image/webp:https://stagestopsaloon.com/wp-content/uploads/2024/07/Copy-of-Saturday-Bingo-MatPac-FB-ad-1.webp
ORGANIZER;CN="Stage Stop Saloon & Grill":MAILTO:info@stagestopsaloon.com
END:VEVENT
BEGIN:VEVENT
DTSTART;TZID=America/North_Dakota/Center:20240707T173000
DTEND;TZID=America/North_Dakota/Center:20240707T190000
DTSTAMP:20260423T180858
CREATED:20240703T164425Z
LAST-MODIFIED:20250405T021100Z
UID:29961-1720373400-1720378800@stagestopsaloon.com
SUMMARY:Nightly BINGO
DESCRIPTION:Will you be our next big winner? Join us for Nightly BINGO every Sunday\, Tuesday\, Wednesday & Friday at 5:30pm for 4 games.  \nBINGO brought to you by the Charitable Gaming Association of North Dakota with proceeds benefiting Matpac Wrestling Club.
URL:https://stagestopsaloon.com/event/nightly-bingo-9204/
LOCATION:Stage Stop Saloon & Grill\, 611 6th Ave SE\, Mandan\, ND\, 58554\, United States
CATEGORIES:Bingo
ATTACH;FMTTYPE=image/webp:https://stagestopsaloon.com/wp-content/uploads/2024/07/Nightly-Bingo-MatPac-EVENTS-CALENDAR-2.webp
ORGANIZER;CN="Stage Stop Saloon & Grill":MAILTO:info@stagestopsaloon.com
END:VEVENT
BEGIN:VEVENT
DTSTART;TZID=America/North_Dakota/Center:20240708T173000
DTEND;TZID=America/North_Dakota/Center:20240708T193000
DTSTAMP:20260423T180858
CREATED:20240703T171959Z
LAST-MODIFIED:20250117T204409Z
UID:29965-1720459800-1720467000@stagestopsaloon.com
SUMMARY:Ultimate Jackpot BINGO!
DESCRIPTION:Join us for Ultimate Jackpot BINGO and your chance to win the biggest jackpots in town – Monday & Thursday nights at 5:30pm @ Stage Stop! 6 games with your chance at the big $10K and $20K pots! Just $21 to play \nBINGO brought to you by the Charitable Gaming Association of North Dakota with proceeds benefiting Matpac Wrestling Club.
URL:https://stagestopsaloon.com/event/ultimate-jackpot-bingo/
LOCATION:Stage Stop Saloon & Grill\, 611 6th Ave SE\, Mandan\, ND\, 58554\, United States
CATEGORIES:Bingo
ATTACH;FMTTYPE=image/webp:https://stagestopsaloon.com/wp-content/uploads/2024/07/New-UJ-Bingo-MatPac-EVENTS-CALENDAR.webp
ORGANIZER;CN="Stage Stop Saloon & Grill":MAILTO:info@stagestopsaloon.com
END:VEVENT
BEGIN:VEVENT
DTSTART;TZID=America/North_Dakota/Center:20240707T173000
DTEND;TZID=America/North_Dakota/Center:20240707T190000
DTSTAMP:20260423T180858
CREATED:20240703T164425Z
LAST-MODIFIED:20250405T021100Z
UID:29961-1720373400-1720378800@stagestopsaloon.com
SUMMARY:Nightly BINGO
DESCRIPTION:Will you be our next big winner? Join us for Nightly BINGO every Sunday\, Tuesday\, Wednesday & Friday at 5:30pm for 4 games.  \nBINGO brought to you by the Charitable Gaming Association of North Dakota with proceeds benefiting Matpac Wrestling Club.
URL:https://stagestopsaloon.com/event/nightly-bingo-9204/
LOCATION:Stage Stop Saloon & Grill\, 611 6th Ave SE\, Mandan\, ND\, 58554\, United States
CATEGORIES:Bingo
ATTACH;FMTTYPE=image/webp:https://stagestopsaloon.com/wp-content/uploads/2024/07/Nightly-Bingo-MatPac-EVENTS-CALENDAR-2.webp
ORGANIZER;CN="Stage Stop Saloon & Grill":MAILTO:info@stagestopsaloon.com
END:VEVENT
BEGIN:VEVENT
DTSTART;TZID=America/North_Dakota/Center:20241231T210000
DTEND;TZID=America/North_Dakota/Center:20250101T010000
DTSTAMP:20260423T180858
CREATED:20241112T174131Z
LAST-MODIFIED:20241112T174131Z
UID:35241-1735678800-1735693200@stagestopsaloon.com
SUMMARY:New Year's Eve Masquerade Party feat. Slow Burn
DESCRIPTION:Who’s ready to ring in 2025?! Don’t miss Stage Stop’s Annual New Year’s Eve Masquerade Party\, featuring LIVE Music with Slow Burn and all the best drinks\, dancing\, and memories!\n\n\nBalloon Drop\nPhoto Booth\nDrink Specials\nMidnight Champagne Pour\nDancing\nand more!\n\n\nGet dressed in your very best for a chance at prizes! Cheers to the new year!
URL:https://stagestopsaloon.com/event/new-years-eve-masquerade-party-feat-slow-burn/
LOCATION:Stage Stop Saloon & Grill\, 611 6th Ave SE\, Mandan\, ND\, 58554\, United States
CATEGORIES:Live Music,Parties
ATTACH;FMTTYPE=image/webp:https://stagestopsaloon.com/wp-content/uploads/2024/11/NYE-Party-2024-600x600-2-1.webp
ORGANIZER;CN="Stage Stop Saloon & Grill":MAILTO:info@stagestopsaloon.com
END:VEVENT
BEGIN:VEVENT
DTSTART;TZID=America/North_Dakota/Center:20240707T173000
DTEND;TZID=America/North_Dakota/Center:20240707T190000
DTSTAMP:20260423T180858
CREATED:20240703T164425Z
LAST-MODIFIED:20250405T021100Z
UID:29961-1720373400-1720378800@stagestopsaloon.com
SUMMARY:Nightly BINGO
DESCRIPTION:Will you be our next big winner? Join us for Nightly BINGO every Sunday\, Tuesday\, Wednesday & Friday at 5:30pm for 4 games.  \nBINGO brought to you by the Charitable Gaming Association of North Dakota with proceeds benefiting Matpac Wrestling Club.
URL:https://stagestopsaloon.com/event/nightly-bingo-9204/
LOCATION:Stage Stop Saloon & Grill\, 611 6th Ave SE\, Mandan\, ND\, 58554\, United States
CATEGORIES:Bingo
ATTACH;FMTTYPE=image/webp:https://stagestopsaloon.com/wp-content/uploads/2024/07/Nightly-Bingo-MatPac-EVENTS-CALENDAR-2.webp
ORGANIZER;CN="Stage Stop Saloon & Grill":MAILTO:info@stagestopsaloon.com
END:VEVENT
BEGIN:VEVENT
DTSTART;TZID=America/North_Dakota/Center:20230517T190000
DTEND;TZID=America/North_Dakota/Center:20230517T200000
DTSTAMP:20260423T180858
CREATED:20230424T192155Z
LAST-MODIFIED:20241112T190758Z
UID:9489-1684350000-1684353600@stagestopsaloon.com
SUMMARY:Trivia Night
DESCRIPTION:Join us for for Trivia Night w/ Trivia Takeover – Bismarck at Stage Stop every Wednesday night at 7pm! Get here early for Happy Hour from 5-7pm\, then get in on the trivia fun & an opportunity to win some great prizes.  \nTrivia categories change weekly – check out our Facebook Events Page for details. 
URL:https://stagestopsaloon.com/event/trivia-night/
LOCATION:Stage Stop Saloon & Grill\, 611 6th Ave SE\, Mandan\, ND\, 58554\, United States
CATEGORIES:Trivia
ATTACH;FMTTYPE=image/webp:https://stagestopsaloon.com/wp-content/uploads/2023/04/Trivia-Night-Web-600x600-1.webp
ORGANIZER;CN="Stage Stop Saloon & Grill":MAILTO:info@stagestopsaloon.com
END:VEVENT
BEGIN:VEVENT
DTSTART;TZID=America/North_Dakota/Center:20240708T173000
DTEND;TZID=America/North_Dakota/Center:20240708T193000
DTSTAMP:20260423T180858
CREATED:20240703T171959Z
LAST-MODIFIED:20250117T204409Z
UID:29965-1720459800-1720467000@stagestopsaloon.com
SUMMARY:Ultimate Jackpot BINGO!
DESCRIPTION:Join us for Ultimate Jackpot BINGO and your chance to win the biggest jackpots in town – Monday & Thursday nights at 5:30pm @ Stage Stop! 6 games with your chance at the big $10K and $20K pots! Just $21 to play \nBINGO brought to you by the Charitable Gaming Association of North Dakota with proceeds benefiting Matpac Wrestling Club.
URL:https://stagestopsaloon.com/event/ultimate-jackpot-bingo/
LOCATION:Stage Stop Saloon & Grill\, 611 6th Ave SE\, Mandan\, ND\, 58554\, United States
CATEGORIES:Bingo
ATTACH;FMTTYPE=image/webp:https://stagestopsaloon.com/wp-content/uploads/2024/07/New-UJ-Bingo-MatPac-EVENTS-CALENDAR.webp
ORGANIZER;CN="Stage Stop Saloon & Grill":MAILTO:info@stagestopsaloon.com
END:VEVENT
BEGIN:VEVENT
DTSTART;TZID=America/North_Dakota/Center:20240707T173000
DTEND;TZID=America/North_Dakota/Center:20240707T190000
DTSTAMP:20260423T180858
CREATED:20240703T164425Z
LAST-MODIFIED:20250405T021100Z
UID:29961-1720373400-1720378800@stagestopsaloon.com
SUMMARY:Nightly BINGO
DESCRIPTION:Will you be our next big winner? Join us for Nightly BINGO every Sunday\, Tuesday\, Wednesday & Friday at 5:30pm for 4 games.  \nBINGO brought to you by the Charitable Gaming Association of North Dakota with proceeds benefiting Matpac Wrestling Club.
URL:https://stagestopsaloon.com/event/nightly-bingo-9204/
LOCATION:Stage Stop Saloon & Grill\, 611 6th Ave SE\, Mandan\, ND\, 58554\, United States
CATEGORIES:Bingo
ATTACH;FMTTYPE=image/webp:https://stagestopsaloon.com/wp-content/uploads/2024/07/Nightly-Bingo-MatPac-EVENTS-CALENDAR-2.webp
ORGANIZER;CN="Stage Stop Saloon & Grill":MAILTO:info@stagestopsaloon.com
END:VEVENT
BEGIN:VEVENT
DTSTART;TZID=America/North_Dakota/Center:20240823T210000
DTEND;TZID=America/North_Dakota/Center:20240824T010000
DTSTAMP:20260423T180858
CREATED:20240819T174244Z
LAST-MODIFIED:20240911T181356Z
UID:30657-1724446800-1724461200@stagestopsaloon.com
SUMMARY:Karaoke
DESCRIPTION:Step up to the mic & show us what you got – it’s Karaoke Night in Mandan with M.C. Inkster Party DJ! Join us every Friday night from 9 to close.
URL:https://stagestopsaloon.com/event/karaoke/
LOCATION:Stage Stop Saloon & Grill\, 611 6th Ave SE\, Mandan\, ND\, 58554\, United States
CATEGORIES:Karaoke
ATTACH;FMTTYPE=image/webp:https://stagestopsaloon.com/wp-content/uploads/2024/08/Karaoke-600x600-3.webp
ORGANIZER;CN="Stage Stop Saloon & Grill":MAILTO:info@stagestopsaloon.com
END:VEVENT
BEGIN:VEVENT
DTSTART;TZID=America/North_Dakota/Center:20250104T113000
DTEND;TZID=America/North_Dakota/Center:20250104T190000
DTSTAMP:20260423T180858
CREATED:20241203T203937Z
LAST-MODIFIED:20241203T204045Z
UID:35501-1735990200-1736017200@stagestopsaloon.com
SUMMARY:New Year's Dart Tournament
DESCRIPTION:Join us for our New Year’s Dart Tournament on Saturday\, Jan. 4th!\n \n\n\nSignup: 11:30-12:30pm\nDarts fly @ 1pm\n$10 entry fee\n2-person teams\nHigh/Low\, Luck of the Draw\n150% Payback\n$4 Pounders
URL:https://stagestopsaloon.com/event/new-years-dart-tournament/
LOCATION:Stage Stop Saloon & Grill\, 611 6th Ave SE\, Mandan\, ND\, 58554\, United States
CATEGORIES:Tournaments
ATTACH;FMTTYPE=image/webp:https://stagestopsaloon.com/wp-content/uploads/2024/12/Stage-Stop-New-Years-Darts-600X600.webp
ORGANIZER;CN="Stage Stop Saloon & Grill":MAILTO:info@stagestopsaloon.com
END:VEVENT
BEGIN:VEVENT
DTSTART;TZID=America/North_Dakota/Center:20240706T120000
DTEND;TZID=America/North_Dakota/Center:20240706T170000
DTSTAMP:20260423T180858
CREATED:20240703T173255Z
LAST-MODIFIED:20250117T205008Z
UID:29969-1720267200-1720285200@stagestopsaloon.com
SUMMARY:Saturday BINGO
DESCRIPTION:Will you be our next big winner? Join us for Saturday BINGO starting @ noon with 13 games back-to-back!  \nBINGO brought to you by the Charitable Gaming Association of North Dakota with proceeds benefiting Matpac Wrestling Club.
URL:https://stagestopsaloon.com/event/saturday-bingo-3/
LOCATION:Stage Stop Saloon & Grill\, 611 6th Ave SE\, Mandan\, ND\, 58554\, United States
CATEGORIES:Bingo
ATTACH;FMTTYPE=image/webp:https://stagestopsaloon.com/wp-content/uploads/2024/07/Copy-of-Saturday-Bingo-MatPac-FB-ad-1.webp
ORGANIZER;CN="Stage Stop Saloon & Grill":MAILTO:info@stagestopsaloon.com
END:VEVENT
BEGIN:VEVENT
DTSTART;TZID=America/North_Dakota/Center:20240707T173000
DTEND;TZID=America/North_Dakota/Center:20240707T190000
DTSTAMP:20260423T180858
CREATED:20240703T164425Z
LAST-MODIFIED:20250405T021100Z
UID:29961-1720373400-1720378800@stagestopsaloon.com
SUMMARY:Nightly BINGO
DESCRIPTION:Will you be our next big winner? Join us for Nightly BINGO every Sunday\, Tuesday\, Wednesday & Friday at 5:30pm for 4 games.  \nBINGO brought to you by the Charitable Gaming Association of North Dakota with proceeds benefiting Matpac Wrestling Club.
URL:https://stagestopsaloon.com/event/nightly-bingo-9204/
LOCATION:Stage Stop Saloon & Grill\, 611 6th Ave SE\, Mandan\, ND\, 58554\, United States
CATEGORIES:Bingo
ATTACH;FMTTYPE=image/webp:https://stagestopsaloon.com/wp-content/uploads/2024/07/Nightly-Bingo-MatPac-EVENTS-CALENDAR-2.webp
ORGANIZER;CN="Stage Stop Saloon & Grill":MAILTO:info@stagestopsaloon.com
END:VEVENT
BEGIN:VEVENT
DTSTART;TZID=America/North_Dakota/Center:20240708T173000
DTEND;TZID=America/North_Dakota/Center:20240708T193000
DTSTAMP:20260423T180858
CREATED:20240703T171959Z
LAST-MODIFIED:20250117T204409Z
UID:29965-1720459800-1720467000@stagestopsaloon.com
SUMMARY:Ultimate Jackpot BINGO!
DESCRIPTION:Join us for Ultimate Jackpot BINGO and your chance to win the biggest jackpots in town – Monday & Thursday nights at 5:30pm @ Stage Stop! 6 games with your chance at the big $10K and $20K pots! Just $21 to play \nBINGO brought to you by the Charitable Gaming Association of North Dakota with proceeds benefiting Matpac Wrestling Club.
URL:https://stagestopsaloon.com/event/ultimate-jackpot-bingo/
LOCATION:Stage Stop Saloon & Grill\, 611 6th Ave SE\, Mandan\, ND\, 58554\, United States
CATEGORIES:Bingo
ATTACH;FMTTYPE=image/webp:https://stagestopsaloon.com/wp-content/uploads/2024/07/New-UJ-Bingo-MatPac-EVENTS-CALENDAR.webp
ORGANIZER;CN="Stage Stop Saloon & Grill":MAILTO:info@stagestopsaloon.com
END:VEVENT
BEGIN:VEVENT
DTSTART;TZID=America/North_Dakota/Center:20240707T173000
DTEND;TZID=America/North_Dakota/Center:20240707T190000
DTSTAMP:20260423T180858
CREATED:20240703T164425Z
LAST-MODIFIED:20250405T021100Z
UID:29961-1720373400-1720378800@stagestopsaloon.com
SUMMARY:Nightly BINGO
DESCRIPTION:Will you be our next big winner? Join us for Nightly BINGO every Sunday\, Tuesday\, Wednesday & Friday at 5:30pm for 4 games.  \nBINGO brought to you by the Charitable Gaming Association of North Dakota with proceeds benefiting Matpac Wrestling Club.
URL:https://stagestopsaloon.com/event/nightly-bingo-9204/
LOCATION:Stage Stop Saloon & Grill\, 611 6th Ave SE\, Mandan\, ND\, 58554\, United States
CATEGORIES:Bingo
ATTACH;FMTTYPE=image/webp:https://stagestopsaloon.com/wp-content/uploads/2024/07/Nightly-Bingo-MatPac-EVENTS-CALENDAR-2.webp
ORGANIZER;CN="Stage Stop Saloon & Grill":MAILTO:info@stagestopsaloon.com
END:VEVENT
BEGIN:VEVENT
DTSTART;TZID=America/North_Dakota/Center:20240707T173000
DTEND;TZID=America/North_Dakota/Center:20240707T190000
DTSTAMP:20260423T180858
CREATED:20240703T164425Z
LAST-MODIFIED:20250405T021100Z
UID:29961-1720373400-1720378800@stagestopsaloon.com
SUMMARY:Nightly BINGO
DESCRIPTION:Will you be our next big winner? Join us for Nightly BINGO every Sunday\, Tuesday\, Wednesday & Friday at 5:30pm for 4 games.  \nBINGO brought to you by the Charitable Gaming Association of North Dakota with proceeds benefiting Matpac Wrestling Club.
URL:https://stagestopsaloon.com/event/nightly-bingo-9204/
LOCATION:Stage Stop Saloon & Grill\, 611 6th Ave SE\, Mandan\, ND\, 58554\, United States
CATEGORIES:Bingo
ATTACH;FMTTYPE=image/webp:https://stagestopsaloon.com/wp-content/uploads/2024/07/Nightly-Bingo-MatPac-EVENTS-CALENDAR-2.webp
ORGANIZER;CN="Stage Stop Saloon & Grill":MAILTO:info@stagestopsaloon.com
END:VEVENT
BEGIN:VEVENT
DTSTART;TZID=America/North_Dakota/Center:20230517T190000
DTEND;TZID=America/North_Dakota/Center:20230517T200000
DTSTAMP:20260423T180858
CREATED:20230424T192155Z
LAST-MODIFIED:20241112T190758Z
UID:9489-1684350000-1684353600@stagestopsaloon.com
SUMMARY:Trivia Night
DESCRIPTION:Join us for for Trivia Night w/ Trivia Takeover – Bismarck at Stage Stop every Wednesday night at 7pm! Get here early for Happy Hour from 5-7pm\, then get in on the trivia fun & an opportunity to win some great prizes.  \nTrivia categories change weekly – check out our Facebook Events Page for details. 
URL:https://stagestopsaloon.com/event/trivia-night/
LOCATION:Stage Stop Saloon & Grill\, 611 6th Ave SE\, Mandan\, ND\, 58554\, United States
CATEGORIES:Trivia
ATTACH;FMTTYPE=image/webp:https://stagestopsaloon.com/wp-content/uploads/2023/04/Trivia-Night-Web-600x600-1.webp
ORGANIZER;CN="Stage Stop Saloon & Grill":MAILTO:info@stagestopsaloon.com
END:VEVENT
BEGIN:VEVENT
DTSTART;TZID=America/North_Dakota/Center:20240708T173000
DTEND;TZID=America/North_Dakota/Center:20240708T193000
DTSTAMP:20260423T180858
CREATED:20240703T171959Z
LAST-MODIFIED:20250117T204409Z
UID:29965-1720459800-1720467000@stagestopsaloon.com
SUMMARY:Ultimate Jackpot BINGO!
DESCRIPTION:Join us for Ultimate Jackpot BINGO and your chance to win the biggest jackpots in town – Monday & Thursday nights at 5:30pm @ Stage Stop! 6 games with your chance at the big $10K and $20K pots! Just $21 to play \nBINGO brought to you by the Charitable Gaming Association of North Dakota with proceeds benefiting Matpac Wrestling Club.
URL:https://stagestopsaloon.com/event/ultimate-jackpot-bingo/
LOCATION:Stage Stop Saloon & Grill\, 611 6th Ave SE\, Mandan\, ND\, 58554\, United States
CATEGORIES:Bingo
ATTACH;FMTTYPE=image/webp:https://stagestopsaloon.com/wp-content/uploads/2024/07/New-UJ-Bingo-MatPac-EVENTS-CALENDAR.webp
ORGANIZER;CN="Stage Stop Saloon & Grill":MAILTO:info@stagestopsaloon.com
END:VEVENT
BEGIN:VEVENT
DTSTART;TZID=America/North_Dakota/Center:20240707T173000
DTEND;TZID=America/North_Dakota/Center:20240707T190000
DTSTAMP:20260423T180858
CREATED:20240703T164425Z
LAST-MODIFIED:20250405T021100Z
UID:29961-1720373400-1720378800@stagestopsaloon.com
SUMMARY:Nightly BINGO
DESCRIPTION:Will you be our next big winner? Join us for Nightly BINGO every Sunday\, Tuesday\, Wednesday & Friday at 5:30pm for 4 games.  \nBINGO brought to you by the Charitable Gaming Association of North Dakota with proceeds benefiting Matpac Wrestling Club.
URL:https://stagestopsaloon.com/event/nightly-bingo-9204/
LOCATION:Stage Stop Saloon & Grill\, 611 6th Ave SE\, Mandan\, ND\, 58554\, United States
CATEGORIES:Bingo
ATTACH;FMTTYPE=image/webp:https://stagestopsaloon.com/wp-content/uploads/2024/07/Nightly-Bingo-MatPac-EVENTS-CALENDAR-2.webp
ORGANIZER;CN="Stage Stop Saloon & Grill":MAILTO:info@stagestopsaloon.com
END:VEVENT
BEGIN:VEVENT
DTSTART;TZID=America/North_Dakota/Center:20240823T210000
DTEND;TZID=America/North_Dakota/Center:20240824T010000
DTSTAMP:20260423T180858
CREATED:20240819T174244Z
LAST-MODIFIED:20240911T181356Z
UID:30657-1724446800-1724461200@stagestopsaloon.com
SUMMARY:Karaoke
DESCRIPTION:Step up to the mic & show us what you got – it’s Karaoke Night in Mandan with M.C. Inkster Party DJ! Join us every Friday night from 9 to close.
URL:https://stagestopsaloon.com/event/karaoke/
LOCATION:Stage Stop Saloon & Grill\, 611 6th Ave SE\, Mandan\, ND\, 58554\, United States
CATEGORIES:Karaoke
ATTACH;FMTTYPE=image/webp:https://stagestopsaloon.com/wp-content/uploads/2024/08/Karaoke-600x600-3.webp
ORGANIZER;CN="Stage Stop Saloon & Grill":MAILTO:info@stagestopsaloon.com
END:VEVENT
BEGIN:VEVENT
DTSTART;TZID=America/North_Dakota/Center:20240706T120000
DTEND;TZID=America/North_Dakota/Center:20240706T170000
DTSTAMP:20260423T180858
CREATED:20240703T173255Z
LAST-MODIFIED:20250117T205008Z
UID:29969-1720267200-1720285200@stagestopsaloon.com
SUMMARY:Saturday BINGO
DESCRIPTION:Will you be our next big winner? Join us for Saturday BINGO starting @ noon with 13 games back-to-back!  \nBINGO brought to you by the Charitable Gaming Association of North Dakota with proceeds benefiting Matpac Wrestling Club.
URL:https://stagestopsaloon.com/event/saturday-bingo-3/
LOCATION:Stage Stop Saloon & Grill\, 611 6th Ave SE\, Mandan\, ND\, 58554\, United States
CATEGORIES:Bingo
ATTACH;FMTTYPE=image/webp:https://stagestopsaloon.com/wp-content/uploads/2024/07/Copy-of-Saturday-Bingo-MatPac-FB-ad-1.webp
ORGANIZER;CN="Stage Stop Saloon & Grill":MAILTO:info@stagestopsaloon.com
END:VEVENT
BEGIN:VEVENT
DTSTART;TZID=America/North_Dakota/Center:20240707T173000
DTEND;TZID=America/North_Dakota/Center:20240707T190000
DTSTAMP:20260423T180858
CREATED:20240703T164425Z
LAST-MODIFIED:20250405T021100Z
UID:29961-1720373400-1720378800@stagestopsaloon.com
SUMMARY:Nightly BINGO
DESCRIPTION:Will you be our next big winner? Join us for Nightly BINGO every Sunday\, Tuesday\, Wednesday & Friday at 5:30pm for 4 games.  \nBINGO brought to you by the Charitable Gaming Association of North Dakota with proceeds benefiting Matpac Wrestling Club.
URL:https://stagestopsaloon.com/event/nightly-bingo-9204/
LOCATION:Stage Stop Saloon & Grill\, 611 6th Ave SE\, Mandan\, ND\, 58554\, United States
CATEGORIES:Bingo
ATTACH;FMTTYPE=image/webp:https://stagestopsaloon.com/wp-content/uploads/2024/07/Nightly-Bingo-MatPac-EVENTS-CALENDAR-2.webp
ORGANIZER;CN="Stage Stop Saloon & Grill":MAILTO:info@stagestopsaloon.com
END:VEVENT
BEGIN:VEVENT
DTSTART;TZID=America/North_Dakota/Center:20240708T173000
DTEND;TZID=America/North_Dakota/Center:20240708T193000
DTSTAMP:20260423T180858
CREATED:20240703T171959Z
LAST-MODIFIED:20250117T204409Z
UID:29965-1720459800-1720467000@stagestopsaloon.com
SUMMARY:Ultimate Jackpot BINGO!
DESCRIPTION:Join us for Ultimate Jackpot BINGO and your chance to win the biggest jackpots in town – Monday & Thursday nights at 5:30pm @ Stage Stop! 6 games with your chance at the big $10K and $20K pots! Just $21 to play \nBINGO brought to you by the Charitable Gaming Association of North Dakota with proceeds benefiting Matpac Wrestling Club.
URL:https://stagestopsaloon.com/event/ultimate-jackpot-bingo/
LOCATION:Stage Stop Saloon & Grill\, 611 6th Ave SE\, Mandan\, ND\, 58554\, United States
CATEGORIES:Bingo
ATTACH;FMTTYPE=image/webp:https://stagestopsaloon.com/wp-content/uploads/2024/07/New-UJ-Bingo-MatPac-EVENTS-CALENDAR.webp
ORGANIZER;CN="Stage Stop Saloon & Grill":MAILTO:info@stagestopsaloon.com
END:VEVENT
BEGIN:VEVENT
DTSTART;TZID=America/North_Dakota/Center:20240707T173000
DTEND;TZID=America/North_Dakota/Center:20240707T190000
DTSTAMP:20260423T180858
CREATED:20240703T164425Z
LAST-MODIFIED:20250405T021100Z
UID:29961-1720373400-1720378800@stagestopsaloon.com
SUMMARY:Nightly BINGO
DESCRIPTION:Will you be our next big winner? Join us for Nightly BINGO every Sunday\, Tuesday\, Wednesday & Friday at 5:30pm for 4 games.  \nBINGO brought to you by the Charitable Gaming Association of North Dakota with proceeds benefiting Matpac Wrestling Club.
URL:https://stagestopsaloon.com/event/nightly-bingo-9204/
LOCATION:Stage Stop Saloon & Grill\, 611 6th Ave SE\, Mandan\, ND\, 58554\, United States
CATEGORIES:Bingo
ATTACH;FMTTYPE=image/webp:https://stagestopsaloon.com/wp-content/uploads/2024/07/Nightly-Bingo-MatPac-EVENTS-CALENDAR-2.webp
ORGANIZER;CN="Stage Stop Saloon & Grill":MAILTO:info@stagestopsaloon.com
END:VEVENT
BEGIN:VEVENT
DTSTART;TZID=America/North_Dakota/Center:20240707T173000
DTEND;TZID=America/North_Dakota/Center:20240707T190000
DTSTAMP:20260423T180858
CREATED:20240703T164425Z
LAST-MODIFIED:20250405T021100Z
UID:29961-1720373400-1720378800@stagestopsaloon.com
SUMMARY:Nightly BINGO
DESCRIPTION:Will you be our next big winner? Join us for Nightly BINGO every Sunday\, Tuesday\, Wednesday & Friday at 5:30pm for 4 games.  \nBINGO brought to you by the Charitable Gaming Association of North Dakota with proceeds benefiting Matpac Wrestling Club.
URL:https://stagestopsaloon.com/event/nightly-bingo-9204/
LOCATION:Stage Stop Saloon & Grill\, 611 6th Ave SE\, Mandan\, ND\, 58554\, United States
CATEGORIES:Bingo
ATTACH;FMTTYPE=image/webp:https://stagestopsaloon.com/wp-content/uploads/2024/07/Nightly-Bingo-MatPac-EVENTS-CALENDAR-2.webp
ORGANIZER;CN="Stage Stop Saloon & Grill":MAILTO:info@stagestopsaloon.com
END:VEVENT
BEGIN:VEVENT
DTSTART;TZID=America/North_Dakota/Center:20230517T190000
DTEND;TZID=America/North_Dakota/Center:20230517T200000
DTSTAMP:20260423T180858
CREATED:20230424T192155Z
LAST-MODIFIED:20241112T190758Z
UID:9489-1684350000-1684353600@stagestopsaloon.com
SUMMARY:Trivia Night
DESCRIPTION:Join us for for Trivia Night w/ Trivia Takeover – Bismarck at Stage Stop every Wednesday night at 7pm! Get here early for Happy Hour from 5-7pm\, then get in on the trivia fun & an opportunity to win some great prizes.  \nTrivia categories change weekly – check out our Facebook Events Page for details. 
URL:https://stagestopsaloon.com/event/trivia-night/
LOCATION:Stage Stop Saloon & Grill\, 611 6th Ave SE\, Mandan\, ND\, 58554\, United States
CATEGORIES:Trivia
ATTACH;FMTTYPE=image/webp:https://stagestopsaloon.com/wp-content/uploads/2023/04/Trivia-Night-Web-600x600-1.webp
ORGANIZER;CN="Stage Stop Saloon & Grill":MAILTO:info@stagestopsaloon.com
END:VEVENT
BEGIN:VEVENT
DTSTART;TZID=America/North_Dakota/Center:20240708T173000
DTEND;TZID=America/North_Dakota/Center:20240708T193000
DTSTAMP:20260423T180858
CREATED:20240703T171959Z
LAST-MODIFIED:20250117T204409Z
UID:29965-1720459800-1720467000@stagestopsaloon.com
SUMMARY:Ultimate Jackpot BINGO!
DESCRIPTION:Join us for Ultimate Jackpot BINGO and your chance to win the biggest jackpots in town – Monday & Thursday nights at 5:30pm @ Stage Stop! 6 games with your chance at the big $10K and $20K pots! Just $21 to play \nBINGO brought to you by the Charitable Gaming Association of North Dakota with proceeds benefiting Matpac Wrestling Club.
URL:https://stagestopsaloon.com/event/ultimate-jackpot-bingo/
LOCATION:Stage Stop Saloon & Grill\, 611 6th Ave SE\, Mandan\, ND\, 58554\, United States
CATEGORIES:Bingo
ATTACH;FMTTYPE=image/webp:https://stagestopsaloon.com/wp-content/uploads/2024/07/New-UJ-Bingo-MatPac-EVENTS-CALENDAR.webp
ORGANIZER;CN="Stage Stop Saloon & Grill":MAILTO:info@stagestopsaloon.com
END:VEVENT
BEGIN:VEVENT
DTSTART;TZID=America/North_Dakota/Center:20240707T173000
DTEND;TZID=America/North_Dakota/Center:20240707T190000
DTSTAMP:20260423T180858
CREATED:20240703T164425Z
LAST-MODIFIED:20250405T021100Z
UID:29961-1720373400-1720378800@stagestopsaloon.com
SUMMARY:Nightly BINGO
DESCRIPTION:Will you be our next big winner? Join us for Nightly BINGO every Sunday\, Tuesday\, Wednesday & Friday at 5:30pm for 4 games.  \nBINGO brought to you by the Charitable Gaming Association of North Dakota with proceeds benefiting Matpac Wrestling Club.
URL:https://stagestopsaloon.com/event/nightly-bingo-9204/
LOCATION:Stage Stop Saloon & Grill\, 611 6th Ave SE\, Mandan\, ND\, 58554\, United States
CATEGORIES:Bingo
ATTACH;FMTTYPE=image/webp:https://stagestopsaloon.com/wp-content/uploads/2024/07/Nightly-Bingo-MatPac-EVENTS-CALENDAR-2.webp
ORGANIZER;CN="Stage Stop Saloon & Grill":MAILTO:info@stagestopsaloon.com
END:VEVENT
BEGIN:VEVENT
DTSTART;TZID=America/North_Dakota/Center:20240823T210000
DTEND;TZID=America/North_Dakota/Center:20240824T010000
DTSTAMP:20260423T180858
CREATED:20240819T174244Z
LAST-MODIFIED:20240911T181356Z
UID:30657-1724446800-1724461200@stagestopsaloon.com
SUMMARY:Karaoke
DESCRIPTION:Step up to the mic & show us what you got – it’s Karaoke Night in Mandan with M.C. Inkster Party DJ! Join us every Friday night from 9 to close.
URL:https://stagestopsaloon.com/event/karaoke/
LOCATION:Stage Stop Saloon & Grill\, 611 6th Ave SE\, Mandan\, ND\, 58554\, United States
CATEGORIES:Karaoke
ATTACH;FMTTYPE=image/webp:https://stagestopsaloon.com/wp-content/uploads/2024/08/Karaoke-600x600-3.webp
ORGANIZER;CN="Stage Stop Saloon & Grill":MAILTO:info@stagestopsaloon.com
END:VEVENT
END:VCALENDAR