BEGIN:VCALENDAR
VERSION:2.0
PRODID:-//Stage Stop Saloon &amp; Grill | Mandan-Bismarck, ND - ECPv6.15.20//NONSGML v1.0//EN
CALSCALE:GREGORIAN
METHOD:PUBLISH
X-WR-CALNAME:Stage Stop Saloon &amp; Grill | Mandan-Bismarck, ND
X-ORIGINAL-URL:https://stagestopsaloon.com
X-WR-CALDESC:Events for Stage Stop Saloon &amp; Grill | Mandan-Bismarck, ND
REFRESH-INTERVAL;VALUE=DURATION:PT1H
X-Robots-Tag:noindex
X-PUBLISHED-TTL:PT1H
BEGIN:VTIMEZONE
TZID:America/North_Dakota/Center
BEGIN:DAYLIGHT
TZOFFSETFROM:-0600
TZOFFSETTO:-0500
TZNAME:CDT
DTSTART:20220313T080000
END:DAYLIGHT
BEGIN:STANDARD
TZOFFSETFROM:-0500
TZOFFSETTO:-0600
TZNAME:CST
DTSTART:20221106T070000
END:STANDARD
BEGIN:DAYLIGHT
TZOFFSETFROM:-0600
TZOFFSETTO:-0500
TZNAME:CDT
DTSTART:20230312T080000
END:DAYLIGHT
BEGIN:STANDARD
TZOFFSETFROM:-0500
TZOFFSETTO:-0600
TZNAME:CST
DTSTART:20231105T070000
END:STANDARD
BEGIN:DAYLIGHT
TZOFFSETFROM:-0600
TZOFFSETTO:-0500
TZNAME:CDT
DTSTART:20240310T080000
END:DAYLIGHT
BEGIN:STANDARD
TZOFFSETFROM:-0500
TZOFFSETTO:-0600
TZNAME:CST
DTSTART:20241103T070000
END:STANDARD
END:VTIMEZONE
BEGIN:VEVENT
DTSTART;TZID=America/North_Dakota/Center:20230502T183000
DTEND;TZID=America/North_Dakota/Center:20230502T200000
DTSTAMP:20260421T163533
CREATED:20231004T202849Z
LAST-MODIFIED:20231004T202849Z
UID:21042-1683052200-1683057600@stagestopsaloon.com
SUMMARY:Nightly BINGO
DESCRIPTION:Join us for Nightly Bingo in Mandan every night Sunday through Friday starting at 6:30 pm! Three rounds of bingo and a chance to win big cash!
URL:https://stagestopsaloon.com/event/nightly-bingo-5236/
LOCATION:Stage Stop Saloon & Grill\, 611 6th Ave SE\, Mandan\, ND\, 58554\, United States
CATEGORIES:Bingo
ATTACH;FMTTYPE=image/webp:https://stagestopsaloon.com/wp-content/uploads/2023/04/Nightly-Bingo.webp
ORGANIZER;CN="Stage Stop Saloon & Grill":MAILTO:info@stagestopsaloon.com
END:VEVENT
BEGIN:VEVENT
DTSTART;TZID=America/North_Dakota/Center:20230502T183000
DTEND;TZID=America/North_Dakota/Center:20230502T200000
DTSTAMP:20260421T163533
CREATED:20231004T201617Z
LAST-MODIFIED:20231004T201617Z
UID:21040-1683052200-1683057600@stagestopsaloon.com
SUMMARY:Nightly BINGO
DESCRIPTION:Join us for Nightly Bingo in Mandan every night Sunday through Friday starting at 6:30 pm! Three rounds of bingo and a chance to win big cash!
URL:https://stagestopsaloon.com/event/nightly-bingo-5235/
LOCATION:Stage Stop Saloon & Grill\, 611 6th Ave SE\, Mandan\, ND\, 58554\, United States
CATEGORIES:Bingo
ATTACH;FMTTYPE=image/webp:https://stagestopsaloon.com/wp-content/uploads/2023/04/Nightly-Bingo.webp
ORGANIZER;CN="Stage Stop Saloon & Grill":MAILTO:info@stagestopsaloon.com
END:VEVENT
BEGIN:VEVENT
DTSTART;TZID=America/North_Dakota/Center:20230502T183000
DTEND;TZID=America/North_Dakota/Center:20230502T200000
DTSTAMP:20260421T163533
CREATED:20231004T200336Z
LAST-MODIFIED:20231004T200336Z
UID:21038-1683052200-1683057600@stagestopsaloon.com
SUMMARY:Nightly BINGO
DESCRIPTION:Join us for Nightly Bingo in Mandan every night Sunday through Friday starting at 6:30 pm! Three rounds of bingo and a chance to win big cash!
URL:https://stagestopsaloon.com/event/nightly-bingo-5234/
LOCATION:Stage Stop Saloon & Grill\, 611 6th Ave SE\, Mandan\, ND\, 58554\, United States
CATEGORIES:Bingo
ATTACH;FMTTYPE=image/webp:https://stagestopsaloon.com/wp-content/uploads/2023/04/Nightly-Bingo.webp
ORGANIZER;CN="Stage Stop Saloon & Grill":MAILTO:info@stagestopsaloon.com
END:VEVENT
BEGIN:VEVENT
DTSTART;TZID=America/North_Dakota/Center:20230502T183000
DTEND;TZID=America/North_Dakota/Center:20230502T200000
DTSTAMP:20260421T163533
CREATED:20231004T195539Z
LAST-MODIFIED:20231004T195539Z
UID:21036-1683052200-1683057600@stagestopsaloon.com
SUMMARY:Nightly BINGO
DESCRIPTION:Join us for Nightly Bingo in Mandan every night Sunday through Friday starting at 6:30 pm! Three rounds of bingo and a chance to win big cash!
URL:https://stagestopsaloon.com/event/nightly-bingo-5233/
LOCATION:Stage Stop Saloon & Grill\, 611 6th Ave SE\, Mandan\, ND\, 58554\, United States
CATEGORIES:Bingo
ATTACH;FMTTYPE=image/webp:https://stagestopsaloon.com/wp-content/uploads/2023/04/Nightly-Bingo.webp
ORGANIZER;CN="Stage Stop Saloon & Grill":MAILTO:info@stagestopsaloon.com
END:VEVENT
BEGIN:VEVENT
DTSTART;TZID=America/North_Dakota/Center:20230502T183000
DTEND;TZID=America/North_Dakota/Center:20230502T200000
DTSTAMP:20260421T163533
CREATED:20231004T194529Z
LAST-MODIFIED:20231004T194529Z
UID:21034-1683052200-1683057600@stagestopsaloon.com
SUMMARY:Nightly BINGO
DESCRIPTION:Join us for Nightly Bingo in Mandan every night Sunday through Friday starting at 6:30 pm! Three rounds of bingo and a chance to win big cash!
URL:https://stagestopsaloon.com/event/nightly-bingo-5232/
LOCATION:Stage Stop Saloon & Grill\, 611 6th Ave SE\, Mandan\, ND\, 58554\, United States
CATEGORIES:Bingo
ATTACH;FMTTYPE=image/webp:https://stagestopsaloon.com/wp-content/uploads/2023/04/Nightly-Bingo.webp
ORGANIZER;CN="Stage Stop Saloon & Grill":MAILTO:info@stagestopsaloon.com
END:VEVENT
BEGIN:VEVENT
DTSTART;TZID=America/North_Dakota/Center:20230502T183000
DTEND;TZID=America/North_Dakota/Center:20230502T200000
DTSTAMP:20260421T163533
CREATED:20231004T193208Z
LAST-MODIFIED:20231004T193208Z
UID:21032-1683052200-1683057600@stagestopsaloon.com
SUMMARY:Nightly BINGO
DESCRIPTION:Join us for Nightly Bingo in Mandan every night Sunday through Friday starting at 6:30 pm! Three rounds of bingo and a chance to win big cash!
URL:https://stagestopsaloon.com/event/nightly-bingo-5231/
LOCATION:Stage Stop Saloon & Grill\, 611 6th Ave SE\, Mandan\, ND\, 58554\, United States
CATEGORIES:Bingo
ATTACH;FMTTYPE=image/webp:https://stagestopsaloon.com/wp-content/uploads/2023/04/Nightly-Bingo.webp
ORGANIZER;CN="Stage Stop Saloon & Grill":MAILTO:info@stagestopsaloon.com
END:VEVENT
BEGIN:VEVENT
DTSTART;TZID=America/North_Dakota/Center:20230502T183000
DTEND;TZID=America/North_Dakota/Center:20230502T200000
DTSTAMP:20260421T163533
CREATED:20231004T191855Z
LAST-MODIFIED:20231004T191855Z
UID:21030-1683052200-1683057600@stagestopsaloon.com
SUMMARY:Nightly BINGO
DESCRIPTION:Join us for Nightly Bingo in Mandan every night Sunday through Friday starting at 6:30 pm! Three rounds of bingo and a chance to win big cash!
URL:https://stagestopsaloon.com/event/nightly-bingo-5230/
LOCATION:Stage Stop Saloon & Grill\, 611 6th Ave SE\, Mandan\, ND\, 58554\, United States
CATEGORIES:Bingo
ATTACH;FMTTYPE=image/webp:https://stagestopsaloon.com/wp-content/uploads/2023/04/Nightly-Bingo.webp
ORGANIZER;CN="Stage Stop Saloon & Grill":MAILTO:info@stagestopsaloon.com
END:VEVENT
BEGIN:VEVENT
DTSTART;TZID=America/North_Dakota/Center:20230502T183000
DTEND;TZID=America/North_Dakota/Center:20230502T200000
DTSTAMP:20260421T163533
CREATED:20231004T184230Z
LAST-MODIFIED:20231004T184230Z
UID:21028-1683052200-1683057600@stagestopsaloon.com
SUMMARY:Nightly BINGO
DESCRIPTION:Join us for Nightly Bingo in Mandan every night Sunday through Friday starting at 6:30 pm! Three rounds of bingo and a chance to win big cash!
URL:https://stagestopsaloon.com/event/nightly-bingo-5229/
LOCATION:Stage Stop Saloon & Grill\, 611 6th Ave SE\, Mandan\, ND\, 58554\, United States
CATEGORIES:Bingo
ATTACH;FMTTYPE=image/webp:https://stagestopsaloon.com/wp-content/uploads/2023/04/Nightly-Bingo.webp
ORGANIZER;CN="Stage Stop Saloon & Grill":MAILTO:info@stagestopsaloon.com
END:VEVENT
BEGIN:VEVENT
DTSTART;TZID=America/North_Dakota/Center:20230502T183000
DTEND;TZID=America/North_Dakota/Center:20230502T200000
DTSTAMP:20260421T163533
CREATED:20231004T183004Z
LAST-MODIFIED:20231004T183004Z
UID:21026-1683052200-1683057600@stagestopsaloon.com
SUMMARY:Nightly BINGO
DESCRIPTION:Join us for Nightly Bingo in Mandan every night Sunday through Friday starting at 6:30 pm! Three rounds of bingo and a chance to win big cash!
URL:https://stagestopsaloon.com/event/nightly-bingo-5228/
LOCATION:Stage Stop Saloon & Grill\, 611 6th Ave SE\, Mandan\, ND\, 58554\, United States
CATEGORIES:Bingo
ATTACH;FMTTYPE=image/webp:https://stagestopsaloon.com/wp-content/uploads/2023/04/Nightly-Bingo.webp
ORGANIZER;CN="Stage Stop Saloon & Grill":MAILTO:info@stagestopsaloon.com
END:VEVENT
BEGIN:VEVENT
DTSTART;TZID=America/North_Dakota/Center:20230502T183000
DTEND;TZID=America/North_Dakota/Center:20230502T200000
DTSTAMP:20260421T163533
CREATED:20231004T181633Z
LAST-MODIFIED:20231004T181633Z
UID:21024-1683052200-1683057600@stagestopsaloon.com
SUMMARY:Nightly BINGO
DESCRIPTION:Join us for Nightly Bingo in Mandan every night Sunday through Friday starting at 6:30 pm! Three rounds of bingo and a chance to win big cash!
URL:https://stagestopsaloon.com/event/nightly-bingo-5227/
LOCATION:Stage Stop Saloon & Grill\, 611 6th Ave SE\, Mandan\, ND\, 58554\, United States
CATEGORIES:Bingo
ATTACH;FMTTYPE=image/webp:https://stagestopsaloon.com/wp-content/uploads/2023/04/Nightly-Bingo.webp
ORGANIZER;CN="Stage Stop Saloon & Grill":MAILTO:info@stagestopsaloon.com
END:VEVENT
BEGIN:VEVENT
DTSTART;TZID=America/North_Dakota/Center:20230502T183000
DTEND;TZID=America/North_Dakota/Center:20230502T200000
DTSTAMP:20260421T163533
CREATED:20231004T180203Z
LAST-MODIFIED:20231004T180203Z
UID:21022-1683052200-1683057600@stagestopsaloon.com
SUMMARY:Nightly BINGO
DESCRIPTION:Join us for Nightly Bingo in Mandan every night Sunday through Friday starting at 6:30 pm! Three rounds of bingo and a chance to win big cash!
URL:https://stagestopsaloon.com/event/nightly-bingo-5226/
LOCATION:Stage Stop Saloon & Grill\, 611 6th Ave SE\, Mandan\, ND\, 58554\, United States
CATEGORIES:Bingo
ATTACH;FMTTYPE=image/webp:https://stagestopsaloon.com/wp-content/uploads/2023/04/Nightly-Bingo.webp
ORGANIZER;CN="Stage Stop Saloon & Grill":MAILTO:info@stagestopsaloon.com
END:VEVENT
BEGIN:VEVENT
DTSTART;TZID=America/North_Dakota/Center:20230502T183000
DTEND;TZID=America/North_Dakota/Center:20230502T200000
DTSTAMP:20260421T163533
CREATED:20231004T175009Z
LAST-MODIFIED:20231004T175009Z
UID:21020-1683052200-1683057600@stagestopsaloon.com
SUMMARY:Nightly BINGO
DESCRIPTION:Join us for Nightly Bingo in Mandan every night Sunday through Friday starting at 6:30 pm! Three rounds of bingo and a chance to win big cash!
URL:https://stagestopsaloon.com/event/nightly-bingo-5225/
LOCATION:Stage Stop Saloon & Grill\, 611 6th Ave SE\, Mandan\, ND\, 58554\, United States
CATEGORIES:Bingo
ATTACH;FMTTYPE=image/webp:https://stagestopsaloon.com/wp-content/uploads/2023/04/Nightly-Bingo.webp
ORGANIZER;CN="Stage Stop Saloon & Grill":MAILTO:info@stagestopsaloon.com
END:VEVENT
BEGIN:VEVENT
DTSTART;TZID=America/North_Dakota/Center:20230502T183000
DTEND;TZID=America/North_Dakota/Center:20230502T200000
DTSTAMP:20260421T163533
CREATED:20231004T173827Z
LAST-MODIFIED:20231004T173827Z
UID:21018-1683052200-1683057600@stagestopsaloon.com
SUMMARY:Nightly BINGO
DESCRIPTION:Join us for Nightly Bingo in Mandan every night Sunday through Friday starting at 6:30 pm! Three rounds of bingo and a chance to win big cash!
URL:https://stagestopsaloon.com/event/nightly-bingo-5224/
LOCATION:Stage Stop Saloon & Grill\, 611 6th Ave SE\, Mandan\, ND\, 58554\, United States
CATEGORIES:Bingo
ATTACH;FMTTYPE=image/webp:https://stagestopsaloon.com/wp-content/uploads/2023/04/Nightly-Bingo.webp
ORGANIZER;CN="Stage Stop Saloon & Grill":MAILTO:info@stagestopsaloon.com
END:VEVENT
BEGIN:VEVENT
DTSTART;TZID=America/North_Dakota/Center:20230502T183000
DTEND;TZID=America/North_Dakota/Center:20230502T200000
DTSTAMP:20260421T163533
CREATED:20231004T172551Z
LAST-MODIFIED:20231004T172551Z
UID:21016-1683052200-1683057600@stagestopsaloon.com
SUMMARY:Nightly BINGO
DESCRIPTION:Join us for Nightly Bingo in Mandan every night Sunday through Friday starting at 6:30 pm! Three rounds of bingo and a chance to win big cash!
URL:https://stagestopsaloon.com/event/nightly-bingo-5223/
LOCATION:Stage Stop Saloon & Grill\, 611 6th Ave SE\, Mandan\, ND\, 58554\, United States
CATEGORIES:Bingo
ATTACH;FMTTYPE=image/webp:https://stagestopsaloon.com/wp-content/uploads/2023/04/Nightly-Bingo.webp
ORGANIZER;CN="Stage Stop Saloon & Grill":MAILTO:info@stagestopsaloon.com
END:VEVENT
BEGIN:VEVENT
DTSTART;TZID=America/North_Dakota/Center:20230502T183000
DTEND;TZID=America/North_Dakota/Center:20230502T200000
DTSTAMP:20260421T163534
CREATED:20231004T171345Z
LAST-MODIFIED:20231004T171345Z
UID:21014-1683052200-1683057600@stagestopsaloon.com
SUMMARY:Nightly BINGO
DESCRIPTION:Join us for Nightly Bingo in Mandan every night Sunday through Friday starting at 6:30 pm! Three rounds of bingo and a chance to win big cash!
URL:https://stagestopsaloon.com/event/nightly-bingo-5222/
LOCATION:Stage Stop Saloon & Grill\, 611 6th Ave SE\, Mandan\, ND\, 58554\, United States
CATEGORIES:Bingo
ATTACH;FMTTYPE=image/webp:https://stagestopsaloon.com/wp-content/uploads/2023/04/Nightly-Bingo.webp
ORGANIZER;CN="Stage Stop Saloon & Grill":MAILTO:info@stagestopsaloon.com
END:VEVENT
BEGIN:VEVENT
DTSTART;TZID=America/North_Dakota/Center:20230502T183000
DTEND;TZID=America/North_Dakota/Center:20230502T200000
DTSTAMP:20260421T163534
CREATED:20231004T170241Z
LAST-MODIFIED:20231004T170241Z
UID:21012-1683052200-1683057600@stagestopsaloon.com
SUMMARY:Nightly BINGO
DESCRIPTION:Join us for Nightly Bingo in Mandan every night Sunday through Friday starting at 6:30 pm! Three rounds of bingo and a chance to win big cash!
URL:https://stagestopsaloon.com/event/nightly-bingo-5221/
LOCATION:Stage Stop Saloon & Grill\, 611 6th Ave SE\, Mandan\, ND\, 58554\, United States
CATEGORIES:Bingo
ATTACH;FMTTYPE=image/webp:https://stagestopsaloon.com/wp-content/uploads/2023/04/Nightly-Bingo.webp
ORGANIZER;CN="Stage Stop Saloon & Grill":MAILTO:info@stagestopsaloon.com
END:VEVENT
BEGIN:VEVENT
DTSTART;TZID=America/North_Dakota/Center:20230502T183000
DTEND;TZID=America/North_Dakota/Center:20230502T200000
DTSTAMP:20260421T163534
CREATED:20231004T165135Z
LAST-MODIFIED:20231004T165135Z
UID:21010-1683052200-1683057600@stagestopsaloon.com
SUMMARY:Nightly BINGO
DESCRIPTION:Join us for Nightly Bingo in Mandan every night Sunday through Friday starting at 6:30 pm! Three rounds of bingo and a chance to win big cash!
URL:https://stagestopsaloon.com/event/nightly-bingo-5220/
LOCATION:Stage Stop Saloon & Grill\, 611 6th Ave SE\, Mandan\, ND\, 58554\, United States
CATEGORIES:Bingo
ATTACH;FMTTYPE=image/webp:https://stagestopsaloon.com/wp-content/uploads/2023/04/Nightly-Bingo.webp
ORGANIZER;CN="Stage Stop Saloon & Grill":MAILTO:info@stagestopsaloon.com
END:VEVENT
BEGIN:VEVENT
DTSTART;TZID=America/North_Dakota/Center:20230502T183000
DTEND;TZID=America/North_Dakota/Center:20230502T200000
DTSTAMP:20260421T163534
CREATED:20231004T064411Z
LAST-MODIFIED:20231004T064411Z
UID:21008-1683052200-1683057600@stagestopsaloon.com
SUMMARY:Nightly BINGO
DESCRIPTION:Join us for Nightly Bingo in Mandan every night Sunday through Friday starting at 6:30 pm! Three rounds of bingo and a chance to win big cash!
URL:https://stagestopsaloon.com/event/nightly-bingo-5219/
LOCATION:Stage Stop Saloon & Grill\, 611 6th Ave SE\, Mandan\, ND\, 58554\, United States
CATEGORIES:Bingo
ATTACH;FMTTYPE=image/webp:https://stagestopsaloon.com/wp-content/uploads/2023/04/Nightly-Bingo.webp
ORGANIZER;CN="Stage Stop Saloon & Grill":MAILTO:info@stagestopsaloon.com
END:VEVENT
BEGIN:VEVENT
DTSTART;TZID=America/North_Dakota/Center:20230502T183000
DTEND;TZID=America/North_Dakota/Center:20230502T200000
DTSTAMP:20260421T163534
CREATED:20231004T063223Z
LAST-MODIFIED:20231004T063223Z
UID:21006-1683052200-1683057600@stagestopsaloon.com
SUMMARY:Nightly BINGO
DESCRIPTION:Join us for Nightly Bingo in Mandan every night Sunday through Friday starting at 6:30 pm! Three rounds of bingo and a chance to win big cash!
URL:https://stagestopsaloon.com/event/nightly-bingo-5218/
LOCATION:Stage Stop Saloon & Grill\, 611 6th Ave SE\, Mandan\, ND\, 58554\, United States
CATEGORIES:Bingo
ATTACH;FMTTYPE=image/webp:https://stagestopsaloon.com/wp-content/uploads/2023/04/Nightly-Bingo.webp
ORGANIZER;CN="Stage Stop Saloon & Grill":MAILTO:info@stagestopsaloon.com
END:VEVENT
BEGIN:VEVENT
DTSTART;TZID=America/North_Dakota/Center:20230502T183000
DTEND;TZID=America/North_Dakota/Center:20230502T200000
DTSTAMP:20260421T163534
CREATED:20231004T061150Z
LAST-MODIFIED:20231004T061150Z
UID:21004-1683052200-1683057600@stagestopsaloon.com
SUMMARY:Nightly BINGO
DESCRIPTION:Join us for Nightly Bingo in Mandan every night Sunday through Friday starting at 6:30 pm! Three rounds of bingo and a chance to win big cash!
URL:https://stagestopsaloon.com/event/nightly-bingo-5217/
LOCATION:Stage Stop Saloon & Grill\, 611 6th Ave SE\, Mandan\, ND\, 58554\, United States
CATEGORIES:Bingo
ATTACH;FMTTYPE=image/webp:https://stagestopsaloon.com/wp-content/uploads/2023/04/Nightly-Bingo.webp
ORGANIZER;CN="Stage Stop Saloon & Grill":MAILTO:info@stagestopsaloon.com
END:VEVENT
BEGIN:VEVENT
DTSTART;TZID=America/North_Dakota/Center:20230502T183000
DTEND;TZID=America/North_Dakota/Center:20230502T200000
DTSTAMP:20260421T163534
CREATED:20231004T060101Z
LAST-MODIFIED:20231004T060101Z
UID:21002-1683052200-1683057600@stagestopsaloon.com
SUMMARY:Nightly BINGO
DESCRIPTION:Join us for Nightly Bingo in Mandan every night Sunday through Friday starting at 6:30 pm! Three rounds of bingo and a chance to win big cash!
URL:https://stagestopsaloon.com/event/nightly-bingo-5216/
LOCATION:Stage Stop Saloon & Grill\, 611 6th Ave SE\, Mandan\, ND\, 58554\, United States
CATEGORIES:Bingo
ATTACH;FMTTYPE=image/webp:https://stagestopsaloon.com/wp-content/uploads/2023/04/Nightly-Bingo.webp
ORGANIZER;CN="Stage Stop Saloon & Grill":MAILTO:info@stagestopsaloon.com
END:VEVENT
BEGIN:VEVENT
DTSTART;TZID=America/North_Dakota/Center:20230502T183000
DTEND;TZID=America/North_Dakota/Center:20230502T200000
DTSTAMP:20260421T163534
CREATED:20231004T054919Z
LAST-MODIFIED:20231004T054919Z
UID:21000-1683052200-1683057600@stagestopsaloon.com
SUMMARY:Nightly BINGO
DESCRIPTION:Join us for Nightly Bingo in Mandan every night Sunday through Friday starting at 6:30 pm! Three rounds of bingo and a chance to win big cash!
URL:https://stagestopsaloon.com/event/nightly-bingo-5215/
LOCATION:Stage Stop Saloon & Grill\, 611 6th Ave SE\, Mandan\, ND\, 58554\, United States
CATEGORIES:Bingo
ATTACH;FMTTYPE=image/webp:https://stagestopsaloon.com/wp-content/uploads/2023/04/Nightly-Bingo.webp
ORGANIZER;CN="Stage Stop Saloon & Grill":MAILTO:info@stagestopsaloon.com
END:VEVENT
BEGIN:VEVENT
DTSTART;TZID=America/North_Dakota/Center:20230502T183000
DTEND;TZID=America/North_Dakota/Center:20230502T200000
DTSTAMP:20260421T163534
CREATED:20231004T053849Z
LAST-MODIFIED:20231004T053849Z
UID:20998-1683052200-1683057600@stagestopsaloon.com
SUMMARY:Nightly BINGO
DESCRIPTION:Join us for Nightly Bingo in Mandan every night Sunday through Friday starting at 6:30 pm! Three rounds of bingo and a chance to win big cash!
URL:https://stagestopsaloon.com/event/nightly-bingo-5214/
LOCATION:Stage Stop Saloon & Grill\, 611 6th Ave SE\, Mandan\, ND\, 58554\, United States
CATEGORIES:Bingo
ATTACH;FMTTYPE=image/webp:https://stagestopsaloon.com/wp-content/uploads/2023/04/Nightly-Bingo.webp
ORGANIZER;CN="Stage Stop Saloon & Grill":MAILTO:info@stagestopsaloon.com
END:VEVENT
BEGIN:VEVENT
DTSTART;TZID=America/North_Dakota/Center:20230502T183000
DTEND;TZID=America/North_Dakota/Center:20230502T200000
DTSTAMP:20260421T163534
CREATED:20231004T052735Z
LAST-MODIFIED:20231004T052735Z
UID:20996-1683052200-1683057600@stagestopsaloon.com
SUMMARY:Nightly BINGO
DESCRIPTION:Join us for Nightly Bingo in Mandan every night Sunday through Friday starting at 6:30 pm! Three rounds of bingo and a chance to win big cash!
URL:https://stagestopsaloon.com/event/nightly-bingo-5213/
LOCATION:Stage Stop Saloon & Grill\, 611 6th Ave SE\, Mandan\, ND\, 58554\, United States
CATEGORIES:Bingo
ATTACH;FMTTYPE=image/webp:https://stagestopsaloon.com/wp-content/uploads/2023/04/Nightly-Bingo.webp
ORGANIZER;CN="Stage Stop Saloon & Grill":MAILTO:info@stagestopsaloon.com
END:VEVENT
BEGIN:VEVENT
DTSTART;TZID=America/North_Dakota/Center:20230502T183000
DTEND;TZID=America/North_Dakota/Center:20230502T200000
DTSTAMP:20260421T163534
CREATED:20231004T051822Z
LAST-MODIFIED:20231004T051822Z
UID:20994-1683052200-1683057600@stagestopsaloon.com
SUMMARY:Nightly BINGO
DESCRIPTION:Join us for Nightly Bingo in Mandan every night Sunday through Friday starting at 6:30 pm! Three rounds of bingo and a chance to win big cash!
URL:https://stagestopsaloon.com/event/nightly-bingo-5212/
LOCATION:Stage Stop Saloon & Grill\, 611 6th Ave SE\, Mandan\, ND\, 58554\, United States
CATEGORIES:Bingo
ATTACH;FMTTYPE=image/webp:https://stagestopsaloon.com/wp-content/uploads/2023/04/Nightly-Bingo.webp
ORGANIZER;CN="Stage Stop Saloon & Grill":MAILTO:info@stagestopsaloon.com
END:VEVENT
BEGIN:VEVENT
DTSTART;TZID=America/North_Dakota/Center:20230502T183000
DTEND;TZID=America/North_Dakota/Center:20230502T200000
DTSTAMP:20260421T163534
CREATED:20231004T050756Z
LAST-MODIFIED:20231004T050756Z
UID:20992-1683052200-1683057600@stagestopsaloon.com
SUMMARY:Nightly BINGO
DESCRIPTION:Join us for Nightly Bingo in Mandan every night Sunday through Friday starting at 6:30 pm! Three rounds of bingo and a chance to win big cash!
URL:https://stagestopsaloon.com/event/nightly-bingo-5211/
LOCATION:Stage Stop Saloon & Grill\, 611 6th Ave SE\, Mandan\, ND\, 58554\, United States
CATEGORIES:Bingo
ATTACH;FMTTYPE=image/webp:https://stagestopsaloon.com/wp-content/uploads/2023/04/Nightly-Bingo.webp
ORGANIZER;CN="Stage Stop Saloon & Grill":MAILTO:info@stagestopsaloon.com
END:VEVENT
BEGIN:VEVENT
DTSTART;TZID=America/North_Dakota/Center:20230502T183000
DTEND;TZID=America/North_Dakota/Center:20230502T200000
DTSTAMP:20260421T163534
CREATED:20231004T045713Z
LAST-MODIFIED:20231004T045713Z
UID:20990-1683052200-1683057600@stagestopsaloon.com
SUMMARY:Nightly BINGO
DESCRIPTION:Join us for Nightly Bingo in Mandan every night Sunday through Friday starting at 6:30 pm! Three rounds of bingo and a chance to win big cash!
URL:https://stagestopsaloon.com/event/nightly-bingo-5210/
LOCATION:Stage Stop Saloon & Grill\, 611 6th Ave SE\, Mandan\, ND\, 58554\, United States
CATEGORIES:Bingo
ATTACH;FMTTYPE=image/webp:https://stagestopsaloon.com/wp-content/uploads/2023/04/Nightly-Bingo.webp
ORGANIZER;CN="Stage Stop Saloon & Grill":MAILTO:info@stagestopsaloon.com
END:VEVENT
BEGIN:VEVENT
DTSTART;TZID=America/North_Dakota/Center:20230502T183000
DTEND;TZID=America/North_Dakota/Center:20230502T200000
DTSTAMP:20260421T163534
CREATED:20231004T044625Z
LAST-MODIFIED:20231004T044625Z
UID:20988-1683052200-1683057600@stagestopsaloon.com
SUMMARY:Nightly BINGO
DESCRIPTION:Join us for Nightly Bingo in Mandan every night Sunday through Friday starting at 6:30 pm! Three rounds of bingo and a chance to win big cash!
URL:https://stagestopsaloon.com/event/nightly-bingo-5209/
LOCATION:Stage Stop Saloon & Grill\, 611 6th Ave SE\, Mandan\, ND\, 58554\, United States
CATEGORIES:Bingo
ATTACH;FMTTYPE=image/webp:https://stagestopsaloon.com/wp-content/uploads/2023/04/Nightly-Bingo.webp
ORGANIZER;CN="Stage Stop Saloon & Grill":MAILTO:info@stagestopsaloon.com
END:VEVENT
BEGIN:VEVENT
DTSTART;TZID=America/North_Dakota/Center:20230502T183000
DTEND;TZID=America/North_Dakota/Center:20230502T200000
DTSTAMP:20260421T163534
CREATED:20231004T043507Z
LAST-MODIFIED:20231004T043507Z
UID:20986-1683052200-1683057600@stagestopsaloon.com
SUMMARY:Nightly BINGO
DESCRIPTION:Join us for Nightly Bingo in Mandan every night Sunday through Friday starting at 6:30 pm! Three rounds of bingo and a chance to win big cash!
URL:https://stagestopsaloon.com/event/nightly-bingo-5208/
LOCATION:Stage Stop Saloon & Grill\, 611 6th Ave SE\, Mandan\, ND\, 58554\, United States
CATEGORIES:Bingo
ATTACH;FMTTYPE=image/webp:https://stagestopsaloon.com/wp-content/uploads/2023/04/Nightly-Bingo.webp
ORGANIZER;CN="Stage Stop Saloon & Grill":MAILTO:info@stagestopsaloon.com
END:VEVENT
BEGIN:VEVENT
DTSTART;TZID=America/North_Dakota/Center:20230502T183000
DTEND;TZID=America/North_Dakota/Center:20230502T200000
DTSTAMP:20260421T163534
CREATED:20231004T042443Z
LAST-MODIFIED:20231004T042443Z
UID:20984-1683052200-1683057600@stagestopsaloon.com
SUMMARY:Nightly BINGO
DESCRIPTION:Join us for Nightly Bingo in Mandan every night Sunday through Friday starting at 6:30 pm! Three rounds of bingo and a chance to win big cash!
URL:https://stagestopsaloon.com/event/nightly-bingo-5207/
LOCATION:Stage Stop Saloon & Grill\, 611 6th Ave SE\, Mandan\, ND\, 58554\, United States
CATEGORIES:Bingo
ATTACH;FMTTYPE=image/webp:https://stagestopsaloon.com/wp-content/uploads/2023/04/Nightly-Bingo.webp
ORGANIZER;CN="Stage Stop Saloon & Grill":MAILTO:info@stagestopsaloon.com
END:VEVENT
END:VCALENDAR