BEGIN:VCALENDAR
VERSION:2.0
PRODID:-//Stage Stop Saloon &amp; Grill | Mandan-Bismarck, ND - ECPv6.15.20//NONSGML v1.0//EN
CALSCALE:GREGORIAN
METHOD:PUBLISH
X-ORIGINAL-URL:https://stagestopsaloon.com
X-WR-CALDESC:Events for Stage Stop Saloon &amp; Grill | Mandan-Bismarck, ND
REFRESH-INTERVAL;VALUE=DURATION:PT1H
X-Robots-Tag:noindex
X-PUBLISHED-TTL:PT1H
BEGIN:VTIMEZONE
TZID:America/North_Dakota/Center
BEGIN:DAYLIGHT
TZOFFSETFROM:-0600
TZOFFSETTO:-0500
TZNAME:CDT
DTSTART:20220313T080000
END:DAYLIGHT
BEGIN:STANDARD
TZOFFSETFROM:-0500
TZOFFSETTO:-0600
TZNAME:CST
DTSTART:20221106T070000
END:STANDARD
BEGIN:DAYLIGHT
TZOFFSETFROM:-0600
TZOFFSETTO:-0500
TZNAME:CDT
DTSTART:20230312T080000
END:DAYLIGHT
BEGIN:STANDARD
TZOFFSETFROM:-0500
TZOFFSETTO:-0600
TZNAME:CST
DTSTART:20231105T070000
END:STANDARD
BEGIN:DAYLIGHT
TZOFFSETFROM:-0600
TZOFFSETTO:-0500
TZNAME:CDT
DTSTART:20240310T080000
END:DAYLIGHT
BEGIN:STANDARD
TZOFFSETFROM:-0500
TZOFFSETTO:-0600
TZNAME:CST
DTSTART:20241103T070000
END:STANDARD
END:VTIMEZONE
BEGIN:VEVENT
DTSTART;TZID=America/North_Dakota/Center:20230922T183000
DTEND;TZID=America/North_Dakota/Center:20230923T010000
DTSTAMP:20260421T183837
CREATED:20230809T170836Z
LAST-MODIFIED:20230810T180239Z
UID:10993-1695407400-1695430800@stagestopsaloon.com
SUMMARY:Fall Darts Tournament Series
DESCRIPTION:Stage Stop is excited to put on our 7-week Fall Darts Tournament Series! Qualifying tournaments will take place every Friday from Sept. 22nd to Nov. 3rd with finals following on Nov. 10th! \n\nQUALIFIERS: Every Friday from Sept. 22nd to Nov. 3rd\nSignup @ 6:30pm\, Darts fly @ 7pm\nFINALS: Friday\, Nov. 10th\n2-person teams (High/low\, Luck of the draw)\nCost: $15 per night ($5 goes toward each night\, other $10 carried over for Finals)\n$150 added for each qualifying tournament\n$2\,100 added for Finals (plus prizes added)\nMust play in 5 of the 7 weeks to qualify for Finals\n$4 pounders\n$3 Fireball shots
URL:https://stagestopsaloon.com/event/fall-darts-tournaments/
LOCATION:Stage Stop Saloon & Grill\, 611 6th Ave SE\, Mandan\, ND\, 58554\, United States
CATEGORIES:Tournaments
ATTACH;FMTTYPE=image/webp:https://stagestopsaloon.com/wp-content/uploads/2023/08/Fall-Darts-Tournaments-2023-2.webp
ORGANIZER;CN="Stage Stop Saloon & Grill":MAILTO:info@stagestopsaloon.com
END:VEVENT
BEGIN:VEVENT
DTSTART;TZID=America/North_Dakota/Center:20230506T130000
DTEND;TZID=America/North_Dakota/Center:20230506T170000
DTSTAMP:20260421T183837
CREATED:20230424T191300Z
LAST-MODIFIED:20240416T000106Z
UID:9485-1683378000-1683392400@stagestopsaloon.com
SUMMARY:Saturday BINGO
DESCRIPTION:Come grab some drinks & eats and join us for Saturday BINGO in Mandan! Games start every half hour from 1 to 5 pm. Will you be our next big winner?! \n  \nPLUS! Catch Ultimate Jackpot Bingo every Monday and Thursday night at 6:30 for your chance to win the big $10\,000 and $20\,000 pots! \n  \nCharitable gaming by Cystic Fibrosis Association of North Dakota.
URL:https://stagestopsaloon.com/event/saturday-bingo/
LOCATION:Stage Stop Saloon & Grill\, 611 6th Ave SE\, Mandan\, ND\, 58554\, United States
CATEGORIES:Bingo
ATTACH;FMTTYPE=image/webp:https://stagestopsaloon.com/wp-content/uploads/2023/04/Copy-of-BINGO-Saturdays-instagram.webp
ORGANIZER;CN="Stage Stop Saloon & Grill":MAILTO:info@stagestopsaloon.com
END:VEVENT
BEGIN:VEVENT
DTSTART;TZID=America/North_Dakota/Center:20230517T190000
DTEND;TZID=America/North_Dakota/Center:20230517T200000
DTSTAMP:20260421T183837
CREATED:20230424T192155Z
LAST-MODIFIED:20241112T190758Z
UID:9489-1684350000-1684353600@stagestopsaloon.com
SUMMARY:Trivia Night
DESCRIPTION:Join us for for Trivia Night w/ Trivia Takeover – Bismarck at Stage Stop every Wednesday night at 7pm! Get here early for Happy Hour from 5-7pm\, then get in on the trivia fun & an opportunity to win some great prizes.  \nTrivia categories change weekly – check out our Facebook Events Page for details. 
URL:https://stagestopsaloon.com/event/trivia-night/
LOCATION:Stage Stop Saloon & Grill\, 611 6th Ave SE\, Mandan\, ND\, 58554\, United States
CATEGORIES:Trivia
ATTACH;FMTTYPE=image/webp:https://stagestopsaloon.com/wp-content/uploads/2023/04/Trivia-Night-Web-600x600-1.webp
ORGANIZER;CN="Stage Stop Saloon & Grill":MAILTO:info@stagestopsaloon.com
END:VEVENT
BEGIN:VEVENT
DTSTART;TZID=America/North_Dakota/Center:20230506T130000
DTEND;TZID=America/North_Dakota/Center:20230506T170000
DTSTAMP:20260421T183837
CREATED:20230424T191300Z
LAST-MODIFIED:20240416T000106Z
UID:9485-1683378000-1683392400@stagestopsaloon.com
SUMMARY:Saturday BINGO
DESCRIPTION:Come grab some drinks & eats and join us for Saturday BINGO in Mandan! Games start every half hour from 1 to 5 pm. Will you be our next big winner?! \n  \nPLUS! Catch Ultimate Jackpot Bingo every Monday and Thursday night at 6:30 for your chance to win the big $10\,000 and $20\,000 pots! \n  \nCharitable gaming by Cystic Fibrosis Association of North Dakota.
URL:https://stagestopsaloon.com/event/saturday-bingo/
LOCATION:Stage Stop Saloon & Grill\, 611 6th Ave SE\, Mandan\, ND\, 58554\, United States
CATEGORIES:Bingo
ATTACH;FMTTYPE=image/webp:https://stagestopsaloon.com/wp-content/uploads/2023/04/Copy-of-BINGO-Saturdays-instagram.webp
ORGANIZER;CN="Stage Stop Saloon & Grill":MAILTO:info@stagestopsaloon.com
END:VEVENT
BEGIN:VEVENT
DTSTART;TZID=America/North_Dakota/Center:20230517T190000
DTEND;TZID=America/North_Dakota/Center:20230517T200000
DTSTAMP:20260421T183837
CREATED:20230424T192155Z
LAST-MODIFIED:20241112T190758Z
UID:9489-1684350000-1684353600@stagestopsaloon.com
SUMMARY:Trivia Night
DESCRIPTION:Join us for for Trivia Night w/ Trivia Takeover – Bismarck at Stage Stop every Wednesday night at 7pm! Get here early for Happy Hour from 5-7pm\, then get in on the trivia fun & an opportunity to win some great prizes.  \nTrivia categories change weekly – check out our Facebook Events Page for details. 
URL:https://stagestopsaloon.com/event/trivia-night/
LOCATION:Stage Stop Saloon & Grill\, 611 6th Ave SE\, Mandan\, ND\, 58554\, United States
CATEGORIES:Trivia
ATTACH;FMTTYPE=image/webp:https://stagestopsaloon.com/wp-content/uploads/2023/04/Trivia-Night-Web-600x600-1.webp
ORGANIZER;CN="Stage Stop Saloon & Grill":MAILTO:info@stagestopsaloon.com
END:VEVENT
BEGIN:VEVENT
DTSTART;VALUE=DATE:20231123
DTEND;VALUE=DATE:20231125
DTSTAMP:20260421T183837
CREATED:20230830T225639Z
LAST-MODIFIED:20230830T225734Z
UID:14033-1700704800-1700791199@stagestopsaloon.com
SUMMARY:CLOSED FOR THANKSGIVING
DESCRIPTION:In observance of Thanksgiving\, Stage Stop will be closed on Thursday\, Nov. 23\, 2023. Hope you enjoy time with friends or family!
URL:https://stagestopsaloon.com/event/closed-for-thanksgiving/
LOCATION:Stage Stop Saloon & Grill\, 611 6th Ave SE\, Mandan\, ND\, 58554\, United States
ATTACH;FMTTYPE=image/webp:https://stagestopsaloon.com/wp-content/uploads/2023/08/thanksgiving-Instagram-Post-Square.webp
ORGANIZER;CN="Stage Stop Saloon & Grill":MAILTO:info@stagestopsaloon.com
END:VEVENT
BEGIN:VEVENT
DTSTART;TZID=America/North_Dakota/Center:20231124T210000
DTEND;TZID=America/North_Dakota/Center:20231125T010000
DTSTAMP:20260421T183837
CREATED:20230829T194546Z
LAST-MODIFIED:20231031T201613Z
UID:13802-1700859600-1700874000@stagestopsaloon.com
SUMMARY:LIVE Music: The Mollies
DESCRIPTION:We’re excited for some awesome entertainment over Thanksgiving weekend as we welcome The Mollies to the stage Nov. 24th & 25th from 9pm to close! \n  \n21+
URL:https://stagestopsaloon.com/event/live-music-the-mollies/
LOCATION:Stage Stop Saloon & Grill\, 611 6th Ave SE\, Mandan\, ND\, 58554\, United States
CATEGORIES:Live Music
ATTACH;FMTTYPE=image/webp:https://stagestopsaloon.com/wp-content/uploads/2023/08/The-Mollies-3.webp
ORGANIZER;CN="Stage Stop Saloon & Grill":MAILTO:info@stagestopsaloon.com
END:VEVENT
BEGIN:VEVENT
DTSTART;TZID=America/North_Dakota/Center:20231125T120000
DTEND;TZID=America/North_Dakota/Center:20231125T220000
DTSTAMP:20260421T183837
CREATED:20230809T175533Z
LAST-MODIFIED:20230822T001522Z
UID:11015-1700913600-1700949600@stagestopsaloon.com
SUMMARY:Post Turkey Day Darts Tournament
DESCRIPTION:Join us for our 2nd Annual Post Turkey Day Dart Tournament on Saturday\, Nov. 25th!\nSignup: Noon to 1pm\nDarts fly @ 2pm\n\n  \n\n2-person teams (high/low\, luck of the draw)\n$15 entry fee\n$1\,200 added\nGuaranteed $500 minimum for 1st place\n$4 pounders\n$3 Fireball shots
URL:https://stagestopsaloon.com/event/post-turkey-day-darts-tournament/
LOCATION:Stage Stop Saloon & Grill\, 611 6th Ave SE\, Mandan\, ND\, 58554\, United States
CATEGORIES:Tournaments
ATTACH;FMTTYPE=image/webp:https://stagestopsaloon.com/wp-content/uploads/2023/08/Post-Turkey-Day-Dart-Tourn-2023-2.webp
ORGANIZER;CN="Stage Stop Saloon & Grill":MAILTO:info@stagestopsaloon.com
END:VEVENT
BEGIN:VEVENT
DTSTART;TZID=America/North_Dakota/Center:20230506T130000
DTEND;TZID=America/North_Dakota/Center:20230506T170000
DTSTAMP:20260421T183837
CREATED:20230424T191300Z
LAST-MODIFIED:20240416T000106Z
UID:9485-1683378000-1683392400@stagestopsaloon.com
SUMMARY:Saturday BINGO
DESCRIPTION:Come grab some drinks & eats and join us for Saturday BINGO in Mandan! Games start every half hour from 1 to 5 pm. Will you be our next big winner?! \n  \nPLUS! Catch Ultimate Jackpot Bingo every Monday and Thursday night at 6:30 for your chance to win the big $10\,000 and $20\,000 pots! \n  \nCharitable gaming by Cystic Fibrosis Association of North Dakota.
URL:https://stagestopsaloon.com/event/saturday-bingo/
LOCATION:Stage Stop Saloon & Grill\, 611 6th Ave SE\, Mandan\, ND\, 58554\, United States
CATEGORIES:Bingo
ATTACH;FMTTYPE=image/webp:https://stagestopsaloon.com/wp-content/uploads/2023/04/Copy-of-BINGO-Saturdays-instagram.webp
ORGANIZER;CN="Stage Stop Saloon & Grill":MAILTO:info@stagestopsaloon.com
END:VEVENT
BEGIN:VEVENT
DTSTART;TZID=America/North_Dakota/Center:20231124T210000
DTEND;TZID=America/North_Dakota/Center:20231125T010000
DTSTAMP:20260421T183837
CREATED:20230829T194546Z
LAST-MODIFIED:20231031T201613Z
UID:13802-1700859600-1700874000@stagestopsaloon.com
SUMMARY:LIVE Music: The Mollies
DESCRIPTION:We’re excited for some awesome entertainment over Thanksgiving weekend as we welcome The Mollies to the stage Nov. 24th & 25th from 9pm to close! \n  \n21+
URL:https://stagestopsaloon.com/event/live-music-the-mollies/
LOCATION:Stage Stop Saloon & Grill\, 611 6th Ave SE\, Mandan\, ND\, 58554\, United States
CATEGORIES:Live Music
ATTACH;FMTTYPE=image/webp:https://stagestopsaloon.com/wp-content/uploads/2023/08/The-Mollies-3.webp
ORGANIZER;CN="Stage Stop Saloon & Grill":MAILTO:info@stagestopsaloon.com
END:VEVENT
BEGIN:VEVENT
DTSTART;TZID=America/North_Dakota/Center:20231126T140000
DTEND;TZID=America/North_Dakota/Center:20231126T170000
DTSTAMP:20260421T183837
CREATED:20231030T193405Z
LAST-MODIFIED:20231030T222114Z
UID:26281-1701007200-1701018000@stagestopsaloon.com
SUMMARY:Kids Christmas Karaoke w/ Santa!
DESCRIPTION:Get into the holiday spirit w/ Kids Christmas Karaoke! Let the kids be the stars and sing all their favorite Christmas songs. Plus – we’ll have Santa here!!  Snap a photo of your child with Santa & receive a special holiday treat! 🍭\n \n  \n\n\n\nDue to high demand\, we will be hosting this event in our large upstairs space to better accommodate guests. YurMom Presents will be our awesome DJ\, and she’s planning on bringing fun lights for the kids to make it feel extra special. \n  \n\n\nHappy holidays!!
URL:https://stagestopsaloon.com/event/kids-christmas-karaoke-w-santa/
LOCATION:Stage Stop Saloon & Grill\, 611 6th Ave SE\, Mandan\, ND\, 58554\, United States
CATEGORIES:Karaoke,Kids
ATTACH;FMTTYPE=image/webp:https://stagestopsaloon.com/wp-content/uploads/2023/10/Kids-Christmas-Karaoke-600-x-600-px-2.webp
ORGANIZER;CN="Stage Stop Saloon & Grill":MAILTO:info@stagestopsaloon.com
END:VEVENT
BEGIN:VEVENT
DTSTART;TZID=America/North_Dakota/Center:20230517T190000
DTEND;TZID=America/North_Dakota/Center:20230517T200000
DTSTAMP:20260421T183837
CREATED:20230424T192155Z
LAST-MODIFIED:20241112T190758Z
UID:9489-1684350000-1684353600@stagestopsaloon.com
SUMMARY:Trivia Night
DESCRIPTION:Join us for for Trivia Night w/ Trivia Takeover – Bismarck at Stage Stop every Wednesday night at 7pm! Get here early for Happy Hour from 5-7pm\, then get in on the trivia fun & an opportunity to win some great prizes.  \nTrivia categories change weekly – check out our Facebook Events Page for details. 
URL:https://stagestopsaloon.com/event/trivia-night/
LOCATION:Stage Stop Saloon & Grill\, 611 6th Ave SE\, Mandan\, ND\, 58554\, United States
CATEGORIES:Trivia
ATTACH;FMTTYPE=image/webp:https://stagestopsaloon.com/wp-content/uploads/2023/04/Trivia-Night-Web-600x600-1.webp
ORGANIZER;CN="Stage Stop Saloon & Grill":MAILTO:info@stagestopsaloon.com
END:VEVENT
BEGIN:VEVENT
DTSTART;TZID=America/North_Dakota/Center:20231202T100000
DTEND;TZID=America/North_Dakota/Center:20231202T140000
DTSTAMP:20260421T183837
CREATED:20231128T211047Z
LAST-MODIFIED:20231128T211047Z
UID:26747-1701511200-1701525600@stagestopsaloon.com
SUMMARY:Saturday Brunch
DESCRIPTION:Join us for our first ever Saturday Brunch on December 2nd from 10am to 2pm. Stay tuned for more brunch dates!
URL:https://stagestopsaloon.com/event/saturday-brunch/
LOCATION:Stage Stop Saloon & Grill\, 611 6th Ave SE\, Mandan\, ND\, 58554\, United States
ATTACH;FMTTYPE=image/webp:https://stagestopsaloon.com/wp-content/uploads/2023/11/Saturday-Brunch-600-x-600-px.webp
ORGANIZER;CN="Stage Stop Saloon & Grill":MAILTO:info@stagestopsaloon.com
END:VEVENT
BEGIN:VEVENT
DTSTART;TZID=America/North_Dakota/Center:20231202T103000
DTEND;TZID=America/North_Dakota/Center:20231202T170000
DTSTAMP:20260421T183837
CREATED:20230913T165825Z
LAST-MODIFIED:20231011T164420Z
UID:16660-1701513000-1701536400@stagestopsaloon.com
SUMMARY:Mark Davies Arm Wrestling Tournament
DESCRIPTION:Join us for our first ever Mark Davies Memorial Arm Wrestling Tournament on December 2nd. \nSponsored by Pro Kartz – thank you for your $500 added cash! \n\nWeigh in starts @ 10:30am\nTournament starts @ 12:30pm\nCash prizes for pros w/ $3\,500 added\nEach class in pro (right hand only!) starts w/ $700 in 1st place spot. All three places grow w/ more entries. \nTrophies & medals for amateurs \n$30 entry fee per division\nFirst 30 people to sign up get a free tournament t-shirt\n\n\nWEIGHT CLASSES: \nPRO: **Right Hand Only**\n0-154\,155-176\,177-198\,199-220\,221+ \nAMATEUR: Right & Left\n0-154\,155-176\,177-198\,199-220\,221+ \n 
URL:https://stagestopsaloon.com/event/mark-davies-arm-wrestling-tournament/
LOCATION:Stage Stop Saloon & Grill\, 611 6th Ave SE\, Mandan\, ND\, 58554\, United States
CATEGORIES:Tournaments
ATTACH;FMTTYPE=image/webp:https://stagestopsaloon.com/wp-content/uploads/2023/09/MARK-DAVIES-Instagram-Post-Square-1.webp
ORGANIZER;CN="Stage Stop Saloon & Grill":MAILTO:info@stagestopsaloon.com
END:VEVENT
BEGIN:VEVENT
DTSTART;TZID=America/North_Dakota/Center:20230506T130000
DTEND;TZID=America/North_Dakota/Center:20230506T170000
DTSTAMP:20260421T183837
CREATED:20230424T191300Z
LAST-MODIFIED:20240416T000106Z
UID:9485-1683378000-1683392400@stagestopsaloon.com
SUMMARY:Saturday BINGO
DESCRIPTION:Come grab some drinks & eats and join us for Saturday BINGO in Mandan! Games start every half hour from 1 to 5 pm. Will you be our next big winner?! \n  \nPLUS! Catch Ultimate Jackpot Bingo every Monday and Thursday night at 6:30 for your chance to win the big $10\,000 and $20\,000 pots! \n  \nCharitable gaming by Cystic Fibrosis Association of North Dakota.
URL:https://stagestopsaloon.com/event/saturday-bingo/
LOCATION:Stage Stop Saloon & Grill\, 611 6th Ave SE\, Mandan\, ND\, 58554\, United States
CATEGORIES:Bingo
ATTACH;FMTTYPE=image/webp:https://stagestopsaloon.com/wp-content/uploads/2023/04/Copy-of-BINGO-Saturdays-instagram.webp
ORGANIZER;CN="Stage Stop Saloon & Grill":MAILTO:info@stagestopsaloon.com
END:VEVENT
BEGIN:VEVENT
DTSTART;TZID=America/North_Dakota/Center:20230517T190000
DTEND;TZID=America/North_Dakota/Center:20230517T200000
DTSTAMP:20260421T183837
CREATED:20230424T192155Z
LAST-MODIFIED:20241112T190758Z
UID:9489-1684350000-1684353600@stagestopsaloon.com
SUMMARY:Trivia Night
DESCRIPTION:Join us for for Trivia Night w/ Trivia Takeover – Bismarck at Stage Stop every Wednesday night at 7pm! Get here early for Happy Hour from 5-7pm\, then get in on the trivia fun & an opportunity to win some great prizes.  \nTrivia categories change weekly – check out our Facebook Events Page for details. 
URL:https://stagestopsaloon.com/event/trivia-night/
LOCATION:Stage Stop Saloon & Grill\, 611 6th Ave SE\, Mandan\, ND\, 58554\, United States
CATEGORIES:Trivia
ATTACH;FMTTYPE=image/webp:https://stagestopsaloon.com/wp-content/uploads/2023/04/Trivia-Night-Web-600x600-1.webp
ORGANIZER;CN="Stage Stop Saloon & Grill":MAILTO:info@stagestopsaloon.com
END:VEVENT
BEGIN:VEVENT
DTSTART;TZID=America/North_Dakota/Center:20231208T210000
DTEND;TZID=America/North_Dakota/Center:20231209T010000
DTSTAMP:20260421T183837
CREATED:20231109T222456Z
LAST-MODIFIED:20231109T222538Z
UID:26349-1702069200-1702083600@stagestopsaloon.com
SUMMARY:DJ Night w/ Method Entertainment
DESCRIPTION:We’re excited to get our dance on for DJ Night with the awesome people from Method Entertainment on Dec. 8th & 9th from 9-close!
URL:https://stagestopsaloon.com/event/dj-night-w-method-entertainment/
LOCATION:Stage Stop Saloon & Grill\, 611 6th Ave SE\, Mandan\, ND\, 58554\, United States
CATEGORIES:DJ
ATTACH;FMTTYPE=image/webp:https://stagestopsaloon.com/wp-content/uploads/2023/11/DJ-Night-2.webp
ORGANIZER;CN="Stage Stop Saloon & Grill":MAILTO:info@stagestopsaloon.com
END:VEVENT
BEGIN:VEVENT
DTSTART;TZID=America/North_Dakota/Center:20230506T130000
DTEND;TZID=America/North_Dakota/Center:20230506T170000
DTSTAMP:20260421T183837
CREATED:20230424T191300Z
LAST-MODIFIED:20240416T000106Z
UID:9485-1683378000-1683392400@stagestopsaloon.com
SUMMARY:Saturday BINGO
DESCRIPTION:Come grab some drinks & eats and join us for Saturday BINGO in Mandan! Games start every half hour from 1 to 5 pm. Will you be our next big winner?! \n  \nPLUS! Catch Ultimate Jackpot Bingo every Monday and Thursday night at 6:30 for your chance to win the big $10\,000 and $20\,000 pots! \n  \nCharitable gaming by Cystic Fibrosis Association of North Dakota.
URL:https://stagestopsaloon.com/event/saturday-bingo/
LOCATION:Stage Stop Saloon & Grill\, 611 6th Ave SE\, Mandan\, ND\, 58554\, United States
CATEGORIES:Bingo
ATTACH;FMTTYPE=image/webp:https://stagestopsaloon.com/wp-content/uploads/2023/04/Copy-of-BINGO-Saturdays-instagram.webp
ORGANIZER;CN="Stage Stop Saloon & Grill":MAILTO:info@stagestopsaloon.com
END:VEVENT
BEGIN:VEVENT
DTSTART;TZID=America/North_Dakota/Center:20231209T210000
DTEND;TZID=America/North_Dakota/Center:20231210T010000
DTSTAMP:20260421T183837
CREATED:20231109T225737Z
LAST-MODIFIED:20231118T015233Z
UID:26353-1702155600-1702170000@stagestopsaloon.com
SUMMARY:Christmas Pajama Party
DESCRIPTION:Throw on your favorite holiday PJ’s and get ready to hit the dance floor for Stage Stop’s 1st ever Christmas Pajama Party! Method Entertainment will be our fabulous DJ to get the merry vibes rollin. Cheers!
URL:https://stagestopsaloon.com/event/pajama-party/
LOCATION:Stage Stop Saloon & Grill\, 611 6th Ave SE\, Mandan\, ND\, 58554\, United States
CATEGORIES:Parties
ATTACH;FMTTYPE=image/webp:https://stagestopsaloon.com/wp-content/uploads/2023/11/Xmas-Pajama-Party-FB-Post-600-x-600-px.webp
ORGANIZER;CN="Stage Stop Saloon & Grill":MAILTO:info@stagestopsaloon.com
END:VEVENT
BEGIN:VEVENT
DTSTART;TZID=America/North_Dakota/Center:20230517T190000
DTEND;TZID=America/North_Dakota/Center:20230517T200000
DTSTAMP:20260421T183837
CREATED:20230424T192155Z
LAST-MODIFIED:20241112T190758Z
UID:9489-1684350000-1684353600@stagestopsaloon.com
SUMMARY:Trivia Night
DESCRIPTION:Join us for for Trivia Night w/ Trivia Takeover – Bismarck at Stage Stop every Wednesday night at 7pm! Get here early for Happy Hour from 5-7pm\, then get in on the trivia fun & an opportunity to win some great prizes.  \nTrivia categories change weekly – check out our Facebook Events Page for details. 
URL:https://stagestopsaloon.com/event/trivia-night/
LOCATION:Stage Stop Saloon & Grill\, 611 6th Ave SE\, Mandan\, ND\, 58554\, United States
CATEGORIES:Trivia
ATTACH;FMTTYPE=image/webp:https://stagestopsaloon.com/wp-content/uploads/2023/04/Trivia-Night-Web-600x600-1.webp
ORGANIZER;CN="Stage Stop Saloon & Grill":MAILTO:info@stagestopsaloon.com
END:VEVENT
BEGIN:VEVENT
DTSTART;TZID=America/North_Dakota/Center:20231216T100000
DTEND;TZID=America/North_Dakota/Center:20231216T140000
DTSTAMP:20260421T183837
CREATED:20231212T212508Z
LAST-MODIFIED:20231212T212509Z
UID:26853-1702720800-1702735200@stagestopsaloon.com
SUMMARY:Weekend Brunch
DESCRIPTION:Join us Saturday\, Dec. 16th and Sunday\, Dec. 17th from 10am to 2pm for delicious brunch at Stage Stop!\n\nStay tuned for more dates!
URL:https://stagestopsaloon.com/event/weekend-brunch/
LOCATION:Stage Stop Saloon & Grill\, 611 6th Ave SE\, Mandan\, ND\, 58554\, United States
CATEGORIES:Specials
ATTACH;FMTTYPE=image/webp:https://stagestopsaloon.com/wp-content/uploads/2023/12/Weekend-Brunch-600-x-600-px.webp
ORGANIZER;CN="Stage Stop Saloon & Grill":MAILTO:info@stagestopsaloon.com
END:VEVENT
BEGIN:VEVENT
DTSTART;TZID=America/North_Dakota/Center:20230506T130000
DTEND;TZID=America/North_Dakota/Center:20230506T170000
DTSTAMP:20260421T183837
CREATED:20230424T191300Z
LAST-MODIFIED:20240416T000106Z
UID:9485-1683378000-1683392400@stagestopsaloon.com
SUMMARY:Saturday BINGO
DESCRIPTION:Come grab some drinks & eats and join us for Saturday BINGO in Mandan! Games start every half hour from 1 to 5 pm. Will you be our next big winner?! \n  \nPLUS! Catch Ultimate Jackpot Bingo every Monday and Thursday night at 6:30 for your chance to win the big $10\,000 and $20\,000 pots! \n  \nCharitable gaming by Cystic Fibrosis Association of North Dakota.
URL:https://stagestopsaloon.com/event/saturday-bingo/
LOCATION:Stage Stop Saloon & Grill\, 611 6th Ave SE\, Mandan\, ND\, 58554\, United States
CATEGORIES:Bingo
ATTACH;FMTTYPE=image/webp:https://stagestopsaloon.com/wp-content/uploads/2023/04/Copy-of-BINGO-Saturdays-instagram.webp
ORGANIZER;CN="Stage Stop Saloon & Grill":MAILTO:info@stagestopsaloon.com
END:VEVENT
BEGIN:VEVENT
DTSTART;TZID=America/North_Dakota/Center:20231216T100000
DTEND;TZID=America/North_Dakota/Center:20231216T140000
DTSTAMP:20260421T183837
CREATED:20231212T212508Z
LAST-MODIFIED:20231212T212509Z
UID:26853-1702720800-1702735200@stagestopsaloon.com
SUMMARY:Weekend Brunch
DESCRIPTION:Join us Saturday\, Dec. 16th and Sunday\, Dec. 17th from 10am to 2pm for delicious brunch at Stage Stop!\n\nStay tuned for more dates!
URL:https://stagestopsaloon.com/event/weekend-brunch/
LOCATION:Stage Stop Saloon & Grill\, 611 6th Ave SE\, Mandan\, ND\, 58554\, United States
CATEGORIES:Specials
ATTACH;FMTTYPE=image/webp:https://stagestopsaloon.com/wp-content/uploads/2023/12/Weekend-Brunch-600-x-600-px.webp
ORGANIZER;CN="Stage Stop Saloon & Grill":MAILTO:info@stagestopsaloon.com
END:VEVENT
BEGIN:VEVENT
DTSTART;TZID=America/North_Dakota/Center:20230517T190000
DTEND;TZID=America/North_Dakota/Center:20230517T200000
DTSTAMP:20260421T183837
CREATED:20230424T192155Z
LAST-MODIFIED:20241112T190758Z
UID:9489-1684350000-1684353600@stagestopsaloon.com
SUMMARY:Trivia Night
DESCRIPTION:Join us for for Trivia Night w/ Trivia Takeover – Bismarck at Stage Stop every Wednesday night at 7pm! Get here early for Happy Hour from 5-7pm\, then get in on the trivia fun & an opportunity to win some great prizes.  \nTrivia categories change weekly – check out our Facebook Events Page for details. 
URL:https://stagestopsaloon.com/event/trivia-night/
LOCATION:Stage Stop Saloon & Grill\, 611 6th Ave SE\, Mandan\, ND\, 58554\, United States
CATEGORIES:Trivia
ATTACH;FMTTYPE=image/webp:https://stagestopsaloon.com/wp-content/uploads/2023/04/Trivia-Night-Web-600x600-1.webp
ORGANIZER;CN="Stage Stop Saloon & Grill":MAILTO:info@stagestopsaloon.com
END:VEVENT
BEGIN:VEVENT
DTSTART;TZID=America/North_Dakota/Center:20231006T210000
DTEND;TZID=America/North_Dakota/Center:20231007T010000
DTSTAMP:20260421T183837
CREATED:20231128T173808Z
LAST-MODIFIED:20231128T173902Z
UID:26731-1696626000-1696640400@stagestopsaloon.com
SUMMARY:LIVE Music: Fully Loaded
DESCRIPTION:We can’t wait to rock out with Fully Loaded Dec. 22nd & 23rd! And don’t forget to dress up for our Ugly Christmas Sweater Contest on Saturday\, Dec. 23rd! Best ugly sweater wins a prize. \n\n\n“Formed in 2006\, Fully Loaded is the band that delivers the widest set list in the area. Grab your friends\, come to a show and get loaded….Fully Loaded!”
URL:https://stagestopsaloon.com/event/live-music-fully-loaded-5/
LOCATION:Stage Stop Saloon & Grill\, 611 6th Ave SE\, Mandan\, ND\, 58554\, United States
CATEGORIES:Live Music
ATTACH;FMTTYPE=image/webp:https://stagestopsaloon.com/wp-content/uploads/2023/04/Fully-Loaded.webp
ORGANIZER;CN="Stage Stop Saloon & Grill":MAILTO:info@stagestopsaloon.com
END:VEVENT
BEGIN:VEVENT
DTSTART;TZID=America/North_Dakota/Center:20231223T100000
DTEND;TZID=America/North_Dakota/Center:20231223T140000
DTSTAMP:20260421T183837
CREATED:20231218T195037Z
LAST-MODIFIED:20231218T195039Z
UID:26950-1703325600-1703340000@stagestopsaloon.com
SUMMARY:Christmas Weekend Brunch
DESCRIPTION:Take a pause from all the preparations & enjoy a delicious Stage Stop brunch on Saturday\, Dec. 23rd! Available from 10am to 2pm.
URL:https://stagestopsaloon.com/event/christmas-weekend-brunch/
LOCATION:Stage Stop Saloon & Grill\, 611 6th Ave SE\, Mandan\, ND\, 58554\, United States
CATEGORIES:Specials
ATTACH;FMTTYPE=image/webp:https://stagestopsaloon.com/wp-content/uploads/2023/12/Christmas-Brunch-600x600-1.webp
ORGANIZER;CN="Stage Stop Saloon & Grill":MAILTO:info@stagestopsaloon.com
END:VEVENT
BEGIN:VEVENT
DTSTART;TZID=America/North_Dakota/Center:20230506T130000
DTEND;TZID=America/North_Dakota/Center:20230506T170000
DTSTAMP:20260421T183837
CREATED:20230424T191300Z
LAST-MODIFIED:20240416T000106Z
UID:9485-1683378000-1683392400@stagestopsaloon.com
SUMMARY:Saturday BINGO
DESCRIPTION:Come grab some drinks & eats and join us for Saturday BINGO in Mandan! Games start every half hour from 1 to 5 pm. Will you be our next big winner?! \n  \nPLUS! Catch Ultimate Jackpot Bingo every Monday and Thursday night at 6:30 for your chance to win the big $10\,000 and $20\,000 pots! \n  \nCharitable gaming by Cystic Fibrosis Association of North Dakota.
URL:https://stagestopsaloon.com/event/saturday-bingo/
LOCATION:Stage Stop Saloon & Grill\, 611 6th Ave SE\, Mandan\, ND\, 58554\, United States
CATEGORIES:Bingo
ATTACH;FMTTYPE=image/webp:https://stagestopsaloon.com/wp-content/uploads/2023/04/Copy-of-BINGO-Saturdays-instagram.webp
ORGANIZER;CN="Stage Stop Saloon & Grill":MAILTO:info@stagestopsaloon.com
END:VEVENT
BEGIN:VEVENT
DTSTART;TZID=America/North_Dakota/Center:20231223T210000
DTEND;TZID=America/North_Dakota/Center:20231224T010000
DTSTAMP:20260421T183837
CREATED:20231128T182623Z
LAST-MODIFIED:20231128T182624Z
UID:26744-1703365200-1703379600@stagestopsaloon.com
SUMMARY:LIVE Music: Fully Loaded + Ugly Christmas Sweater Party
DESCRIPTION:We can’t wait to rock out with Fully Loaded Dec. 22nd & 23rd! And don’t forget to dress up for our Ugly Christmas Sweater Contest on Saturday\, Dec. 23rd! Best ugly sweater wins a prize. \n\n\n“Formed in 2006\, Fully Loaded is the band that delivers the widest set list in the area. Grab your friends\, come to a show and get loaded….Fully Loaded!”
URL:https://stagestopsaloon.com/event/live-music-fully-loaded-ugly-christmas-sweater-party-2/
LOCATION:Stage Stop Saloon & Grill\, 611 6th Ave SE\, Mandan\, ND\, 58554\, United States
CATEGORIES:Live Music
ATTACH;FMTTYPE=image/webp:https://stagestopsaloon.com/wp-content/uploads/2023/11/Ugly-Christmas-Sweater-Contest-600x600-1.webp
ORGANIZER;CN="Stage Stop Saloon & Grill":MAILTO:info@stagestopsaloon.com
END:VEVENT
BEGIN:VEVENT
DTSTART;TZID=America/North_Dakota/Center:20231224T180000
DTEND;TZID=America/North_Dakota/Center:20231225T010000
DTSTAMP:20260421T183837
CREATED:20230830T230721Z
LAST-MODIFIED:20230830T230801Z
UID:14041-1703440800-1703466000@stagestopsaloon.com
SUMMARY:CLOSING EARLY FOR CHRISTMAS EVE
DESCRIPTION:In observance of Christmas Eve\, Stage Stop will be closing early at 6pm on Sunday\, Dec. 24\, 2023. Hope you enjoy time with friends or family – Merry Christmas!
URL:https://stagestopsaloon.com/event/closing-early-for-christmas-eve/
LOCATION:Stage Stop Saloon & Grill\, 611 6th Ave SE\, Mandan\, ND\, 58554\, United States
ATTACH;FMTTYPE=image/webp:https://stagestopsaloon.com/wp-content/uploads/2023/08/Christmas-Eve.webp
ORGANIZER;CN="Stage Stop Saloon & Grill":MAILTO:info@stagestopsaloon.com
END:VEVENT
BEGIN:VEVENT
DTSTART;VALUE=DATE:20231225
DTEND;VALUE=DATE:20231227
DTSTAMP:20260421T183837
CREATED:20230830T230322Z
LAST-MODIFIED:20230830T230322Z
UID:14038-1703469600-1703555999@stagestopsaloon.com
SUMMARY:CLOSED FOR CHRISTMAS DAY
DESCRIPTION:In observance of Christmas Day\, Stage Stop will be closed on Monday\, Dec. 25\, 2023. Hope you enjoy time with friends or family – Merry Christmas!
URL:https://stagestopsaloon.com/event/closed-for-christmas-day/
LOCATION:Stage Stop Saloon & Grill\, 611 6th Ave SE\, Mandan\, ND\, 58554\, United States
ATTACH;FMTTYPE=image/webp:https://stagestopsaloon.com/wp-content/uploads/2023/08/Merry-Christmas.webp
ORGANIZER;CN="Stage Stop Saloon & Grill":MAILTO:info@stagestopsaloon.com
END:VEVENT
END:VCALENDAR