BEGIN:VCALENDAR
VERSION:2.0
PRODID:-//Stage Stop Saloon &amp; Grill | Mandan-Bismarck, ND - ECPv6.15.20//NONSGML v1.0//EN
CALSCALE:GREGORIAN
METHOD:PUBLISH
X-ORIGINAL-URL:https://stagestopsaloon.com
X-WR-CALDESC:Events for Stage Stop Saloon &amp; Grill | Mandan-Bismarck, ND
REFRESH-INTERVAL;VALUE=DURATION:PT1H
X-Robots-Tag:noindex
X-PUBLISHED-TTL:PT1H
BEGIN:VTIMEZONE
TZID:America/North_Dakota/Center
BEGIN:DAYLIGHT
TZOFFSETFROM:-0600
TZOFFSETTO:-0500
TZNAME:CDT
DTSTART:20220313T080000
END:DAYLIGHT
BEGIN:STANDARD
TZOFFSETFROM:-0500
TZOFFSETTO:-0600
TZNAME:CST
DTSTART:20221106T070000
END:STANDARD
BEGIN:DAYLIGHT
TZOFFSETFROM:-0600
TZOFFSETTO:-0500
TZNAME:CDT
DTSTART:20230312T080000
END:DAYLIGHT
BEGIN:STANDARD
TZOFFSETFROM:-0500
TZOFFSETTO:-0600
TZNAME:CST
DTSTART:20231105T070000
END:STANDARD
BEGIN:DAYLIGHT
TZOFFSETFROM:-0600
TZOFFSETTO:-0500
TZNAME:CDT
DTSTART:20240310T080000
END:DAYLIGHT
BEGIN:STANDARD
TZOFFSETFROM:-0500
TZOFFSETTO:-0600
TZNAME:CST
DTSTART:20241103T070000
END:STANDARD
END:VTIMEZONE
BEGIN:VEVENT
DTSTART;TZID=America/North_Dakota/Center:20230517T190000
DTEND;TZID=America/North_Dakota/Center:20230517T200000
DTSTAMP:20260421T073620
CREATED:20230424T192155Z
LAST-MODIFIED:20241112T190758Z
UID:9489-1684350000-1684353600@stagestopsaloon.com
SUMMARY:Trivia Night
DESCRIPTION:Join us for for Trivia Night w/ Trivia Takeover – Bismarck at Stage Stop every Wednesday night at 7pm! Get here early for Happy Hour from 5-7pm\, then get in on the trivia fun & an opportunity to win some great prizes.  \nTrivia categories change weekly – check out our Facebook Events Page for details. 
URL:https://stagestopsaloon.com/event/trivia-night/
LOCATION:Stage Stop Saloon & Grill\, 611 6th Ave SE\, Mandan\, ND\, 58554\, United States
CATEGORIES:Trivia
ATTACH;FMTTYPE=image/webp:https://stagestopsaloon.com/wp-content/uploads/2023/04/Trivia-Night-Web-600x600-1.webp
ORGANIZER;CN="Stage Stop Saloon & Grill":MAILTO:info@stagestopsaloon.com
END:VEVENT
BEGIN:VEVENT
DTSTART;TZID=America/North_Dakota/Center:20230506T130000
DTEND;TZID=America/North_Dakota/Center:20230506T170000
DTSTAMP:20260421T073620
CREATED:20230424T191300Z
LAST-MODIFIED:20240416T000106Z
UID:9485-1683378000-1683392400@stagestopsaloon.com
SUMMARY:Saturday BINGO
DESCRIPTION:Come grab some drinks & eats and join us for Saturday BINGO in Mandan! Games start every half hour from 1 to 5 pm. Will you be our next big winner?! \n  \nPLUS! Catch Ultimate Jackpot Bingo every Monday and Thursday night at 6:30 for your chance to win the big $10\,000 and $20\,000 pots! \n  \nCharitable gaming by Cystic Fibrosis Association of North Dakota.
URL:https://stagestopsaloon.com/event/saturday-bingo/
LOCATION:Stage Stop Saloon & Grill\, 611 6th Ave SE\, Mandan\, ND\, 58554\, United States
CATEGORIES:Bingo
ATTACH;FMTTYPE=image/webp:https://stagestopsaloon.com/wp-content/uploads/2023/04/Copy-of-BINGO-Saturdays-instagram.webp
ORGANIZER;CN="Stage Stop Saloon & Grill":MAILTO:info@stagestopsaloon.com
END:VEVENT
BEGIN:VEVENT
DTSTART;TZID=America/North_Dakota/Center:20230517T190000
DTEND;TZID=America/North_Dakota/Center:20230517T200000
DTSTAMP:20260421T073620
CREATED:20230424T192155Z
LAST-MODIFIED:20241112T190758Z
UID:9489-1684350000-1684353600@stagestopsaloon.com
SUMMARY:Trivia Night
DESCRIPTION:Join us for for Trivia Night w/ Trivia Takeover – Bismarck at Stage Stop every Wednesday night at 7pm! Get here early for Happy Hour from 5-7pm\, then get in on the trivia fun & an opportunity to win some great prizes.  \nTrivia categories change weekly – check out our Facebook Events Page for details. 
URL:https://stagestopsaloon.com/event/trivia-night/
LOCATION:Stage Stop Saloon & Grill\, 611 6th Ave SE\, Mandan\, ND\, 58554\, United States
CATEGORIES:Trivia
ATTACH;FMTTYPE=image/webp:https://stagestopsaloon.com/wp-content/uploads/2023/04/Trivia-Night-Web-600x600-1.webp
ORGANIZER;CN="Stage Stop Saloon & Grill":MAILTO:info@stagestopsaloon.com
END:VEVENT
BEGIN:VEVENT
DTSTART;TZID=America/North_Dakota/Center:20230811T210000
DTEND;TZID=America/North_Dakota/Center:20230812T010000
DTSTAMP:20260421T073620
CREATED:20230706T180042Z
LAST-MODIFIED:20230706T180258Z
UID:9901-1691787600-1691802000@stagestopsaloon.com
SUMMARY:OUTDOOR CONCERT: Raynes
DESCRIPTION:We’re so pumped to welcome Raynes to the Stage for the first time for an outdoor show on Aug. 11! \nBritish-American trio Raynes\, formed in 2017\, have wasted no time making themselves heard. Signing with Sony Music Publishing less than a year after their inception\, the group has since released three singles that have earned them features in Billboard\, Earmilk\, and Atwood Magazine\, among many other publications. Now\, their singular blend of folk\, pop\, and world music is being featured on television shows\, commercials\, and tastemakers’ playlists\, generating buzz in the UK and the US alike. \nEven with the band’s refusal to limit themselves to the boundaries of any particular genre\, there are certain unmistakable hallmarks of a Raynes song: a soaring ear-worm of a chorus\, usually supported by multi-part vocal harmonies; richly layered acoustic instrumentation; thunderous percussion; and\, more often than not\, the sound of something surprising––a bouzouki\, perhaps\, or a harmonium\, or an ensemble of djembes and taikos. \nBonus! Mat Charley and Joe Berger were both born and raised in North Dakota and teamed up with Mark Race\, a native of Durham\, UK.
URL:https://stagestopsaloon.com/event/outdoor-concert-raynes/
LOCATION:Stage Stop Saloon & Grill\, 611 6th Ave SE\, Mandan\, ND\, 58554\, United States
CATEGORIES:Live Music
ATTACH;FMTTYPE=image/webp:https://stagestopsaloon.com/wp-content/uploads/2023/07/RAYNES-3.webp
ORGANIZER;CN="Stage Stop Saloon & Grill":MAILTO:info@stagestopsaloon.com
END:VEVENT
BEGIN:VEVENT
DTSTART;TZID=America/North_Dakota/Center:20230506T130000
DTEND;TZID=America/North_Dakota/Center:20230506T170000
DTSTAMP:20260421T073620
CREATED:20230424T191300Z
LAST-MODIFIED:20240416T000106Z
UID:9485-1683378000-1683392400@stagestopsaloon.com
SUMMARY:Saturday BINGO
DESCRIPTION:Come grab some drinks & eats and join us for Saturday BINGO in Mandan! Games start every half hour from 1 to 5 pm. Will you be our next big winner?! \n  \nPLUS! Catch Ultimate Jackpot Bingo every Monday and Thursday night at 6:30 for your chance to win the big $10\,000 and $20\,000 pots! \n  \nCharitable gaming by Cystic Fibrosis Association of North Dakota.
URL:https://stagestopsaloon.com/event/saturday-bingo/
LOCATION:Stage Stop Saloon & Grill\, 611 6th Ave SE\, Mandan\, ND\, 58554\, United States
CATEGORIES:Bingo
ATTACH;FMTTYPE=image/webp:https://stagestopsaloon.com/wp-content/uploads/2023/04/Copy-of-BINGO-Saturdays-instagram.webp
ORGANIZER;CN="Stage Stop Saloon & Grill":MAILTO:info@stagestopsaloon.com
END:VEVENT
BEGIN:VEVENT
DTSTART;TZID=America/North_Dakota/Center:20230812T210000
DTEND;TZID=America/North_Dakota/Center:20230813T010000
DTSTAMP:20260421T073620
CREATED:20230706T184913Z
LAST-MODIFIED:20230803T160718Z
UID:9905-1691874000-1691888400@stagestopsaloon.com
SUMMARY:OUTDOOR CONCERT: John Scalia & the Dirty Word
DESCRIPTION:We’re so excited to welcome John Scalia & the Dirty Word to the Stage for the first time for an outdoor concert Aug. 12! \nFounded in 1998\, when Louisiana born John Scalia and Robert Merlin met Bismarck ND native\, Dale Hieb\, Dirty Word has been performing shows all over the continental US\, and then some. They have performed for US Troops in Kuwait\, Abu Dhabi \, Qatar\, Dubai\, and many other “undisclosed” locations for troops on combat front lines. Along that 23 year timeline\, they earned a solid reputation for putting the audience first. “No Booty Left Behind” has been their proud mission statement.
URL:https://stagestopsaloon.com/event/outdoor-concert-john-scalia-the-dirty-word/
LOCATION:Stage Stop Saloon & Grill\, 611 6th Ave SE\, Mandan\, ND\, 58554\, United States
CATEGORIES:Live Music
ATTACH;FMTTYPE=image/webp:https://stagestopsaloon.com/wp-content/uploads/2023/07/John-Scalia-Dirty-Word.webp
ORGANIZER;CN="Stage Stop Saloon & Grill":MAILTO:info@stagestopsaloon.com
END:VEVENT
BEGIN:VEVENT
DTSTART;TZID=America/North_Dakota/Center:20230517T190000
DTEND;TZID=America/North_Dakota/Center:20230517T200000
DTSTAMP:20260421T073620
CREATED:20230424T192155Z
LAST-MODIFIED:20241112T190758Z
UID:9489-1684350000-1684353600@stagestopsaloon.com
SUMMARY:Trivia Night
DESCRIPTION:Join us for for Trivia Night w/ Trivia Takeover – Bismarck at Stage Stop every Wednesday night at 7pm! Get here early for Happy Hour from 5-7pm\, then get in on the trivia fun & an opportunity to win some great prizes.  \nTrivia categories change weekly – check out our Facebook Events Page for details. 
URL:https://stagestopsaloon.com/event/trivia-night/
LOCATION:Stage Stop Saloon & Grill\, 611 6th Ave SE\, Mandan\, ND\, 58554\, United States
CATEGORIES:Trivia
ATTACH;FMTTYPE=image/webp:https://stagestopsaloon.com/wp-content/uploads/2023/04/Trivia-Night-Web-600x600-1.webp
ORGANIZER;CN="Stage Stop Saloon & Grill":MAILTO:info@stagestopsaloon.com
END:VEVENT
BEGIN:VEVENT
DTSTART;TZID=America/North_Dakota/Center:20230818T210000
DTEND;TZID=America/North_Dakota/Center:20230819T010000
DTSTAMP:20260421T073620
CREATED:20230803T154137Z
LAST-MODIFIED:20230803T154213Z
UID:10044-1692392400-1692406800@stagestopsaloon.com
SUMMARY:LIVE Music: Fully Loaded
DESCRIPTION:We can’t wait to rock out with Fully Loaded August 18th & 19th!\n\n“Formed in 2006\, Fully Loaded is the band that delivers the widest set list in the area. Grab your friends\, come to a show and get loaded….Fully Loaded!”
URL:https://stagestopsaloon.com/event/live-music-fully-loaded-2/
LOCATION:Stage Stop Saloon & Grill\, 611 6th Ave SE\, Mandan\, ND\, 58554\, United States
CATEGORIES:Live Music
ATTACH;FMTTYPE=image/webp:https://stagestopsaloon.com/wp-content/uploads/2023/04/Fully-Loaded.webp
ORGANIZER;CN="Stage Stop Saloon & Grill":MAILTO:info@stagestopsaloon.com
END:VEVENT
BEGIN:VEVENT
DTSTART;TZID=America/North_Dakota/Center:20230506T130000
DTEND;TZID=America/North_Dakota/Center:20230506T170000
DTSTAMP:20260421T073620
CREATED:20230424T191300Z
LAST-MODIFIED:20240416T000106Z
UID:9485-1683378000-1683392400@stagestopsaloon.com
SUMMARY:Saturday BINGO
DESCRIPTION:Come grab some drinks & eats and join us for Saturday BINGO in Mandan! Games start every half hour from 1 to 5 pm. Will you be our next big winner?! \n  \nPLUS! Catch Ultimate Jackpot Bingo every Monday and Thursday night at 6:30 for your chance to win the big $10\,000 and $20\,000 pots! \n  \nCharitable gaming by Cystic Fibrosis Association of North Dakota.
URL:https://stagestopsaloon.com/event/saturday-bingo/
LOCATION:Stage Stop Saloon & Grill\, 611 6th Ave SE\, Mandan\, ND\, 58554\, United States
CATEGORIES:Bingo
ATTACH;FMTTYPE=image/webp:https://stagestopsaloon.com/wp-content/uploads/2023/04/Copy-of-BINGO-Saturdays-instagram.webp
ORGANIZER;CN="Stage Stop Saloon & Grill":MAILTO:info@stagestopsaloon.com
END:VEVENT
BEGIN:VEVENT
DTSTART;TZID=America/North_Dakota/Center:20230818T210000
DTEND;TZID=America/North_Dakota/Center:20230819T010000
DTSTAMP:20260421T073620
CREATED:20230803T154137Z
LAST-MODIFIED:20230803T154213Z
UID:10044-1692392400-1692406800@stagestopsaloon.com
SUMMARY:LIVE Music: Fully Loaded
DESCRIPTION:We can’t wait to rock out with Fully Loaded August 18th & 19th!\n\n“Formed in 2006\, Fully Loaded is the band that delivers the widest set list in the area. Grab your friends\, come to a show and get loaded….Fully Loaded!”
URL:https://stagestopsaloon.com/event/live-music-fully-loaded-2/
LOCATION:Stage Stop Saloon & Grill\, 611 6th Ave SE\, Mandan\, ND\, 58554\, United States
CATEGORIES:Live Music
ATTACH;FMTTYPE=image/webp:https://stagestopsaloon.com/wp-content/uploads/2023/04/Fully-Loaded.webp
ORGANIZER;CN="Stage Stop Saloon & Grill":MAILTO:info@stagestopsaloon.com
END:VEVENT
BEGIN:VEVENT
DTSTART;TZID=America/North_Dakota/Center:20230517T190000
DTEND;TZID=America/North_Dakota/Center:20230517T200000
DTSTAMP:20260421T073620
CREATED:20230424T192155Z
LAST-MODIFIED:20241112T190758Z
UID:9489-1684350000-1684353600@stagestopsaloon.com
SUMMARY:Trivia Night
DESCRIPTION:Join us for for Trivia Night w/ Trivia Takeover – Bismarck at Stage Stop every Wednesday night at 7pm! Get here early for Happy Hour from 5-7pm\, then get in on the trivia fun & an opportunity to win some great prizes.  \nTrivia categories change weekly – check out our Facebook Events Page for details. 
URL:https://stagestopsaloon.com/event/trivia-night/
LOCATION:Stage Stop Saloon & Grill\, 611 6th Ave SE\, Mandan\, ND\, 58554\, United States
CATEGORIES:Trivia
ATTACH;FMTTYPE=image/webp:https://stagestopsaloon.com/wp-content/uploads/2023/04/Trivia-Night-Web-600x600-1.webp
ORGANIZER;CN="Stage Stop Saloon & Grill":MAILTO:info@stagestopsaloon.com
END:VEVENT
BEGIN:VEVENT
DTSTART;TZID=America/North_Dakota/Center:20230506T130000
DTEND;TZID=America/North_Dakota/Center:20230506T170000
DTSTAMP:20260421T073620
CREATED:20230424T191300Z
LAST-MODIFIED:20240416T000106Z
UID:9485-1683378000-1683392400@stagestopsaloon.com
SUMMARY:Saturday BINGO
DESCRIPTION:Come grab some drinks & eats and join us for Saturday BINGO in Mandan! Games start every half hour from 1 to 5 pm. Will you be our next big winner?! \n  \nPLUS! Catch Ultimate Jackpot Bingo every Monday and Thursday night at 6:30 for your chance to win the big $10\,000 and $20\,000 pots! \n  \nCharitable gaming by Cystic Fibrosis Association of North Dakota.
URL:https://stagestopsaloon.com/event/saturday-bingo/
LOCATION:Stage Stop Saloon & Grill\, 611 6th Ave SE\, Mandan\, ND\, 58554\, United States
CATEGORIES:Bingo
ATTACH;FMTTYPE=image/webp:https://stagestopsaloon.com/wp-content/uploads/2023/04/Copy-of-BINGO-Saturdays-instagram.webp
ORGANIZER;CN="Stage Stop Saloon & Grill":MAILTO:info@stagestopsaloon.com
END:VEVENT
BEGIN:VEVENT
DTSTART;TZID=America/North_Dakota/Center:20230827T140000
DTEND;TZID=America/North_Dakota/Center:20230827T180000
DTSTAMP:20260421T073620
CREATED:20230818T163853Z
LAST-MODIFIED:20230818T164033Z
UID:12452-1693144800-1693159200@stagestopsaloon.com
SUMMARY:Kids Dress-Up Karaoke!
DESCRIPTION:We’re so excited to host Kids Dress-Up Karaoke with YurMom Presents! on Aug. 27th! Let the kids dress up as their favorite character and take the stage to sing their favorite songs from 2-6pm! It’s going to be such a fun afternoon!
URL:https://stagestopsaloon.com/event/kids-dress-up-karaoke/
LOCATION:Stage Stop Saloon & Grill\, 611 6th Ave SE\, Mandan\, ND\, 58554\, United States
CATEGORIES:Karaoke,Kids
ATTACH;FMTTYPE=image/webp:https://stagestopsaloon.com/wp-content/uploads/2023/08/Copy-of-Copy-of-Kids-Karaoke-Instagram-Post-Square.webp
ORGANIZER;CN="Stage Stop Saloon & Grill":MAILTO:info@stagestopsaloon.com
END:VEVENT
BEGIN:VEVENT
DTSTART;TZID=America/North_Dakota/Center:20230517T190000
DTEND;TZID=America/North_Dakota/Center:20230517T200000
DTSTAMP:20260421T073620
CREATED:20230424T192155Z
LAST-MODIFIED:20241112T190758Z
UID:9489-1684350000-1684353600@stagestopsaloon.com
SUMMARY:Trivia Night
DESCRIPTION:Join us for for Trivia Night w/ Trivia Takeover – Bismarck at Stage Stop every Wednesday night at 7pm! Get here early for Happy Hour from 5-7pm\, then get in on the trivia fun & an opportunity to win some great prizes.  \nTrivia categories change weekly – check out our Facebook Events Page for details. 
URL:https://stagestopsaloon.com/event/trivia-night/
LOCATION:Stage Stop Saloon & Grill\, 611 6th Ave SE\, Mandan\, ND\, 58554\, United States
CATEGORIES:Trivia
ATTACH;FMTTYPE=image/webp:https://stagestopsaloon.com/wp-content/uploads/2023/04/Trivia-Night-Web-600x600-1.webp
ORGANIZER;CN="Stage Stop Saloon & Grill":MAILTO:info@stagestopsaloon.com
END:VEVENT
BEGIN:VEVENT
DTSTART;TZID=America/North_Dakota/Center:20230830T200000
DTEND;TZID=America/North_Dakota/Center:20230830T230000
DTSTAMP:20260421T073620
CREATED:20230825T171438Z
LAST-MODIFIED:20230828T200111Z
UID:13327-1693425600-1693436400@stagestopsaloon.com
SUMMARY:OUTDOOR LIVE MUSIC: The BS Show
DESCRIPTION:It’s The BS Show on the patio w/ Fully Loaded‘s Ben & Shawn! Kick back for some awesome live music on our outdoor patio every Wednesday night from 8-11pm. \n*We’ll move it inside if the weather is no good!
URL:https://stagestopsaloon.com/event/outdoor-live-music-the-bs-show/
LOCATION:Stage Stop Saloon & Grill\, 611 6th Ave SE\, Mandan\, ND\, 58554\, United States
CATEGORIES:Live Music
ATTACH;FMTTYPE=image/webp:https://stagestopsaloon.com/wp-content/uploads/2023/08/The-BS-Show-Instagram-Post-Square.webp
ORGANIZER;CN="Stage Stop Saloon & Grill":MAILTO:info@stagestopsaloon.com
END:VEVENT
END:VCALENDAR